BEGIN:VCALENDAR
VERSION:2.0
PRODID:-//Bratislavskykraj.sk - ECPv6.15.20//NONSGML v1.0//EN
CALSCALE:GREGORIAN
METHOD:PUBLISH
X-WR-CALNAME:Bratislavskykraj.sk
X-ORIGINAL-URL:https://bratislavskykraj.sk
X-WR-CALDESC:Udalosti pre Bratislavskykraj.sk
REFRESH-INTERVAL;VALUE=DURATION:PT1H
X-Robots-Tag:noindex
X-PUBLISHED-TTL:PT1H
BEGIN:VTIMEZONE
TZID:Europe/Bratislava
BEGIN:DAYLIGHT
TZOFFSETFROM:+0100
TZOFFSETTO:+0200
TZNAME:CEST
DTSTART:20190331T010000
END:DAYLIGHT
BEGIN:STANDARD
TZOFFSETFROM:+0200
TZOFFSETTO:+0100
TZNAME:CET
DTSTART:20191027T010000
END:STANDARD
BEGIN:DAYLIGHT
TZOFFSETFROM:+0100
TZOFFSETTO:+0200
TZNAME:CEST
DTSTART:20200329T010000
END:DAYLIGHT
BEGIN:STANDARD
TZOFFSETFROM:+0200
TZOFFSETTO:+0100
TZNAME:CET
DTSTART:20201025T010000
END:STANDARD
BEGIN:DAYLIGHT
TZOFFSETFROM:+0100
TZOFFSETTO:+0200
TZNAME:CEST
DTSTART:20210328T010000
END:DAYLIGHT
BEGIN:STANDARD
TZOFFSETFROM:+0200
TZOFFSETTO:+0100
TZNAME:CET
DTSTART:20211031T010000
END:STANDARD
BEGIN:DAYLIGHT
TZOFFSETFROM:+0100
TZOFFSETTO:+0200
TZNAME:CEST
DTSTART:20220327T010000
END:DAYLIGHT
BEGIN:STANDARD
TZOFFSETFROM:+0200
TZOFFSETTO:+0100
TZNAME:CET
DTSTART:20221030T010000
END:STANDARD
BEGIN:DAYLIGHT
TZOFFSETFROM:+0100
TZOFFSETTO:+0200
TZNAME:CEST
DTSTART:20230326T010000
END:DAYLIGHT
BEGIN:STANDARD
TZOFFSETFROM:+0200
TZOFFSETTO:+0100
TZNAME:CET
DTSTART:20231029T010000
END:STANDARD
END:VTIMEZONE
BEGIN:VEVENT
DTSTART;VALUE=DATE:20220624
DTEND;VALUE=DATE:20220626
DTSTAMP:20260422T015224
CREATED:20220613T125612Z
LAST-MODIFIED:20220613T131556Z
UID:99928-1656028800-1656201599@bratislavskykraj.sk
SUMMARY:DNI PETRŽALKY 2022
DESCRIPTION:Starosta Ján Hrčka a poslanci mestskej časti Bratislava-Petržalka vás pozývajú na 25. ročník podujatia DNI PETRŽALKY\, ktoré sa uskutočnia v piatok 24. a v sobotu 25. júna v areáli Závodiska Dostihovej dráhy Petržalka na Starohájskej ulici 29. \nVSTUP na DNI PETRŽALKY 2022 je vďaka podpore našej samosprávy BEZPLATNÝ. \n \nDNI PETRŽALKY 2022 | PROGRAM\nPIATOK 24. JÚNA OD 16:00\nSOBOTA 25. JÚNA OD 10:00 \nNa tisíce návštevníkov jedného z najobľúbenejších a najväčších spoločenských podujatí v petržalskom katastri po nútenej dvojročnej pandemickej prestávke opäť čaká naozaj nabitý HUDOBNÝ\, DETSKÝ aj FOLKLÓRNY program a omnoho viac. Vidíme sa na našej Dostižke. Vaša Petržalka. \nP.S.: Nezabudnite tiež potvrdiť účasť na podujatí DNI PETRŽALKY 2022 na našej oficiálnej Facebook stránke Petržalka\, ktorú môžete využiť aj ako pripomienku vo vašom kalendári. Tešíme sa!
URL:https://bratislavskykraj.sk/podujatie/dni-petrzalky-2022/
LOCATION:Dostihová dráha Petržalka\, Bratislava - Petržalka\, 85105\, Slovenská republika
CATEGORIES:Aktívne trávenie voľného času,Divadlo,Festival,Koncert,Ochutnávka,Predstavenie,Súťaž,Workshop
ATTACH;FMTTYPE=image/jpeg:https://bratislavskykraj.sk/wp-content/uploads/2022/06/1-1-post.jpg
ORGANIZER;CN="Mestsk%C3%A1 %C4%8Das%C5%A5 Bratislava-Petr%C5%BEalka":MAILTO:podnety@petrzalka.sk
END:VEVENT
BEGIN:VEVENT
DTSTART;TZID=Europe/Bratislava:20220621T150000
DTEND;TZID=Europe/Bratislava:20220621T200000
DTSTAMP:20260422T015224
CREATED:20220609T132108Z
LAST-MODIFIED:20220613T113125Z
UID:99693-1655823600-1655841600@bratislavskykraj.sk
SUMMARY:NESTARNÚCE MELÓDIE
DESCRIPTION:Tanečno – zábavné podujatie s hudobnou skupinou Šubinovci \nTanečné popoludnie plné hudby\, tanca a dobrej nálady pre starších i mladších\, ktorí milujú pohyb na tanečnom parkete.
URL:https://bratislavskykraj.sk/podujatie/nestarnuce-melodie/
LOCATION:Dom kultúry Zrkadlový háj
CATEGORIES:Aktívne trávenie voľného času
ATTACH;FMTTYPE=image/jpeg:https://bratislavskykraj.sk/wp-content/uploads/2022/06/nestarnuce-squere-2.jpg
ORGANIZER;CN="Kult%C3%BArne zariadenia Petr%C5%BEalky":MAILTO:kzp@kzp.sk
END:VEVENT
BEGIN:VEVENT
DTSTART;TZID=Europe/Bratislava:20220611T150000
DTEND;TZID=Europe/Bratislava:20220611T190000
DTSTAMP:20260422T015224
CREATED:20220609T121255Z
LAST-MODIFIED:20220609T124358Z
UID:99659-1654959600-1654974000@bratislavskykraj.sk
SUMMARY:HÁČKUJ VONKU
DESCRIPTION:Svetový deň pletenia a háčkovania na verejnosti. \nOd roku 2005 vždy druhú sobotu v júni sa oslavuje Svetový deň pletenia a háčkovania na verejnosti. \nChceme ho osláviť aj my s výzvou #hackujvonku. \nPridať sa k výzve môže každý vo svojom meste\, na dedine\, na ulici\, v kaviarni\, v parku\, v autobuse\, v lese či s priateľmi\, susedmi alebo rodinou druhú júnovú sobotu\, alebo kedykoľvek počas celého júna. \nV Bratislave sa zapojíme 11. 6. 2022 – Dom kultúry Lúky – 15.00 – 19.00 v spolupráci s @opletacky.sk. Bude to neformálne stretnutie/piknik bez oficiálneho programu. Akcia sa uskutoční v komunitnej záhrade. Nezabudnite svoj rozháčkovaný\, či rozpletený projekt. \n„Prečo to robíme? Pretože chceme preniesť háčkovanie z domov na verejnosť\, vytvoriť komunity\, vytvoriť priestor a príležitosť\, aby sa ľudia mohli stretávať pri ručných prácach\, čo je v našej kultúre pradávna tradícia. Veríme\, že komunita\, vzájomne zdieľanie a radosť z vlastnoručne vytvorených vecí môžu človeka urobiť šťastnejším a zdravším\,“ vysvetlila autorka nápadu Silvia Lukačinová. \nNápad vznikol v spolupráci s K13 – Košické kultúrne centrá a Tvorenie a učenie. Spoluorganizátorom podujatia sú K13- Košické kultúrne centrá. \nTešíme sa na vaše chytré nite.
URL:https://bratislavskykraj.sk/podujatie/hackuj-vonku/
LOCATION:Dom kultúry Lúky
CATEGORIES:Aktívne trávenie voľného času,Workshop
ATTACH;FMTTYPE=image/jpeg:https://bratislavskykraj.sk/wp-content/uploads/2022/06/hackujvonku-squere.jpg
ORGANIZER;CN="Kult%C3%BArne zariadenia Petr%C5%BEalky":MAILTO:kzp@kzp.sk
END:VEVENT
BEGIN:VEVENT
DTSTART;TZID=Europe/Bratislava:20220610T143000
DTEND;TZID=Europe/Bratislava:20220612T180000
DTSTAMP:20260422T015224
CREATED:20220530T074722Z
LAST-MODIFIED:20220530T081403Z
UID:98790-1654871400-1655056800@bratislavskykraj.sk
SUMMARY:Medzinárodný festival detských folklórnych súborov
DESCRIPTION:Malokarpatské osvetové stredisko Vás pozýva v dňoch 10. – 12. júna 2022\nna 24. ročník Medzinárodného festivalu detských folklórnych súborov\, ktorý už tradične organizuje Cech detských folklórnych súborov Bratislavy. \n \nNávštevníci festivalu si môžu v zaujímavom programe vychutnať krásne tance\na piesne v podaní detských folklórnych súborov nielen z celej Bratislavy a okolia\,\nale aj pozvaných súborov z iných regiónov Slovenska a zo zahraničia. V tomto ročníku vystúpia na festivale hostia z Popradu\, Vsetína a Beloveže.\nPiatkový festivalový deň zaháji v uliciach Starého mesta Bratislavy obľúbený krojovaný sprievod. Po slávnostnom otvorení tohto jedinečného podujatia sa účastníci festivalu predstavia návštevníkom v Galaprograme\, ktorý sa uskutoční\nna Hviezdoslavovom námestí v Bratislave. \nV rámci festivalového programu je pre hostí pripravená prehliadka pamätihodností Bratislavy a bratislavského regiónu. \nV sobotu vystúpia účastníci festivalu s programom súčasne v Malinove\na v Rači\, kde sa tiež oboznámia s miestnymi zaujímavosťami a pamiatkami\, a spolu\ns divákmi sa budú môcť zapojiť do tanečnej školy\, zakrepčiť si na tanečnej zábave\,\nči vyskúšať si svoju zručnosť v tradičných remeselných dielňach. \nFestivalové dni v nedeľu ukončí Galaprogram na Primaciálnom námestí\nv Bratislave. \nVšetci ste srdečne vítaní\, vstup je voľný. \nPodujatie z verejných zdrojov podporil Fond na podporu umenia.     \nViac informácií o Malokarpatskom osvetovom stredisku v Modre nájdete na www.moska.sk. \nZdroj: Malokarpatské osvetové stredisko v Modre
URL:https://bratislavskykraj.sk/podujatie/medzinarodny-festival-detskych-folklornych-suborov/
LOCATION:Bratislavský kraj\, Slovenská republika
CATEGORIES:Aktívne trávenie voľného času,Festival,Koncert,Predstavenie,Prehliadka
ATTACH;FMTTYPE=image/jpeg:https://bratislavskykraj.sk/wp-content/uploads/2022/05/mfdfs-bsk.jpg
ORGANIZER;CN="Malokarpatsk%C3%A9 osvetov%C3%A9 stredisko v Modre":MAILTO:mendlova@moska.sk
END:VEVENT
BEGIN:VEVENT
DTSTART;TZID=Europe/Bratislava:20200926T080000
DTEND;TZID=Europe/Bratislava:20200926T170000
DTSTAMP:20260422T015224
CREATED:20200916T135336Z
LAST-MODIFIED:20200916T142724Z
UID:48325-1601107200-1601139600@bratislavskykraj.sk
SUMMARY:Malodunajský vodácky maratón
DESCRIPTION:Malodunajský vodácky maratón je podujatie organizované za účelom stretnutia vodákov a kamarátov\, ktorí si každoročne zmerajú sily vo viacerých kategóriách. \nŠtartuje sa v Novej Dedinke pri priehrade v areáli táboriska a v cieli\, ktorým je Vodný mlyn v Jelke\, je pre účastníkov pripravený chutný guláš a posedenie pri živej hudbe. \nProgram\, podmienky účasti a ďalšie kontakty nájdete na: klubmalydunaj.sk/maraton \nNa podujatie je potrebné vopred sa registrovať na tomto linku: klubmalydunaj.sk/formular \n 
URL:https://bratislavskykraj.sk/podujatie/malodunajsky-vodacky-maraton/
LOCATION:Táborisko Nová Dedinka\, Osada 1\, Nová Dedinka\, Bratislavský kraj\, 90029\, Slovenská republika
CATEGORIES:Aktívne trávenie voľného času,Športové podujatie
ATTACH;FMTTYPE=image/jpeg:https://bratislavskykraj.sk/wp-content/uploads/2020/09/img_9766_upr-scaled.jpg
END:VEVENT
BEGIN:VEVENT
DTSTART;TZID=Europe/Bratislava:20200912T083000
DTEND;TZID=Europe/Bratislava:20200912T150000
DTSTAMP:20260422T015224
CREATED:20200903T134816Z
LAST-MODIFIED:20200903T142306Z
UID:47010-1599899400-1599922800@bratislavskykraj.sk
SUMMARY:Veľké čistenie Malého Dunaja
DESCRIPTION:VEĽKÉ ČISTENIE MALÉHO DUNAJA \nPridajte sa k nám a pomôžte nám vyčistiť Malý Dunaj od odpadu\, ktorý do rieky a okolia nepatrí. \n12.9. 2020 v sobotu\, so začiatkom 8.30 v Jelke pri mlyne! \nRozdelíme vás na jednotlivé úseky\, kam vás zavezie autobus a po skončení čistenia vás odvezie späť do Jelky. \nVrecia\, guláš\, dobrú hudbu a kompletnú výstroj (kanoe\, pádla\, vesty) zabezpečíme my\, k dispozícii budú aj jednorazové tenké rukavice. \nNa akciu je potrebné sa vopred prihlásiť: \n\nprostredníctvom FB (poslaním správy)\nna mail info@klubmalydunaj.sk\nak ste skupina\, dohodnite sa a prihláste sa spolu\n\nAkcia je vhodná len pre tých\, ktorí už na vode boli – veľká časť odpadu je pod stromami\, v konároch a my potrebujeme vedieť\, že to bezpečne zvládnete.\nAhoj na vode!
URL:https://bratislavskykraj.sk/podujatie/velke-cistenie-maleho-dunaja/
LOCATION:Vodný kolový mlyn Jelka\, Vodný kolový mlyn Jelka 925 23 Jelka\, Slovenská republika
CATEGORIES:Aktívne trávenie voľného času,Ochrana životného prostredia,Športové podujatie
ATTACH;FMTTYPE=image/jpeg:https://bratislavskykraj.sk/wp-content/uploads/2020/09/159-kanoe-scaled.jpg
END:VEVENT
BEGIN:VEVENT
DTSTART;TZID=Europe/Bratislava:20200911T180000
DTEND;TZID=Europe/Bratislava:20200911T200000
DTSTAMP:20260422T015224
CREATED:20200910T084720Z
LAST-MODIFIED:20200910T085016Z
UID:47635-1599847200-1599854400@bratislavskykraj.sk
SUMMARY:Večerná prehliadka Pezinka
DESCRIPTION:Viete čo znamená pôvodný názov Pezinka Bozen?\nKtorý kostol je najstarší\, kde bola židovská synagóga\, či kam sa podel potok\, ktorý pretekal stredom mesta?\n\nPrehliadka pre tých\, ktorých by sa chceli dozvedieť o zaujímavostiach a pamiatkach tohto krásneho malokarpatského mestečka. Dozviete sa kedy sa začalo ťažiť v Pezinku zlato\, odkiaľ sa vzalo pomenovanie Turecký dom\, aký nápis zdobí historickú radnicu\, kto dal postaviť Mariánsky stĺp na námestí alebo aj to\, prečo si mestá delili katov. Prehliadku ukončíme na Šimák Zámok Pezinok\, kde si môžete posedieť na vínku\, kávičke či inom nápoji.\n\nStretávame sa pred morovým stĺpom na Radničnom námestí.\nRezervácia je nutná: info@modratours.com\nInformácie: 0903/50 51 52\n\nVstupné: 13 Eur\, deti v sprievode rodičov 5 Eur\nDôchodcovia\, ZŤP – 11 Eur\nMinimálny počet účastníkov: 5 dospelých\n\nMediálny partner: Eventland Bratislava – cool events and things to do near me http://eventland.eu/bratislava/\n\nFoto: Henrich Heňo Vajsabel
URL:https://bratislavskykraj.sk/podujatie/vecerna-prehliadka-pezinka/
LOCATION:Pezinok\, Radničné námestie\, Bratislavský kraj\, 902 01
CATEGORIES:Aktívne trávenie voľného času,Ochutnávka,Prednáška,Prehliadka
ATTACH;FMTTYPE=image/jpeg:https://bratislavskykraj.sk/wp-content/uploads/2020/09/118308500_589885908357396_5944150743488717222_n.jpg
END:VEVENT
BEGIN:VEVENT
DTSTART;TZID=Europe/Bratislava:20200909T183000
DTEND;TZID=Europe/Bratislava:20200909T213000
DTSTAMP:20260422T015224
CREATED:20200908T064824Z
LAST-MODIFIED:20200908T065024Z
UID:47328-1599676200-1599687000@bratislavskykraj.sk
SUMMARY:Gramo show s prehliadkou mesta
DESCRIPTION:Viete ako znela reprodukovaná hudba pred 100 rokmi? Kto boli jej rodičia\, kedy\, kde a ako sa narodila? Pozývame vás na hudobný zážitok za zvuku originálnych platní od F.K.Veselého\, Melánie Olláryovej či Enrica Carlusiho. Nielen že sa dozviete o histórii reprodukovanej hudby\, Edisonovom fonografe\, či šelakovej cievke\, ale budete počuť hity ako Zuzička moja\, Prečo sa máme rozísť\, Skryl sa mesiac za oblacik či O Sole Mio na originálnych nosičoch zo začiatku minulého storočia. Pred Gramo Show sa spolu prejdeme hornou časťou Modry a povieme si o jej zaujímavostiach\, osobnostiach a historických skvostoch.\nČo zažijete:\n1\,5-hodinovú prehliadku historickým centrom Modry zameranej na jej severnú časť a jedinečnú hudobnú prezentáciu v nádherných priestoroch renesančného domu zo 16.st. Počas prezentácie sa budete môcť osviežiť skvelými modranskými vínami (za poplatok).\nVstupenky na prehliadku s gramoshow :https://bit.ly/3iNLZlT\ninfo@modratours.com\, 0903/50 51 52\nCena:13€\nPočet miest obmedzený. Platiť sa dá aj na mieste. Rezervácia je nutná.\nZačiatok o 20.00 hod\nTrvanie: cca 1 hod.\nDoprava:\nDo Modry sa dostanete autobusom z hlavnej stanice v Bratislave o 17.00\, 17.10\, 17.20 hod. Spiatočný spoj smer Bratislava odchádza o 21.50 hod. Parkovanie v centre mesta zdarma po 17.00 hod.\nFoto: Gerhard Bögner
URL:https://bratislavskykraj.sk/podujatie/gramo-show-s-prehliadkou-mesta/
LOCATION:Malokarpatské osvetové stredisko v Modre\, modranský kaštieľ\, Horná 22\, Modra 900 01\, Bratislavský kraj\, Slovenská republika
CATEGORIES:Aktívne trávenie voľného času,Ochutnávka,Prednáška,Prehliadka
ATTACH;FMTTYPE=image/jpeg:https://bratislavskykraj.sk/wp-content/uploads/2020/09/117769573_584428802236440_3158490176228013341_o.jpg
END:VEVENT
END:VCALENDAR