BEGIN:VCALENDAR
VERSION:2.0
PRODID:-//Bratislavskykraj.sk - ECPv6.15.20//NONSGML v1.0//EN
CALSCALE:GREGORIAN
METHOD:PUBLISH
X-ORIGINAL-URL:https://bratislavskykraj.sk
X-WR-CALDESC:Udalosti pre Bratislavskykraj.sk
REFRESH-INTERVAL;VALUE=DURATION:PT1H
X-Robots-Tag:noindex
X-PUBLISHED-TTL:PT1H
BEGIN:VTIMEZONE
TZID:Europe/Bratislava
BEGIN:DAYLIGHT
TZOFFSETFROM:+0100
TZOFFSETTO:+0200
TZNAME:CEST
DTSTART:20190331T010000
END:DAYLIGHT
BEGIN:STANDARD
TZOFFSETFROM:+0200
TZOFFSETTO:+0100
TZNAME:CET
DTSTART:20191027T010000
END:STANDARD
BEGIN:DAYLIGHT
TZOFFSETFROM:+0100
TZOFFSETTO:+0200
TZNAME:CEST
DTSTART:20200329T010000
END:DAYLIGHT
BEGIN:STANDARD
TZOFFSETFROM:+0200
TZOFFSETTO:+0100
TZNAME:CET
DTSTART:20201025T010000
END:STANDARD
BEGIN:DAYLIGHT
TZOFFSETFROM:+0100
TZOFFSETTO:+0200
TZNAME:CEST
DTSTART:20210328T010000
END:DAYLIGHT
BEGIN:STANDARD
TZOFFSETFROM:+0200
TZOFFSETTO:+0100
TZNAME:CET
DTSTART:20211031T010000
END:STANDARD
BEGIN:DAYLIGHT
TZOFFSETFROM:+0100
TZOFFSETTO:+0200
TZNAME:CEST
DTSTART:20220327T010000
END:DAYLIGHT
BEGIN:STANDARD
TZOFFSETFROM:+0200
TZOFFSETTO:+0100
TZNAME:CET
DTSTART:20221030T010000
END:STANDARD
BEGIN:DAYLIGHT
TZOFFSETFROM:+0100
TZOFFSETTO:+0200
TZNAME:CEST
DTSTART:20230326T010000
END:DAYLIGHT
BEGIN:STANDARD
TZOFFSETFROM:+0200
TZOFFSETTO:+0100
TZNAME:CET
DTSTART:20231029T010000
END:STANDARD
END:VTIMEZONE
BEGIN:VEVENT
DTSTART;TZID=Europe/Bratislava:20221116T190000
DTEND;TZID=Europe/Bratislava:20221116T203000
DTSTAMP:20260422T163848
CREATED:20221109T122740Z
LAST-MODIFIED:20221109T122740Z
UID:112003-1668625200-1668630600@bratislavskykraj.sk
SUMMARY:Červený balón (VINUM VERSUS TEATRUM) - Divadlo ASTORKA Korzo´90
DESCRIPTION:ČERVENÝ BALÓN \nČervený balón je naša nová poetická vináreň. Alebo literárna kaviareň\, ako chcete… \nJe to miesto\, kde sa môžete na chvíľu zastaviť. Posedieť v dobrej spoločnosti\, posmiať sa\, alebo posmútiť\, ako chcete… \nVypiť pohár dobrého vína\, červeného\, bieleho alebo čaj… ako chcete. \nČervený balón je miestom stretnutia s veršami a vínom\, alebo s vínom a poéziou\, ako chcete… \nJe to miesto stretnutia s literatúrou\, hudbou\, divadlom v ich intímnej podobe. \nKaždý večer v Červenom balóne bude iný. \nNa stretnutie vás pozývame 16.11. 2022 o 19.00 hod. \nVečerom vás budú sprevádzať Zuzana Konečná\, Juraj Kemka\, Peter Šimun\, Halyna Kapralova\, Marcela Cmorejová\, Katarína Feldeková a Ľubomír Feldek \nČítať budeme z knihy Ľubomíra Feldeka „LEŤ\, VIETOR\, NA UKRAJINU“ (básnický denník z obdobia Putinovej „špeciálnej operácie“ na Ukrajine). \nHeslo: VINUM VERSUS THEATRUM
URL:https://bratislavskykraj.sk/podujatie/cerveny-balon-vinum-versus-teatrum-divadlo-astorka-korzo90/
LOCATION:Štúdio A2 Divadla ASTORKA Korzo´90\, Mickiewiczova 2\, Bratislava\, Slovenská republika
CATEGORIES:Beseda,Degustácia
ATTACH;FMTTYPE=image/jpeg:https://bratislavskykraj.sk/wp-content/uploads/2022/11/cerveny-balon.jpg
END:VEVENT
BEGIN:VEVENT
DTSTART;TZID=Europe/Bratislava:20221105T190000
DTEND;TZID=Europe/Bratislava:20221105T210000
DTSTAMP:20260422T163848
CREATED:20221026T130126Z
LAST-MODIFIED:20221026T130126Z
UID:111002-1667674800-1667682000@bratislavskykraj.sk
SUMMARY:TREZOR: Veľký žúr - Divadlo ASTORKA Korzo´90
DESCRIPTION:Sú späť !!! \nSú nazad !!! \nDoba si ich vyžiadala. \nNávrat svetoznámej skupiny len v ASTORKE. \nTu musíte byť. \nSpolu s Vami vytvoríme Veľký žúr. \nČaká na Vás Welcome drink a PREKVAPENIE.
URL:https://bratislavskykraj.sk/podujatie/trezor-velky-zur-divadlo-astorka-korzo90-2/
LOCATION:Divadlo ASTORKA Korzo´90\, Námestie SNP 33\, Bratislava
CATEGORIES:Beseda,Degustácia,Divadlo,Koncert,Predstavenie
ATTACH;FMTTYPE=image/jpeg:https://bratislavskykraj.sk/wp-content/uploads/2022/10/velky-zur-instagramfb.jpg
END:VEVENT
BEGIN:VEVENT
DTSTART;TZID=Europe/Bratislava:20221104T190000
DTEND;TZID=Europe/Bratislava:20221104T210000
DTSTAMP:20260422T163848
CREATED:20221026T125934Z
LAST-MODIFIED:20221026T125934Z
UID:110999-1667588400-1667595600@bratislavskykraj.sk
SUMMARY:TREZOR: Veľký žúr - Divadlo ASTORKA Korzo´90
DESCRIPTION:Sú späť !!! \nSú nazad !!! \nDoba si ich vyžiadala. \nNávrat svetoznámej skupiny len v ASTORKE. \nTu musíte byť. \nSpolu s Vami vytvoríme Veľký žúr. \nČaká na Vás Welcome drink a PREKVAPENIE.
URL:https://bratislavskykraj.sk/podujatie/trezor-velky-zur-divadlo-astorka-korzo90/
LOCATION:Divadlo ASTORKA Korzo´90\, Námestie SNP 33\, Bratislava
CATEGORIES:Beseda,Degustácia,Divadlo,Koncert,Predstavenie
ATTACH;FMTTYPE=image/jpeg:https://bratislavskykraj.sk/wp-content/uploads/2022/10/velky-zur-instagramfb.jpg
END:VEVENT
BEGIN:VEVENT
DTSTART;VALUE=DATE:20220919
DTEND;VALUE=DATE:20221018
DTSTAMP:20260422T163848
CREATED:20220918T105117Z
LAST-MODIFIED:20220918T105117Z
UID:106011-1663545600-1666051199@bratislavskykraj.sk
SUMMARY:PETRŽALSKÝ SENIORFEST 2022
DESCRIPTION:Starosta mestskej časti Ján Hrčka Bratislava-Petržalka vás pozýva na 15. ročník obľúbeného podujatia PETRŽALSKÝ SENIORFEST.  Užite si spoločne s nami v termíne od 19. septembra do 17. októbra 4 týždne plné kultúrnych a športových podujatí\, workshopov či prednášok. \nVSTUP na PETRŽALSKÝ SENIORFEST 2022 je aj vďaka podpore našej samosprávy BEZPLATNÝ. \n  \n  \nV decembri v roku 1990 vyhlásilo Valné zhromaždenie Organizácie spojených národov mesiac október za mesiac úcty k starším. \nPri tejto príležitosti sme sa v Petržalke už po pätnástykrát rozhodli zorganizovať takpovediac kultové podujatie pre našich najmilších seniorov. \nJeseň života nemá byť predsa pochmúrna ako zatiahnuté oblaky\, naopak má byť farebná ako listy na stromoch. Prečo si ju nevyfarbiť pestrým programom na Petržalskom seniorfeste\, nad ktorým prevzal záštitu starosta Petržalky Ján Hrčka. \nOd 19. septembra do 17. októbra sa naše kultúrne zariadenia po celej Petržalke vrátane Klubovne aktívnych seniorov na Osuského 8 rozozvučia hlasmi známych interpretov\, zabávačov či odborníkov. \nNaše pozvanie na jeho 15. ročník prijali tentokrát aj mená ako Gizka Oňová\, ktorá sa predstaví s kapelou Akcent live a svoj talent predvedie aj v divadelnom predstavení Klimaktérium s názvom No a čo? i legenda slovenského humoru Ander z Košíc so svojou kapelou KONYARE. Chýbať nebude ani tradičné Jablkové hodovanie a súťaž v pečení jablkových koláčov. \n  \n  \n  \nOkrem hudobných či divadelných podujatí na vás čakajú aj rôznorodé workshopy. Veríme totiž\, že nikdy nie je neskoro na učenie sa nových vecí\, ktoré\, mimochodom\, majú aj zásadný vplyv na ľudský mozog v každom veku! Pripravené sú pre vás workshopy textilnej tvorby\, dekorovania a úpravy keramiky\, drôtovania či figurálnej tvorby. \nNezáleží na tom\, či ste úplný začiatočník\, radi by ste svoje zručnosti len udržiavali alebo by ste sa radi prišli jednoducho zabaviť s priateľmi. Dvere má otvorené každý. \nMáte vo svojom okolí seniorov? Povedzte im o podujatí alebo ich naň odprevaďte\, doprajte im aktívne strávený čas a dajte im šancu stretnúť starých či nájsť si nových priateľov. \n 
URL:https://bratislavskykraj.sk/podujatie/petrzalsky-seniorfest-2022/
LOCATION:Bratislava-Petržalka\, Slovenská republika
CATEGORIES:Aktívne trávenie voľného času,Beseda,Divadlo,Festival,Film,Koncert,Prednáška,Predstavenie,Súťaž,Výstava,Workshop
ATTACH;FMTTYPE=image/png:https://bratislavskykraj.sk/wp-content/uploads/2022/09/seniorfest-2022-program-web.png
ORGANIZER;CN="Mestsk%C3%A1 %C4%8Das%C5%A5 Bratislava-Petr%C5%BEalka":MAILTO:podnety@petrzalka.sk
END:VEVENT
BEGIN:VEVENT
DTSTART;TZID=Europe/Bratislava:20220827T100000
DTEND;TZID=Europe/Bratislava:20220827T180000
DTSTAMP:20260422T163848
CREATED:20220823T063259Z
LAST-MODIFIED:20220823T063259Z
UID:104101-1661594400-1661623200@bratislavskykraj.sk
SUMMARY:50 rokov Mosta SNP
DESCRIPTION:Kultúrna scéna v Sade Janka Kráľa a Rudnayovo námestie \nPIATOK  26. 8. 2022 Sad J. Kráľa\n \n18:00    diskusia viceprimátorky Tatiany Kratochvílovej s odborníkmi a pamätníkmi \n20:00    koncert Krstní otcovia \n21:00    premietanie dokumentu o Moste SNP „Dvaja o Moste“ \n  \n18:00 – 22:00    „Hviezdna noc na Dunaji“ – astronomické pozorovanie vesmíru – Vyhliadková veža UFO \n– \nSOBOTA  27. 8. 2022  Sad J. Kráľa\n \n10:00 – 15:00     STRETNEME SA POD UFOM \nProgram pre rodiny s deťmi a mládež \n\nvýtvarné dielne na tému „most“\nhry s lietajúcim tanierom\n\n10:00 cyklojazda bratislavskými mostami pre rodiny s deťmi – zraz na mieste \n11:00 street dance workshop \n12:00 beat box workshop \n13:00 break dance workshop \n14:00 rodinný vedomostný kvíz – téma Most SNP \n16:00     SPOMIENKY NA MOST \nBeseda pamätníkov\, prezentácia výstavy a uvedenie publikácie “Bratislava a jej premeny – Most SNP“ \n– \n10:00 – 16:00     “Propeler” – komentované plavby loďou Petržalka <> Staré Mesto \n10:30\, 11:30\, 12:30\, 13:30\, 14:30\, 15:30 – odjazdy Tyršovo nábrežie \n10:00 – 16:00     Individuálne retro jazdy veteránmi zo 70. rokov cez bratislavské mosty – stojisko Sad Janka Kráľa – smer > Staré Mesto \n15:00 – 18:00     Súkromné obhliadky Mosta SNP – špeciálna edícia Rande s mestom: 50. výročie Mosta SNP – Most SNP \n– \nVÝSTAVA “50 rokov Mosta SNP”\nPetržalka – Most SNP – Staré Mesto \nMost SNP – budapeštianska strana lávky\n25. 8. –  30. 9. 2022 \nDK Zrkadlový háj – Galéria medzi zrkadlami\n26. 8. – 30. 9. 2022 \n \nSOBOTA  27. 8. 2022 Rudnayovo námestie \n13:00 – 16:00     RANDE PRI MOSTE \nPopulárna hudba 70. rokov \n13:00    koncert Juraj Zaujec – revival slovenské hity \n15:00    koncert Marián Lucký so skupinou – revival svetové hity \n– \n10:00 – 16:00     “Propeler” – komentované plavby loďou Staré Mesto <> Petržalka \n10:00\, 11:00\, 12:00\, 13:00\, 14:00\, 15:00 – odjazdy Vajanského nábrežie \n10:00 – 16:00     Individuálne retro jazdy veteránmi zo 70. rokov cez bratislavské mosty – stojisko Rybné námestie – smer > Petržalka \n11:00 – 16:00     Premietanie dobových žurnálov s odborným výkladom – Kino Mladosť \n15:00 – 18:00     Súkromné obhliadky Mosta SNP – špeciálna edícia Rande s mestom: \n50. výročie Mosta SNP – Most SNP \n– \nVÝSTAVA “50 rokov Mosta SNP” \nStaré Mesto – Most SNP – Petržalka \nMost SNP – budapeštianska strana lávky\n25. 8. –  30. 9. 2022 \nZichyho palác – 2. poschodie\n19. 8. – 10. 9. 2022 \nZmena programu vyhradená. \nPartneri:\nBratislava-hlavné mesto SR\, Mestská časť Bratislava-Petržalka\, Mestská časť Bratislava-Staré Mesto\, Bratislavský samosprávny kraj\, Bratislavské kultúrne a informačné stredisko\, Kultúrne zariadenia Petržalky\, Bratislava Tourist Board\, Ministerstvo dopravy a výstavby Slovenskej republiky\, Archív mesta Bratislavy\, Slovenská plavba a prístavy – Lodná osobná doprava\, UFO watch.taste.groove.
URL:https://bratislavskykraj.sk/podujatie/50-rokov-mosta-snp/
LOCATION:Sad Janka Kráľa\, Bratislava
CATEGORIES:Aktívne trávenie voľného času,Beseda,Detské herne a čítačky,Koncert,Prednáška,Súťaž,Výstava,Workshop
ATTACH;FMTTYPE=image/png:https://bratislavskykraj.sk/wp-content/uploads/2022/08/most-snp-600x400-1.png
ORGANIZER;CN="Kult%C3%BArne zariadenia Petr%C5%BEalky":MAILTO:kzp@kzp.sk
END:VEVENT
BEGIN:VEVENT
DTSTART;TZID=Europe/Bratislava:20200821T150000
DTEND;TZID=Europe/Bratislava:20200823T180000
DTSTAMP:20260422T163848
CREATED:20200820T092808Z
LAST-MODIFIED:20200820T093053Z
UID:45864-1598022000-1598205600@bratislavskykraj.sk
SUMMARY:Pezinský Permoník 2020
DESCRIPTION:Pozývame vás na Malokarpatskú výstavu a burzu minerálov\, fosílií a drahých kameňov. Zároveň je to kultúrne podujatie\, ktoré organizuje Nezisková organizácia Barbora pravidelne každý rok v auguste. Tento rok sa uskutoční vo dňoch 21.-23. 8. 2020. V meste Pezinok má toto podujatie dlhoročnú tradíciu a v roku 2020 odštartuje už 24. ročník.
URL:https://bratislavskykraj.sk/podujatie/pezinsky-permonik-2020/
LOCATION:Pezinské kultúrne centrum\, Holubyho 42\, Pezinok\, Bratislavský kraj\, 902 01\, Slovenská republika
CATEGORIES:Beseda,Prednáška,Workshop
ATTACH;FMTTYPE=image/jpeg:https://bratislavskykraj.sk/wp-content/uploads/2020/08/117817723_10151481564999963_1875420043530813102_n.jpg
END:VEVENT
BEGIN:VEVENT
DTSTART;TZID=Europe/Bratislava:20200803T190000
DTEND;TZID=Europe/Bratislava:20200803T190000
DTSTAMP:20260422T163848
CREATED:20200724T111457Z
LAST-MODIFIED:20200727T091426Z
UID:43756-1596481200-1596481200@bratislavskykraj.sk
SUMMARY:Literatúra v Radnici: Anasoft litera
DESCRIPTION:Malokarpatská knižnica v Pezinku a café and wine bar Radnica pozývajú na tradičné posedenie v Radnici. S finalistami Anasoft litera sa porozprávame o literatúre a o živote v príjemnom prostredí\, pri pohári vína alebo domácej limonády. \nhostia: finalisti Anasoft litera Katarína Kucbelová a Silvester Lavrík \nmoderuje: Veronika Šikulová \n \n 
URL:https://bratislavskykraj.sk/podujatie/literatura-v-radnici-anasoft-litera/
LOCATION:Radnica\, café and wine bar Pezinok\, Štefánikova 1\, Pezinok\, 902 01\, Slovenská republika
CATEGORIES:Beseda
ATTACH;FMTTYPE=image/jpeg:https://bratislavskykraj.sk/wp-content/uploads/2020/07/radnica.jpg
END:VEVENT
END:VCALENDAR