BEGIN:VCALENDAR
VERSION:2.0
PRODID:-//Bratislavskykraj.sk - ECPv6.15.20//NONSGML v1.0//EN
CALSCALE:GREGORIAN
METHOD:PUBLISH
X-WR-CALNAME:Bratislavskykraj.sk
X-ORIGINAL-URL:https://bratislavskykraj.sk
X-WR-CALDESC:Udalosti pre Bratislavskykraj.sk
REFRESH-INTERVAL;VALUE=DURATION:PT1H
X-Robots-Tag:noindex
X-PUBLISHED-TTL:PT1H
BEGIN:VTIMEZONE
TZID:Europe/Bratislava
BEGIN:DAYLIGHT
TZOFFSETFROM:+0100
TZOFFSETTO:+0200
TZNAME:CEST
DTSTART:20190331T010000
END:DAYLIGHT
BEGIN:STANDARD
TZOFFSETFROM:+0200
TZOFFSETTO:+0100
TZNAME:CET
DTSTART:20191027T010000
END:STANDARD
BEGIN:DAYLIGHT
TZOFFSETFROM:+0100
TZOFFSETTO:+0200
TZNAME:CEST
DTSTART:20200329T010000
END:DAYLIGHT
BEGIN:STANDARD
TZOFFSETFROM:+0200
TZOFFSETTO:+0100
TZNAME:CET
DTSTART:20201025T010000
END:STANDARD
BEGIN:DAYLIGHT
TZOFFSETFROM:+0100
TZOFFSETTO:+0200
TZNAME:CEST
DTSTART:20210328T010000
END:DAYLIGHT
BEGIN:STANDARD
TZOFFSETFROM:+0200
TZOFFSETTO:+0100
TZNAME:CET
DTSTART:20211031T010000
END:STANDARD
BEGIN:DAYLIGHT
TZOFFSETFROM:+0100
TZOFFSETTO:+0200
TZNAME:CEST
DTSTART:20220327T010000
END:DAYLIGHT
BEGIN:STANDARD
TZOFFSETFROM:+0200
TZOFFSETTO:+0100
TZNAME:CET
DTSTART:20221030T010000
END:STANDARD
BEGIN:DAYLIGHT
TZOFFSETFROM:+0100
TZOFFSETTO:+0200
TZNAME:CEST
DTSTART:20230326T010000
END:DAYLIGHT
BEGIN:STANDARD
TZOFFSETFROM:+0200
TZOFFSETTO:+0100
TZNAME:CET
DTSTART:20231029T010000
END:STANDARD
END:VTIMEZONE
BEGIN:VEVENT
DTSTART;TZID=Europe/Bratislava:20221009T100000
DTEND;TZID=Europe/Bratislava:20221009T110000
DTSTAMP:20260421T181116
CREATED:20221005T090933Z
LAST-MODIFIED:20221005T090933Z
UID:108605-1665309600-1665313200@bratislavskykraj.sk
SUMMARY:ROZPRÁVKOVÁ NEDEĽA - SEN JEDNÉHO DUBA
DESCRIPTION:Divadlo BABADLO \nRozpoviem Vám príbeh o dube\,\no muške\, čo podenka sa volá\,\nbude o nás a o Vás…\nBude\, či nebude?…\nZasaďme s láskou\, semienko do zeme\na keď nám vyrastie\, pri srdci zahreje… \n \nDivadlo Babadlo ponúka pútavý príbeh jedného duba na motívy rozprávky Hansa Christana Andersena. Interaktívne predstavenie s environmentálnou tematikou je určené detskému divákovi\, ktorý si môže „zahrať“ s hercami\, či dokonca ovplyvniť záver rozprávky o záchrane stromov a ich osude. Na svoje si príde aj dospelý divák\, lebo veríme\, že preňho všemocná a múdra príroda nestratila čaro. \n \nPredstavenie pre deti od 3 rokov\nDĺžka predstavenia: 40 min.
URL:https://bratislavskykraj.sk/podujatie/rozpravkova-nedela-sen-jedneho-duba/
LOCATION:Dom kultúry Zrkadlový háj
CATEGORIES:Detské herne a čítačky,Divadlo,Predstavenie
ATTACH;FMTTYPE=image/png:https://bratislavskykraj.sk/wp-content/uploads/2022/10/sen-jedneho-duba-2-divadlo-babadlo.png
ORGANIZER;CN="Kult%C3%BArne zariadenia Petr%C5%BEalky":MAILTO:kzp@kzp.sk
END:VEVENT
BEGIN:VEVENT
DTSTART;TZID=Europe/Bratislava:20221008T130000
DTEND;TZID=Europe/Bratislava:20221008T200000
DTSTAMP:20260421T181116
CREATED:20221005T091239Z
LAST-MODIFIED:20221005T091239Z
UID:108627-1665234000-1665259200@bratislavskykraj.sk
SUMMARY:JABLKOVÉ HODOVANIE - PETRŽALSKÝ SENIORFEST 2022
DESCRIPTION:Jablkové hodovanie na Dostihovej dráhe. Súčasť Petržalského seniorfestu 2022. \nTradičné podujatie so súťažou v pečení jablkových koláčov a pestrým hudobným programom\, na ktorom zaznejú nie len najväčšie hity Karola Duchoňa či Nedvědovcov. \nHľadáme najlepšie jablkové lakocinky v Petržalke. Registrujte sa TU.\nPROGRAM:\n13.00 BAŠÁVEL BAND\n14.00 ĽUDOVÁ HUDBA ANDREJA ZÁHORCA\n15.00 COUNTRY VOICE\n16.00 Vyhlásenie výsledkov súťaže JABLKOVÉ HODOVANIE\n17.00 LUDO KURUC BAND najväčšie hity slovenskej legendy\, víťaza Cantilény – ceny Karola Duchoňa\n18.30 VOJTA NEDVĚD najkrajšie hity Nedvědovcov \n\n\nSprievodný program pre návštevníkov zadarmo: \n13:00 – 17:00 Exhibícia s králikmi pre deti i seniorov \n13:00 – 17:00 Maľovanie na tvár a detské kreatívne dielničky \n14:00 – 17:00 – Knižná burza s Miestnou knižnicou Petržalka \n15:00 – 17:00 – Vozenie na koňoch pre deti i seniorov\n\n\n \nJABLKÁ budú už tradične v druhý októbrový víkend vo viacerých mestách\, mestských častiach a obciach bratislavskej župy v centre pozornosti. Začne sa totiž už 13-ty ročník obľúbeného podujatia JABLKOVÉ HODOVANIE® a pre všetkých milovníkov tohto zdravého ovocia to bude opäť doslova sviatok. Iniciátorom a organizátorom podujatia je Malokarpatské osvetové stredisko v Modre\, kde sa zrodila myšlienka propagovať naše tradičné slovenské ovocie – jablko\, plod jesene\, nielen z gastronomického hľadiska (jedlo\, nápoj)\, ale aj ako umenie v rôznych formách (sklo\, patchwork\, textil\, drevo\, drôt a iné). V tento deň budete môcť v kraji navštíviť viaceré mestá a obce\, kde sa bude dať čo to naučiť o druhoch jabĺk\, zasúťažiť si\, vyrobiť si niečo a ochutnať rôzne tradičné aj nezvyčajné špeciality pripravené z jabĺk. Podujatie zároveň vytvorí priestor na spoluprácu\, rozvoj a kreativitu rôznych komunít\, zdravotne znevýhodnených\, menšín\, umelcov\, miestnych pestovateľov a všetkých zúčastnených. \nNezabudnite si preto zapísať 8. október do kalendára a stante sa súčasťou tohto skvelého podujatia v ktorejkoľvek časti Bratislavského kraja. \n \nV prípade nepriaznivého počasia sa podujatie uskutoční v DK Lúky s obmedzeným programom.
URL:https://bratislavskykraj.sk/podujatie/jablkove-hodovanie-petrzalsky-seniorfest-2022/
LOCATION:Dostihová dráha Petržalka\, Bratislava - Petržalka\, 85105\, Slovenská republika
CATEGORIES:Aktívne trávenie voľného času,Degustácia,Detské herne a čítačky,Koncert,Ochutnávka,Predstavenie
ATTACH;FMTTYPE=image/jpeg:https://bratislavskykraj.sk/wp-content/uploads/2022/10/jh2022.jpg
ORGANIZER;CN="Kult%C3%BArne zariadenia Petr%C5%BEalky":MAILTO:kzp@kzp.sk
END:VEVENT
BEGIN:VEVENT
DTSTART;TZID=Europe/Bratislava:20220828T110000
DTEND;TZID=Europe/Bratislava:20220828T170000
DTSTAMP:20260421T181116
CREATED:20220822T092428Z
LAST-MODIFIED:20220822T092428Z
UID:104061-1661684400-1661706000@bratislavskykraj.sk
SUMMARY:ROZPRÁVKOVÁ NEDEĽA - MALÉ UPRATOVANIE
DESCRIPTION:Divadlo ZáBaVKa – Sad Janka Kráľa/ predstavenie o 11:00 a 15:00 \nDivadlo ZáBaVKa\, v spolupráci s divadlom Kusy cukru\, pripravila pre deti aj ich rodičov interaktívnu divadelnú ZáBaVKu Malé upratovanie. Čarovný príbeh\, pri ktorom sa rozvíja u detí fantázia a tvorivosť. Pred ich očami sa obyčajné veci( klobúk\, koberec\, štipce…) menia a ožívajú na netradičné (lastovičky\, pes\, slnko…).A tak sú deti nepriamo\, ale za to spontánne\, vtiahnuté do magického sveta fantázie. Tvorcovia predstavenia získali množstvo ocenení na domácich aj medzinárodných divadelných prehliadkach a hra Malé upratovanie bola pozitívne prijatá odborným i laickým publikom. \nHrá\, prednáša a spieva: Zuzana Kolejáková / Vojtech Koleják \nRéžia: Peter Luptovský \nDĺžka predstavenia: cca. 30 min. + 15 min.\, predstavenie + interakcia \nPredstavenie je určené pre deti predškolského veku a prvý stupeň ZŠ. \n  \nPredstavenie sa hrá v rámci podujatia Na palube jednorožca\, zážitkovej celodennej akcie v areáli Auparku a Sade Janka Kráľa. 
URL:https://bratislavskykraj.sk/podujatie/rozpravkova-nedela-male-upratovanie/
LOCATION:Sad Janka Kráľa\, Bratislava
CATEGORIES:Detské herne a čítačky,Divadlo,Festival
ATTACH;FMTTYPE=image/jpeg:https://bratislavskykraj.sk/wp-content/uploads/2022/08/male-upratovanie.jpg
ORGANIZER;CN="Kult%C3%BArne zariadenia Petr%C5%BEalky":MAILTO:kzp@kzp.sk
END:VEVENT
BEGIN:VEVENT
DTSTART;TZID=Europe/Bratislava:20220828T100000
DTEND;TZID=Europe/Bratislava:20220828T153000
DTSTAMP:20260421T181116
CREATED:20220822T151742Z
LAST-MODIFIED:20220822T151742Z
UID:104094-1661680800-1661700600@bratislavskykraj.sk
SUMMARY:NA PALUBE JEDNOROŽCA - WORKSHOPY
DESCRIPTION:výtvarné workshopy KZP v Sade Janka Kráľa \nKZP sa už desiaty rok zúčasťnuje za Mestskú časť Petržalka podujatia NA PALUBE JEDNOROŽCA\, ktoré sa konajú pod záštitou starostu Petržalky. \nPre všetky zúčastnené deti pripravujeme na našom stanovišti zaujímavé výtvarné dielničky\, na ktorých si vytvoríte niečo pre potešenie a zároveň získate pečiatku do hracej karty.
URL:https://bratislavskykraj.sk/podujatie/na-palube-jednorozca-workshopy/
LOCATION:Sad Janka Kráľa\, Bratislava
CATEGORIES:Aktívne trávenie voľného času,Detské herne a čítačky,Workshop
ATTACH;FMTTYPE=image/jpeg:https://bratislavskykraj.sk/wp-content/uploads/2022/08/napalubejedorozcaworkshopy-web.jpg
ORGANIZER;CN="Kult%C3%BArne zariadenia Petr%C5%BEalky":MAILTO:kzp@kzp.sk
END:VEVENT
BEGIN:VEVENT
DTSTART;TZID=Europe/Bratislava:20220827T100000
DTEND;TZID=Europe/Bratislava:20220827T180000
DTSTAMP:20260421T181116
CREATED:20220823T063259Z
LAST-MODIFIED:20220823T063259Z
UID:104101-1661594400-1661623200@bratislavskykraj.sk
SUMMARY:50 rokov Mosta SNP
DESCRIPTION:Kultúrna scéna v Sade Janka Kráľa a Rudnayovo námestie \nPIATOK  26. 8. 2022 Sad J. Kráľa\n \n18:00    diskusia viceprimátorky Tatiany Kratochvílovej s odborníkmi a pamätníkmi \n20:00    koncert Krstní otcovia \n21:00    premietanie dokumentu o Moste SNP „Dvaja o Moste“ \n  \n18:00 – 22:00    „Hviezdna noc na Dunaji“ – astronomické pozorovanie vesmíru – Vyhliadková veža UFO \n– \nSOBOTA  27. 8. 2022  Sad J. Kráľa\n \n10:00 – 15:00     STRETNEME SA POD UFOM \nProgram pre rodiny s deťmi a mládež \n\nvýtvarné dielne na tému „most“\nhry s lietajúcim tanierom\n\n10:00 cyklojazda bratislavskými mostami pre rodiny s deťmi – zraz na mieste \n11:00 street dance workshop \n12:00 beat box workshop \n13:00 break dance workshop \n14:00 rodinný vedomostný kvíz – téma Most SNP \n16:00     SPOMIENKY NA MOST \nBeseda pamätníkov\, prezentácia výstavy a uvedenie publikácie “Bratislava a jej premeny – Most SNP“ \n– \n10:00 – 16:00     “Propeler” – komentované plavby loďou Petržalka <> Staré Mesto \n10:30\, 11:30\, 12:30\, 13:30\, 14:30\, 15:30 – odjazdy Tyršovo nábrežie \n10:00 – 16:00     Individuálne retro jazdy veteránmi zo 70. rokov cez bratislavské mosty – stojisko Sad Janka Kráľa – smer > Staré Mesto \n15:00 – 18:00     Súkromné obhliadky Mosta SNP – špeciálna edícia Rande s mestom: 50. výročie Mosta SNP – Most SNP \n– \nVÝSTAVA “50 rokov Mosta SNP”\nPetržalka – Most SNP – Staré Mesto \nMost SNP – budapeštianska strana lávky\n25. 8. –  30. 9. 2022 \nDK Zrkadlový háj – Galéria medzi zrkadlami\n26. 8. – 30. 9. 2022 \n \nSOBOTA  27. 8. 2022 Rudnayovo námestie \n13:00 – 16:00     RANDE PRI MOSTE \nPopulárna hudba 70. rokov \n13:00    koncert Juraj Zaujec – revival slovenské hity \n15:00    koncert Marián Lucký so skupinou – revival svetové hity \n– \n10:00 – 16:00     “Propeler” – komentované plavby loďou Staré Mesto <> Petržalka \n10:00\, 11:00\, 12:00\, 13:00\, 14:00\, 15:00 – odjazdy Vajanského nábrežie \n10:00 – 16:00     Individuálne retro jazdy veteránmi zo 70. rokov cez bratislavské mosty – stojisko Rybné námestie – smer > Petržalka \n11:00 – 16:00     Premietanie dobových žurnálov s odborným výkladom – Kino Mladosť \n15:00 – 18:00     Súkromné obhliadky Mosta SNP – špeciálna edícia Rande s mestom: \n50. výročie Mosta SNP – Most SNP \n– \nVÝSTAVA “50 rokov Mosta SNP” \nStaré Mesto – Most SNP – Petržalka \nMost SNP – budapeštianska strana lávky\n25. 8. –  30. 9. 2022 \nZichyho palác – 2. poschodie\n19. 8. – 10. 9. 2022 \nZmena programu vyhradená. \nPartneri:\nBratislava-hlavné mesto SR\, Mestská časť Bratislava-Petržalka\, Mestská časť Bratislava-Staré Mesto\, Bratislavský samosprávny kraj\, Bratislavské kultúrne a informačné stredisko\, Kultúrne zariadenia Petržalky\, Bratislava Tourist Board\, Ministerstvo dopravy a výstavby Slovenskej republiky\, Archív mesta Bratislavy\, Slovenská plavba a prístavy – Lodná osobná doprava\, UFO watch.taste.groove.
URL:https://bratislavskykraj.sk/podujatie/50-rokov-mosta-snp/
LOCATION:Sad Janka Kráľa\, Bratislava
CATEGORIES:Aktívne trávenie voľného času,Beseda,Detské herne a čítačky,Koncert,Prednáška,Súťaž,Výstava,Workshop
ATTACH;FMTTYPE=image/png:https://bratislavskykraj.sk/wp-content/uploads/2022/08/most-snp-600x400-1.png
ORGANIZER;CN="Kult%C3%BArne zariadenia Petr%C5%BEalky":MAILTO:kzp@kzp.sk
END:VEVENT
BEGIN:VEVENT
DTSTART;VALUE=DATE:20220701
DTEND;VALUE=DATE:20220704
DTSTAMP:20260421T181116
CREATED:20220615T094947Z
LAST-MODIFIED:20220615T114348Z
UID:100189-1656633600-1656892799@bratislavskykraj.sk
SUMMARY:OTVORENIE KULTÚRNEHO LETA V PETRŽALKE 2022
DESCRIPTION:Pozývame Vás na otvorenie Kultúrneho leta v Petržalke 2022:\nPIATOK | 1.7. | exteriér DKZH\n18:00 | Spolok Dychová hudba SPOJÁR / Mažoretky Alba Bratislava  \n18:00 | otvorenie Petržalského infocentra / otvorenie Galérie medzi zrkadlami \n19:00 | DJ Faktor\ntanečná zábava s karaoke \nDENNE | 10:00 – 21:30 | DK Zrkadlový háj\nLITERÁRNA KAVIAREŇ večerné čítanie/raňajky \nDENNE | 10:00 – 21:30 | DK Zrkadlový háj\nLETNÁ GALÉRIA MEDZI ZRKADLAMI\nvernisáž výstavy fotografií /René Miko\, Martin Kleibl\, Filip Bielek/\nkurátorka Barbara Brathová \nRETROVÍKEND\n\nPIATOK | 1.7.\n21:00 | LETNÉ KINO DK LÚKY | FONTÁNA PRE ZUZANU\nr. D. Rapoš\, ČSSR\, 1985\, originálna verzia\, 81 min. \nSOBOTA | 2.7. | Sad Janka Kráľa\n10:00 | TANCUJEME POD STROMAMI\nlatino-rozcvička s tanečnou školou LA PORTELLA \n10:00 | PETRŽALSKÍ PÁTRAČI\ninformácie o obľúbenej exteriérovej hre Petržalčanov \n11:00 | PETANGOVÝ RODINNÝ TURNAJ\ns profesionálnym rozhodcom\nrodinné družstvo v počte minimálne traja členovia\, sa môže prihlásiť na adrese: ccc@kzp.sk \n15:00 – 18:00 | RODINNY PIKNIK V TRÁVE\nsúťaž o najkrajší a najoriginálnejší piknikový košík\, piknikové miesto\, súťaž o najchutnejšiu bábovku \n15:00 – 16:00 | NIE SME DOMA\, MAĽUJEME\nrodinné tvorivé dielne na tému rodostromy a rodinné portréty \n16:00 – 17:00 | TANEČNÝ WORKSHOP PRE DETI\nso športových klubom JUVENTA \n16:00 – 18:00 | Z BABIČIKINEJ TRUHLICE\nukážky paličkovania a predstavenie tvorby Klubu paličkovanej čipky OKOLOK z Petržalky \n16:00 – 18:00 | MÓDA ČIAS MINULÝCH\nprezentácia historických kostýmov v priereze 20. storočia\, v spolupráci s Divadlom Nová scéna \n16:30 – 18:00 | ÚČESY\, ÚČESY\ndámsky a pánsky retro-salón na zelenej tráve\, v spolupráci so Strednou odbornou školou kaderníctva a vizážistiky \n18:00 | PAPER MOON TRIO\nkoncert dámskeho vokálno-inštrumentálneho zoskupenia vám hudobne priblíži 20. a 40. roky minulého storočia \n19:30 | LA JANA & HER SWING BOYS\nkoncert v štýle swingu 30. a 50. rokov\, príležitostné zoskupenie famóznej speváčky Janky Dekánkovej \nNEDEĽA | 3.7. | Sad Janka Kráľa\n10:00 | POSLEDNÝ DINOSAURUS\nDivadlo na hojdačke – Rozprávková nedeľa \n11:00 – 12:30 | RETROHERŇA\nhráme sa na tráve s hračkami našich rodičov a starých rodičov\, výtvarná dielnička na tému MOJA NAJ HRAČKA\nDajte hračkám druhú šancu! – nepotrebné hračky môžete priniesť do CC Centra\, urobia radosť iným deťom \n14:30 | ROZPRAVKÁREŇ\nštudenti Konzervatória v Bratislave čítajú deťom z detských knižiek\, tvorivé dielne na tému MOJA NAJ ROZPRÁVKA \n17:00 | POSLEDNÝ DINOSAURUS\nDivadlo na hojdačke – Rozprávková nedeľa \n19:00 | NEDEĽNÝ KONCERT alebo CESTUJEME V ČASE\nkoncert študentov KONZERVATÓRIA\, Tolstého 11 \n 
URL:https://bratislavskykraj.sk/podujatie/otvorenie-kulturneho-leta-2022/
LOCATION:Bratislava-Petržalka\, Slovenská republika
CATEGORIES:Aktívne trávenie voľného času,Detské herne a čítačky,Divadlo,Film,Koncert,Predstavenie,Športové podujatie,Súťaž,Výstava,Workshop
ATTACH;FMTTYPE=image/jpeg:https://bratislavskykraj.sk/wp-content/uploads/2022/06/800x800-kulturne-leto-2022-s-logami2.jpg
ORGANIZER;CN="Kult%C3%BArne zariadenia Petr%C5%BEalky":MAILTO:kzp@kzp.sk
END:VEVENT
BEGIN:VEVENT
DTSTART;TZID=Europe/Bratislava:20200829T090000
DTEND;TZID=Europe/Bratislava:20200829T210000
DTSTAMP:20260421T181117
CREATED:20200825T093941Z
LAST-MODIFIED:20200825T094406Z
UID:46181-1598691600-1598734800@bratislavskykraj.sk
SUMMARY:Detská banícka akadémia
DESCRIPTION:Tento rok tu máme už 3. ročník detskej baníckej akadémie JUDr. Dušana Vilíma. Počas tohto podujatia môžete dopriať Vašim deťom či vnúčatám poučný a zábavný deň\, kde sa naučia čo to o baníctve\, histórii a mineráloch či netopieroch. A pre tých odvážnejších sa nájde aj trošku adrenalínu a napätia. \nTentokrát je podujatie celodenné. Celý deň sa bude niesť v duchu súťaží a hier a rôznych iných aktivít. \nPodujatie bude formou pikniku. Takže si nezabudnite zobrať so sebou určite deku alebo niečo podobné. Bude pre Vás zabezpečený platený bufet. \nProsíme\, aby deti boli v sprievode rodiča/ov či starých rodičov. \nPre registráciu a viac informácií navštívte stránku podujatia.
URL:https://bratislavskykraj.sk/podujatie/detska-banicka-akademia/
LOCATION:Antimonová štôlňa\, 48.3200317N\, 17.2267311E\, Pezinok\, Bratislavský kraj\, 90201\, Slovenská republika
CATEGORIES:Detské herne a čítačky,Workshop
ATTACH;FMTTYPE=image/jpeg:https://bratislavskykraj.sk/wp-content/uploads/2020/08/mineral-238651_1920.jpg
END:VEVENT
BEGIN:VEVENT
DTSTART;TZID=Europe/Bratislava:20200825T100000
DTEND;TZID=Europe/Bratislava:20200825T113000
DTSTAMP:20260421T181117
CREATED:20200823T163110Z
LAST-MODIFIED:20200823T163110Z
UID:46027-1598349600-1598355000@bratislavskykraj.sk
SUMMARY:Všade dobre\, doma najlepšie: Do školy!
DESCRIPTION:Prázdninové utorky s knihou v Malokarpatskej knižnici v Pezinku pokračujú. \nMy sa v Malokarpatskej knižnici nenudíme a nezaháľali sme. Celé leto sme sa stretávali s deťmi\, každý utorok o desiatej. Ostáva nám posledné prázdninové stretnutie. \nTentokrát sa budeme hrať na školu. Ako to vyzerá v takej škole\, načo tam chodíme\, čo sa tam naučíme? \nPoďte sa s deťmi zahrať do knižnice! \nVstup voľný. \nPodujatie je určené verejnosti\, pre organizované skupiny je potrebné dohodnúť si termín! \n  \nDeti sa hrajú v Malokarpatskej knižnici v Pezinku.
URL:https://bratislavskykraj.sk/podujatie/vsade-dobre-doma-najlepsie-do-skoly/
CATEGORIES:Detské herne a čítačky
ATTACH;FMTTYPE=image/jpeg:https://bratislavskykraj.sk/wp-content/uploads/2020/08/stetce-stvorec.jpg
END:VEVENT
BEGIN:VEVENT
DTSTART;TZID=Europe/Bratislava:20200818T100000
DTEND;TZID=Europe/Bratislava:20200818T113000
DTSTAMP:20260421T181117
CREATED:20200816T133834Z
LAST-MODIFIED:20200816T134026Z
UID:45464-1597744800-1597750200@bratislavskykraj.sk
SUMMARY:Všade dobre\, doma najlepšie: Bobor Karol
DESCRIPTION:Literárno-tvorivé prázdninové utorky v knižnici. \nPokračujeme v spoločných stretnutiach pre deti v Malokarpatskej knižnici. \n  \nKniha o šikovnom bobrovi Karolovi ide v Malokrapatskej knižnici z rúk do rúk a v policiach sa ani jedna dlho nezdrží.\nTento raz sa s deťmi stretne Veronika Hajdučíková\, okrem mnohých iných povolaní\, záujmov a rolí\, aj autorka knihy Lakiho mestečko (ktorú tiež nájdete v našom fonde).\nVeronika si pre deti niečo zaujímavé pripravila. \nVstup voľný. \nPodujatie je určené širokej verejnosti\, pre organizované skupiny si dohodnite termín. \nPodujatie z verejných zdrojov podporil Fond na podporu umenia.
URL:https://bratislavskykraj.sk/podujatie/vsade-dobre-doma-najlepsie-bobor-karol/
LOCATION:Malokarpatská knižnica v Pezinku\, Holubyho ul. č. 5\, Pezinok\, 902 01\, Slovenská republika
CATEGORIES:Detské herne a čítačky
ATTACH;FMTTYPE=image/jpeg:https://bratislavskykraj.sk/wp-content/uploads/2020/08/stetce-stvorec.jpg
END:VEVENT
BEGIN:VEVENT
DTSTART;TZID=Europe/Bratislava:20200728T100000
DTEND;TZID=Europe/Bratislava:20200728T113000
DTSTAMP:20260421T181117
CREATED:20200720T060056Z
LAST-MODIFIED:20200727T133037Z
UID:42594-1595930400-1595935800@bratislavskykraj.sk
SUMMARY:Prstom po mape! Paprika
DESCRIPTION:Aj tento rok sme si pre deti počas prázdnin pripravili program. Čakajú nás pripravené literárno – tvorivé stretnutia v knižnici. V novom seriáli letných podujatí „Prstom po mape“ budeme v prvej časti navštevovať rôzne krajiny sveta. Naplánované máme čítanie\, tvorivé aktivity\, súťaže a hry. Vstup je voľný. \nMAĎARSKO v knižnici: \nKto je paprikový národ? Predsa Maďari! Sladká paprika\, štipľavá paprika! Paprikové klobásky! Hát\, paprika! Poďte si zahrať na maďarskú strunu! A prečítame si aj príbeh od maďarského autora.
URL:https://bratislavskykraj.sk/podujatie/prstom-po-mape-paprika/
LOCATION:Malokarpatská knižnica v Pezinku\, Holubyho ul. č. 5\, Pezinok\, 902 01\, Slovenská republika
CATEGORIES:Detské herne a čítačky
ATTACH;FMTTYPE=image/jpeg:https://bratislavskykraj.sk/wp-content/uploads/2020/07/mkpk_prstom-po-mape-paradajka.jpg
END:VEVENT
END:VCALENDAR