BEGIN:VCALENDAR
VERSION:2.0
PRODID:-//Bratislavskykraj.sk - ECPv6.15.20//NONSGML v1.0//EN
CALSCALE:GREGORIAN
METHOD:PUBLISH
X-WR-CALNAME:Bratislavskykraj.sk
X-ORIGINAL-URL:https://bratislavskykraj.sk
X-WR-CALDESC:Udalosti pre Bratislavskykraj.sk
REFRESH-INTERVAL;VALUE=DURATION:PT1H
X-Robots-Tag:noindex
X-PUBLISHED-TTL:PT1H
BEGIN:VTIMEZONE
TZID:Europe/Bratislava
BEGIN:DAYLIGHT
TZOFFSETFROM:+0100
TZOFFSETTO:+0200
TZNAME:CEST
DTSTART:20190331T010000
END:DAYLIGHT
BEGIN:STANDARD
TZOFFSETFROM:+0200
TZOFFSETTO:+0100
TZNAME:CET
DTSTART:20191027T010000
END:STANDARD
BEGIN:DAYLIGHT
TZOFFSETFROM:+0100
TZOFFSETTO:+0200
TZNAME:CEST
DTSTART:20200329T010000
END:DAYLIGHT
BEGIN:STANDARD
TZOFFSETFROM:+0200
TZOFFSETTO:+0100
TZNAME:CET
DTSTART:20201025T010000
END:STANDARD
BEGIN:DAYLIGHT
TZOFFSETFROM:+0100
TZOFFSETTO:+0200
TZNAME:CEST
DTSTART:20210328T010000
END:DAYLIGHT
BEGIN:STANDARD
TZOFFSETFROM:+0200
TZOFFSETTO:+0100
TZNAME:CET
DTSTART:20211031T010000
END:STANDARD
BEGIN:DAYLIGHT
TZOFFSETFROM:+0100
TZOFFSETTO:+0200
TZNAME:CEST
DTSTART:20220327T010000
END:DAYLIGHT
BEGIN:STANDARD
TZOFFSETFROM:+0200
TZOFFSETTO:+0100
TZNAME:CET
DTSTART:20221030T010000
END:STANDARD
BEGIN:DAYLIGHT
TZOFFSETFROM:+0100
TZOFFSETTO:+0200
TZNAME:CEST
DTSTART:20230326T010000
END:DAYLIGHT
BEGIN:STANDARD
TZOFFSETFROM:+0200
TZOFFSETTO:+0100
TZNAME:CET
DTSTART:20231029T010000
END:STANDARD
END:VTIMEZONE
BEGIN:VEVENT
DTSTART;TZID=Europe/Bratislava:20220611T150000
DTEND;TZID=Europe/Bratislava:20220612T020000
DTSTAMP:20260421T123434
CREATED:20220530T080958Z
LAST-MODIFIED:20220531T063246Z
UID:98809-1654959600-1654999200@bratislavskykraj.sk
SUMMARY:Festival na Šarfických lúkach
DESCRIPTION:Malokarpatské osvetové stredisko v Modre pozýva všetkých milovníkov dychovej hudby dňa 11.6.2022 o 15.00 hod. na Festival dychových hudieb na Šarfických lúkach\, ktorý sa uskutoční pri príležitosti 100. výročia Dychovej hudby Šarfianka. Príďte sa s nami zabaviť a zaspievať si pri dobrej hudbe a chytľavých pesničkách. \n\nV programe vystúpia: \nDS IGRAMČAN \nDH SENČANKA \nDH GRINAVANKA \nPÁVÍ KRÚŽOK Z MLYNKOV (HU) \nDH ŠARFIANKA \nHOSŤ DH TÚFARANKA (CZ) \nSpoluorganizátor: DH Šarfianka\, Obec Blatné \nPodujatie z verejných zdrojov podporil Fond na podporu umenia a Poľovnícke združenie Priehrada Blatné. \nViac informácií o Malokarpatskom osvetovom stredisku v Modre nájdete na www.moska.sk. Zdroj: Malokarpatské osvetové stredisko v Modre
URL:https://bratislavskykraj.sk/podujatie/festival-na-sarfickych-lukach/
LOCATION:Blatné\, Blatné
CATEGORIES:Festival,Prehliadka
ATTACH;FMTTYPE=image/jpeg:https://bratislavskykraj.sk/wp-content/uploads/2022/05/100-sarfianka-bsk-1.jpg
END:VEVENT
BEGIN:VEVENT
DTSTART;TZID=Europe/Bratislava:20220610T143000
DTEND;TZID=Europe/Bratislava:20220612T180000
DTSTAMP:20260421T123434
CREATED:20220530T074722Z
LAST-MODIFIED:20220530T081403Z
UID:98790-1654871400-1655056800@bratislavskykraj.sk
SUMMARY:Medzinárodný festival detských folklórnych súborov
DESCRIPTION:Malokarpatské osvetové stredisko Vás pozýva v dňoch 10. – 12. júna 2022\nna 24. ročník Medzinárodného festivalu detských folklórnych súborov\, ktorý už tradične organizuje Cech detských folklórnych súborov Bratislavy. \n \nNávštevníci festivalu si môžu v zaujímavom programe vychutnať krásne tance\na piesne v podaní detských folklórnych súborov nielen z celej Bratislavy a okolia\,\nale aj pozvaných súborov z iných regiónov Slovenska a zo zahraničia. V tomto ročníku vystúpia na festivale hostia z Popradu\, Vsetína a Beloveže.\nPiatkový festivalový deň zaháji v uliciach Starého mesta Bratislavy obľúbený krojovaný sprievod. Po slávnostnom otvorení tohto jedinečného podujatia sa účastníci festivalu predstavia návštevníkom v Galaprograme\, ktorý sa uskutoční\nna Hviezdoslavovom námestí v Bratislave. \nV rámci festivalového programu je pre hostí pripravená prehliadka pamätihodností Bratislavy a bratislavského regiónu. \nV sobotu vystúpia účastníci festivalu s programom súčasne v Malinove\na v Rači\, kde sa tiež oboznámia s miestnymi zaujímavosťami a pamiatkami\, a spolu\ns divákmi sa budú môcť zapojiť do tanečnej školy\, zakrepčiť si na tanečnej zábave\,\nči vyskúšať si svoju zručnosť v tradičných remeselných dielňach. \nFestivalové dni v nedeľu ukončí Galaprogram na Primaciálnom námestí\nv Bratislave. \nVšetci ste srdečne vítaní\, vstup je voľný. \nPodujatie z verejných zdrojov podporil Fond na podporu umenia.     \nViac informácií o Malokarpatskom osvetovom stredisku v Modre nájdete na www.moska.sk. \nZdroj: Malokarpatské osvetové stredisko v Modre
URL:https://bratislavskykraj.sk/podujatie/medzinarodny-festival-detskych-folklornych-suborov/
LOCATION:Bratislavský kraj\, Slovenská republika
CATEGORIES:Aktívne trávenie voľného času,Festival,Koncert,Predstavenie,Prehliadka
ATTACH;FMTTYPE=image/jpeg:https://bratislavskykraj.sk/wp-content/uploads/2022/05/mfdfs-bsk.jpg
ORGANIZER;CN="Malokarpatsk%C3%A9 osvetov%C3%A9 stredisko v Modre":MAILTO:mendlova@moska.sk
END:VEVENT
BEGIN:VEVENT
DTSTART;TZID=Europe/Bratislava:20220512T080000
DTEND;TZID=Europe/Bratislava:20220512T170000
DTSTAMP:20260421T123434
CREATED:20220512T073808Z
LAST-MODIFIED:20220512T074216Z
UID:97762-1652342400-1652374800@bratislavskykraj.sk
SUMMARY:Pezinské vínne pivnice a dvory 2022
DESCRIPTION:S radosťou Vám oznamujeme\, že 14. ročník podujatia Pezinské vínne pivnice a dvory 2022 sa uskutoční v sobotu\, 4. júna 2022 v čase od 14.00 h. do 22.00 h. V širšom centre mesta Pezinok na jednotlivých zastávkach členovia Združenia pezinských vinohradníkov a vinárov ponúknu to najlepšie\, čo ukrývajú ich pivnice a dvory. Spojte putovanie za výborným vínkom s prehliadkou mesta a jeho historických zákutí. \nPREDAJ VSTUPENIEK \nVSTUPENKA pre 1 osobu\nCena vstupenky v predpredaji je 33\,- € a obsahuje degustačný pohár s ryskou\, sprievodcu degustátora s mapou\, bonusový kupón na nákup vína v hodnote 6\,-€ a štartovací balíček pozostávajúci z 50 degustačných žetónov. Cena vstupenky v deň podujatia je 35\,-€. \nVSTUPENKA pre dvojicu\nV predpredaji vám ponúkame aj výhodný balíček pre 2 osoby za sumu 51\,-€. Ten obsahuje dva poháre s ryskou\, sprievodcu degustátora s mapou\, dva bonusové kupóny na nákup vína spolu v hodnote 12\,-€ (2×6\,-€) a 50 degustačných žetónov. Cena vstupenky pre dvojicu v deň podujatia je 53\,-€. \n1. Elektronický predpredaj vstupeniek je možný cez www.zavinom.sk do 3.júna 2022\, resp. do ich vypredania. \n2. Predpredaj je možný aj v hotovosti osobne na adrese: Malokarpatské múzeum v Pezinku\, M.R.Štefánika 4\, 902 01 Pezinok v pracovné dni v čase od 9.00 do 17.00 h. \n3. Vstupenky je možné zakúpiť aj priamym prevodom na účet prostredníctvom e-mailu:  martin.hrubala@muzeumpezinok.sk. \nPo obdržaní Vášho mailu (potrebujeme meno objednávajúceho a počet vstupeniek) Vám objednávku obratom potvrdíme zaslaním č. účtu a prideleného var. symbolu. Po úhrade Vám pošleme mail s potvrdením prijatej platby. \nUpozorňujeme\, že počet vstupeniek je limitovaný. \nVšeobecné info:\nJedna vzorka je 0\,02 l vína. Cena vzorky je v závislosti od jeho kvality a hodnoty od 1 do  max. 5 žetónov za víno. \nDokúpenie žetónov:\nV prípade potreby bude možné na vyznačených miestach počas celého podujatia dokúpiť doplňujúci balíček degustačných žetónov (10 ks) v hodnote 3\, -€. \nVYZDVIHNUTIE VSTUPENIEK\nVyzdvihnutie vstupenky z predpredaja je v budove Malokarpatského múzea v Pezinku (M.R. Štefánika 4). \nVami zakúpené vstupenky si bude možné osobne vyzdvihnúť týždeň pred podujatím v pracovných dňoch:\nod 31.5 – 3.6.2022\, v čase  9.00 – 17.00 h.   \nV deň podujatia 4.6. 2022 bude možný výdaj zakúpených vstupeniek v čase 12.00 – 18.00 h. \nMiesto odberu bude v priestoroch múzea zreteľne vyznačené. Na mieste sa preukážte vytlačeným dokladom o zaplatení. \nZOZNAM VINÁROV:\nVinohradníctvo a vinárstvo Krasňanský\, Pezinok-Grinava\nVVDP Karpaty\, Pezinok-Grinava\nPavol Boriš\, Pezinok\nVíno Hamšík\, Pezinok\nVinárstvo Čavojský\, Pezinok\nFarebné vinárstvo\, Pezinok\nVíno Matyšák\, Pezinok\nVinárstvo Daniel Stríž\nVinárstvo Križanovič & Prievozník\, Pezinok\nVinohradníctvo – vinárstvo Skovajsa\, Pezinok\nVíno Hugo\, Chorvátsky Grob\nVPS – Vinohradníctvo Pavelka a syn\, Pezinok\nHacaj\, s.r.o.\, Pezinok\nVíno Ludvik\, Pezinok\nVinkova\, s.r.o.\, Pezinok\nVíno Rajnic\, Pezinok\nVíno Satko\, Pezinok\nZámocké vinárstvo Šimák\, Pezinok\nVinohradníctvo a vinárstvo Slezák\, Limbach\nVinohradníctvo a vinárstvo Merlaj\, Pezinok\nVinárstvo Vinum Aureum\, Pezinok\nVinárstvo Peter Ratuzky\nVíno Krasnanský\, Pezinok \nVšeobecné info:\nZaplatené vstupné na podujatie sa nevracia\, vstupenka je nenávratná. \nInformácie v súvislosti s ochorením COVID-19:\nPodujatie podlieha zmenám na základe platnej legislatívy a uskutoční sa za dodržania podmienok a nariadení zo strany príslušných orgánov verejnej správy.\nV súvislosti s výskytom ochorenia COVID-19 v prípade\, ak opatrenia Úradu verejného zdravotníctva neumožnia uskutočnenie podujatia Pezinské vínne pivnice a dvory 2022 v termíne 4. 6. 2022 a zakúpené vstupenky budú automaticky prenesené na nasledujúci ročník podujatia. \nKONTAKT:\nPezinské vínne pivnice a dvory 2022\n(Festival najlepších pezinských vín) \nHlavný organizátor: OZ MUSEUM VINORUM\, M. R. Štefánika 4\, 902 01 Pezinok\nKontaktné osoby: Tomáš Klokner – 0911 404 043\, e-mail: tomas.klokner@muzeumpezinok.sk\nMartin Hrubala – 0911 400 495\, e-mail: martin.hrubala@muzeumpezinok.sk \nOrganizátor si vymedzuje právo a zmenu programu\, zoznamu a umiestnenia vinárov\, ak to vyžadujú okolnosti. \nTešíme sa na stretnutie s vami!
URL:https://bratislavskykraj.sk/podujatie/pezinske-vinne-pivnice-a-dvory-2022/
CATEGORIES:Festival,Ochutnávka
ATTACH;FMTTYPE=image/png:https://bratislavskykraj.sk/wp-content/uploads/2022/05/pvp-2022-plagat.png
END:VEVENT
BEGIN:VEVENT
DTSTART;TZID=Europe/Bratislava:20201211T180000
DTEND;TZID=Europe/Bratislava:20201211T180000
DTSTAMP:20260421T123434
CREATED:20201201T121044Z
LAST-MODIFIED:20201201T121044Z
UID:55572-1607709600-1607709600@bratislavskykraj.sk
SUMMARY:GYPSY JAZZ FESTIVAL 2020 - Divadlo Aréna
DESCRIPTION:Deviaty ročník podujatia Gypsy Jazz Festival\, ktorého organizátorom je popredný slovenský saxofonista Milo Suchomel\, prinesie opäť veľa kvalitného jazzu\, nielen v „gypsy“ štýle. \nNa festivale tohto roku vystúpia: \nNový slovenský Jazz 2020\nLaura Jašková\, Alan Bartuš\, Andrej Farkaš\, Ján Rigó\, Ernest Vizváry\, Zsolt Farkas\nsupported by: Štefan Pišta Bartuš & David Hodek \nMilo Suchomel & ŠALEFUKY \nVanessa Šarközi & Miloš Biháry Gipsy Jazz Project \nAltar All Star Group\nNikolaj Nikitin & Ľuboš Šrámek feat. Kornél Fekete-Kovács\, Robert Balzar\, Martin Valihora\nspecial guest: Sisa Michalidesová \nErik Rothenstein & Babele Beat Band\nDominika Debnárová\, Michal Motýľ\, Ludovít Kotlár\, Pavol Bereza\, Matej Štubniak\, Marián Ševčík\nspecial guest: Balász Szokolay Dongó
URL:https://bratislavskykraj.sk/podujatie/gypsy-jazz-festival-2020-divadlo-arena/
LOCATION:Divadlo Aréna\, Viedenská cesta 10\, Bratislava\, 85101
CATEGORIES:Divadlo,Festival,Koncert
ATTACH;FMTTYPE=image/jpeg:https://bratislavskykraj.sk/wp-content/uploads/2020/12/gypsy-jazz-2020-da.jpg
ORGANIZER;CN="Divadlo Ar%C3%A9na":MAILTO:pokladna@divadloarena.sk
END:VEVENT
BEGIN:VEVENT
DTSTART;TZID=Europe/Bratislava:20200830T100000
DTEND;TZID=Europe/Bratislava:20200830T220000
DTSTAMP:20260421T123434
CREATED:20200826T102454Z
LAST-MODIFIED:20200826T102454Z
UID:46380-1598781600-1598824800@bratislavskykraj.sk
SUMMARY:Záleská divadelná púť
DESCRIPTION:Máme tu 10. ročník Záleskej divadelnej púte – medzinárodného festivalu divadla pre deti. \nOslava divadla\, hudby\, radostnej atmosféry od rána až do večera. Centrum obce Zálesie sa 30. augusta 2020\, teda v poslednú augustovú nedeľu\, premení na festivalový areál a v rámci 10. ročníka ponúkne program\, ktorý zaženie hlad po umeleckých zážitkoch. So známymi menami (prídu Lasica\, Neřež\, Kaščák i Modré hory) však prichádza tento rok i niekoľko výrazných zmien. \nFestival pre všetky dobré deti a ich neposlušných rodičov v malej obci neďaleko Bratislavy (13 km) sa podľa organizátorov tento rok nerodil ľahko. Napriek mantinelom opatrení\, ale najmä so zodpovednosťou voči náročnému publiku\, však vytvorili výberové menu. Vzhľadom na situáciu\, ktorá zasiahla spoločnosť a teda aj kultúrnu obec\, bude tento rok vstup na púť po prvýkrát spoplatnený.
URL:https://bratislavskykraj.sk/podujatie/zaleska-divadelna-put/
LOCATION:Zálesie\, Park Zálesíčko\, Ignáca Gešaja\,\, Zálesie\, Bratislavský kraj\, 90028\, Slovenská republika
CATEGORIES:Divadlo,Festival
ATTACH;FMTTYPE=image/png:https://bratislavskykraj.sk/wp-content/uploads/2020/08/zdp2020_webprogram.png
END:VEVENT
BEGIN:VEVENT
DTSTART;TZID=Europe/Bratislava:20200805T090000
DTEND;TZID=Europe/Bratislava:20200805T170000
DTSTAMP:20260421T123434
CREATED:20200729T071142Z
LAST-MODIFIED:20200729T123016Z
UID:44019-1596618000-1596646800@bratislavskykraj.sk
SUMMARY:CINEAMA 2020
DESCRIPTION:Pestré pásmo pohyblivých obrázkov\, ktoré oživia naše sny\, rozohrajú naše predstavy a odzrkadlia svet\, v ktorom žijeme. Projekcia krajského kola celoštátnej postupovej súťaže amatérskej filmovej tvorby Bratislavský samosprávny kraj. Predstaví sa Vám 35 krátkometrážnych filmov od 26 autorov z troch vekových skupín (do 16 rokov\, od 16 do 21 rokov a nad 21 rokov). Počas projekcie môžete vzhliadnuť animované filmy\, dokumentárne filmy\, experimenty\, hrané filmy a videoklipy od amatérskych filmových tvorcov. Projekcia je verejná\, vstup na ňu je voľný a Vy – milovníci kinematografie\, ste na ňu srdečne pozvaní. Súčasťou finálnej súťažnej projekcie je aj rozborový seminár s odborníkmi v oblasti kinematografie spojený s odovzdávaním cien.
URL:https://bratislavskykraj.sk/podujatie/cineama-2020/
LOCATION:Kino Film Europe\, Štefánikova 25\, Bratislava\, 81105\, Slovenská republika
CATEGORIES:Festival,Film
ATTACH;FMTTYPE=image/jpeg:https://bratislavskykraj.sk/wp-content/uploads/2020/07/cineama-a2-plagat-a-scaled.jpg
ORGANIZER;CN="Malokarpatsk%C3%A9 osvetov%C3%A9 stredisko v Modre":MAILTO:mendlova@moska.sk
END:VEVENT
END:VCALENDAR