BEGIN:VCALENDAR
VERSION:2.0
PRODID:-//Bratislavskykraj.sk - ECPv6.15.20//NONSGML v1.0//EN
CALSCALE:GREGORIAN
METHOD:PUBLISH
X-WR-CALNAME:Bratislavskykraj.sk
X-ORIGINAL-URL:https://bratislavskykraj.sk
X-WR-CALDESC:Udalosti pre Bratislavskykraj.sk
REFRESH-INTERVAL;VALUE=DURATION:PT1H
X-Robots-Tag:noindex
X-PUBLISHED-TTL:PT1H
BEGIN:VTIMEZONE
TZID:Europe/Bratislava
BEGIN:DAYLIGHT
TZOFFSETFROM:+0100
TZOFFSETTO:+0200
TZNAME:CEST
DTSTART:20190331T010000
END:DAYLIGHT
BEGIN:STANDARD
TZOFFSETFROM:+0200
TZOFFSETTO:+0100
TZNAME:CET
DTSTART:20191027T010000
END:STANDARD
BEGIN:DAYLIGHT
TZOFFSETFROM:+0100
TZOFFSETTO:+0200
TZNAME:CEST
DTSTART:20200329T010000
END:DAYLIGHT
BEGIN:STANDARD
TZOFFSETFROM:+0200
TZOFFSETTO:+0100
TZNAME:CET
DTSTART:20201025T010000
END:STANDARD
BEGIN:DAYLIGHT
TZOFFSETFROM:+0100
TZOFFSETTO:+0200
TZNAME:CEST
DTSTART:20210328T010000
END:DAYLIGHT
BEGIN:STANDARD
TZOFFSETFROM:+0200
TZOFFSETTO:+0100
TZNAME:CET
DTSTART:20211031T010000
END:STANDARD
BEGIN:DAYLIGHT
TZOFFSETFROM:+0100
TZOFFSETTO:+0200
TZNAME:CEST
DTSTART:20220327T010000
END:DAYLIGHT
BEGIN:STANDARD
TZOFFSETFROM:+0200
TZOFFSETTO:+0100
TZNAME:CET
DTSTART:20221030T010000
END:STANDARD
BEGIN:DAYLIGHT
TZOFFSETFROM:+0100
TZOFFSETTO:+0200
TZNAME:CEST
DTSTART:20230326T010000
END:DAYLIGHT
BEGIN:STANDARD
TZOFFSETFROM:+0200
TZOFFSETTO:+0100
TZNAME:CET
DTSTART:20231029T010000
END:STANDARD
END:VTIMEZONE
BEGIN:VEVENT
DTSTART;TZID=Europe/Bratislava:20220619T170000
DTEND;TZID=Europe/Bratislava:20220619T180000
DTSTAMP:20260422T030627
CREATED:20220613T114057Z
LAST-MODIFIED:20220613T114057Z
UID:99900-1655658000-1655661600@bratislavskykraj.sk
SUMMARY:PRECHÁDZKA OPERETNOU EURÓPOU
DESCRIPTION:MELÓDIE Z ČIAS PROPELERU \nSólisti: Katarína Procházková\, Dušan Šimo \nDirigent: Dušan Štefánek \nOpereta zachvátila celú Európu už v 19. storočí. Vrchol popularity však dosiahla až neskôr v tvorbe Lehára a Kálmána. Vypočujte si to najkrajšie\, čo operetní autori naprieč Európou napísali pre milovníkov krásnej hudby. Skvelí sólisti z Banskej Bystrice Katarína Procházková a Dušan Šimo\, ako aj Metropolitný orchester Bratislava s dirigentom Dušanom Štefánkom sa tešia na stretnutie s Vami. \n  \nProgram: \nJulius Fučík: Triglav – pochod\nJacques Offenbach: Orfeus v podsvetí – predohra\nFranz Lehár: Pieseň Ilony z operety Cigánska láska\nEmmerich Kálmán: Pieseň z operety Vojvodkyňa z Chicaga\nPaul Lincke: Svätojánska muška – idyla\nGejza Dusík: Vám čarokrásnu pieseň zaspievam – duet z operety Modrá ruža\nEmil Waldteufel: Najmilší – valčík \nPRESTÁVKA \nOscar Nedbal: Veľká mazurka z operety Poľská krv\nGejza Dusík: Pieseň môjho srdca – pieseň z operety Osudný valčík\nEmmerich Kálmán: Pieseň Tassila z operety Grófka Marica\nReveriano Soutullo: Legenda o bozkávaní – zarzuella\nJohann Strauss: Ako slobodný duch – pieseň z operety Cigánsky barón\nJohann Strauss: Hlasy domova – pieseň z operety Netopier\nHans Christian Lumbye: Šampanský galop\nGejza Dusík: Zatancuj si so mnou – duet z operety Modrá ruža \nPartneri koncertu: Kultúrne zariadenia Petržalky\, Bratislavský kultúrny spolok a FB Consulting. \nZmena zamerania koncertov a účinkujúcich vyhradená. \nMetropolitný orchester Bratislava (MOB) je hudobné teleso\, ktoré na slovenskej hudobnej scéne pôsobí už od roku 2005. Pri založení si MOB za cieľ stanovil zachovanie operety v Bratislave a výchovu novej generácie operetných umelcov. Za toto obdobie sa orchestru podarilo zapísať sa do dejín interpretácie klasickej operety. Sústreďuje sa najmä na hudbu vychádzajúcu z viedenských valčíkov – hudbu tanečných salónov\, cez klasické operety až po súčasné diela. Významnú časť repertoáru tvoria skladby slovenských autorov. Orchester už inšpiroval viacerých súčasných skladateľov k napísaniu nových diel. Za najvýznamnejšie počiny možno považovať iniciovanie napísania novej pôvodnej slovenskej operety „Láska na Považí“ (Víťazoslav Kubička – Oľga Duhanová)\, ktorá mala premiéru v októbri 2015 a operety pre deti „Priadka\, čo pesničkou priadla“ (Michal Šintál – Oľga Duhanová)\, ktorá bude mať pódiovú premiéru 19. 6. 2022.\nMOB združuje špičkových profesionálnych hudobníkov\, ktorí sú členmi najvýznamnejších slovenských telies ako Slovenská filharmónia\, Symfonický orchester Slovenského rozhlasu a orchester Slovenského národného divadla.\nMOB je jediným neštátnym orchestrom na Slovensku\, ktorý má vlastnú koncertnú abonentnú sezónu. Môžete ho však počuť nielen na koncertných pódiách\, či vo vysielaní rozhlasu a televízie – vyhľadávajú ho aj organizátori reprezentačných plesov a významných firemných podujatí\, recepcií\, a pod. \nOd roku 2018 organizuje MOB každoročne Majstrovské operetné kurzy. Na nich – pod dohľadom najlepších medzinárodných operetných sólistov – rozširujú svoje obzory mladé slovenské operetné nádeje. V roku 2021 sa kurzov zúčastnili aj frekventanti zo zahraničia\, čím sa Majstrovské operetné kurzy stali medzinárodnou kultúrnou a vzdelávacou udalosťou. \n \nSnaha o rozšírenie repertoáru viedla aj k založeniu Metropolitného zboru Bratislava\, ktorého členovia prichádzajú z najlepšieho zboru na Slovensku – Slovenského filharmonického zboru. Umožňuje to prinášať poslucháčom i zriedkavé vokálno-inštrumentálne skladby v tej najvyššej kvalite. \nV roku 2009 založil MOB Čestné kuratórium. Členmi sa môžu stať významné osobnosti medzinárodného kultúrneho\, vedeckého a spoločenského života. Úlohou týchto osobností je stáť po boku orchestra\, pomáhať radou\, podporiť navonok ciele a tiež ich prezentovať na rôznych fórach doma i vo svete. Zatiaľ sa členmi stali legendárna speváčka Prof. Ks. Renate Holm (D\, A); hudobný skladateľ Prof. PhDr. Egon Krák ArtD. (SK); významný nemecký historik SKH Dr. Friedrich Wilhelm Prinz von Preußen (…………D); zakladateľ tradície Bratislavských novoročných koncertov JUDr. Ján Sabol\, najvýznamnejší pražský galerista PhDr. MgA. Miro Smolák (SK\, CZ); dirigenti Zdeněk Macháček (SK…)\, Leoš Svárovský (CZ)\, Emmanuel Villaume (F\, USA) a Kaspar Zehnder (CH).
URL:https://bratislavskykraj.sk/podujatie/prechadzka-operetnou-europou/
LOCATION:Dom kultúry Zrkadlový háj
CATEGORIES:Koncert
ATTACH;FMTTYPE=image/jpeg:https://bratislavskykraj.sk/wp-content/uploads/2022/06/orig-metropolitny-orchester-bratislava-melodie-z-cias-propeleru-2022.jpg
ORGANIZER;CN="Kult%C3%BArne zariadenia Petr%C5%BEalky":MAILTO:kzp@kzp.sk
END:VEVENT
BEGIN:VEVENT
DTSTART;TZID=Europe/Bratislava:20220612T170000
DTEND;TZID=Europe/Bratislava:20220612T183000
DTSTAMP:20260422T030627
CREATED:20220609T131728Z
LAST-MODIFIED:20220609T131728Z
UID:99690-1655053200-1655058600@bratislavskykraj.sk
SUMMARY:KONZERVATORISTI V PETRŽALKE
DESCRIPTION:koncertné vystúpenie študentov Konzervatória\, Tolstého 11 v Bratislave \nPozývame vás do CC Centra\, kde môžte príjemne stráviť nedeľný májový podvečer v komornom prostredí koncertnej siene\, pri kvalitnom hudobno-dramatickej vystúpení\, ktoré si pre vás pripravili študenti odboru spev a študenti odboru hudobno-dramatického umenia Konzervatória v Bratislave.
URL:https://bratislavskykraj.sk/podujatie/konzervatoristi-v-petrzalke/
LOCATION:CC Centrum
CATEGORIES:Koncert
ATTACH;FMTTYPE=image/jpeg:https://bratislavskykraj.sk/wp-content/uploads/2022/06/konzerva-squere2.jpg
ORGANIZER;CN="Kult%C3%BArne zariadenia Petr%C5%BEalky":MAILTO:kzp@kzp.sk
END:VEVENT
BEGIN:VEVENT
DTSTART;TZID=Europe/Bratislava:20220610T190000
DTEND;TZID=Europe/Bratislava:20220610T210000
DTSTAMP:20260422T030627
CREATED:20220609T120518Z
LAST-MODIFIED:20220609T124426Z
UID:99652-1654887600-1654894800@bratislavskykraj.sk
SUMMARY:FOLKLÓRNE ZRKADLENIE
DESCRIPTION:Kultúrne zariadenia Petržalky Vás pozývajú na vystúpenie Vysokoškolského folklórneho súboru GYMNIK a Detského folklórneho súboru LÚČKA v programe FOLKLÓRNE ZRKADLENIE. \nFolklórny súbor Gymnik vznikol v roku 1964 na podnet odbornej asistentky pani Hedy Šimonekovej pri Fakulte telesnej výchovy a športu UK v Bratislave. Názov „GYMNIK“ je odvodený z termínov gymnopédia (grécky bojový tanec)\, gymnos (cvičiť nahý)\, gymnikológia (náuka o telesných cvičeniach). \nSúbor dlhodobo patrí medzi najlepšie akademické folklórne súbory na Slovensku. Za roky svojej existencie sa v ňom vystriedalo viac ako 700 členov. Gymnik sa publiku predstavil na stovkách vystúpení doma i v zahraničí. Špecifikum súboru vyplýva z tradície prirodzených daností poslucháčov FTVŠ – šikovnosti\, obratnosti\, pohybovej zdatnosti\, ale aj hravosti a humoru. V repertoári súboru sú tance a tanečné bloky z mnohých regiónov Slovenska. Nesú rukopis choreografa Jána Blaha\, ale aj Juraja Hamara\, Petra Mezeia a iných choreografov mladšej generácie. Choreografie sa vyznačujú návratom k pôvodným zdrojom ľudového umenia so snahou o minimálnu štylizáciu. \nV súčasnosti má súbor 50 členov\, zväčša poslucháčov fakúlt Univerzity Komenského v Bratislave a bratislavských stredných škôl. Riaditeľom súboru je Štefan Gerhát. \nDetský folklórny súbor LÚČKA bol založený v roku 1985 v bratislavskej Petržalke.\nOdvtedy vychoval vyše 500 detí\, ktoré sa neskôr presadili aj vo vysokoškolských a profesionálnych folklórnych súboroch. \nCieľom súboru a jeho poslaním je zachovávať duchovné bohatstvo a tradície slovenského ľudu. \nNacvičuje tu počas roka 100 chlapcov a dievčat vo veku od 5 do 17 rokov. Nácviky majú dva až tri krát do týždňa. Súbor má naštudovaný celovečerný program pozostávajúci  z piesní a tancov z oblasti Liptova\, Záhoria\, Horehronia a Terchovej. Počas svojej existencie súbor absolvoval už viac ako 600 vystúpení doma i v zahraničí. Z tých najzaujímavejších môžeme spomenúť účinkovanie súboru na folklórnych festivaloch vo Východnej\, na Myjave\, v Prešove a iných. \nSúbor vystupoval v televíziách\, na akciách organizovaných Ministerstvom kultúry SR\, na benefičných koncertoch a na rôznych kultúrnych a spoločenských podujatiach v Bratislave i mimo nej. Deti úspešne reprezentovali slovenský folklór na medzinárodných folklórnych festivaloch a iných kultúrnych podujatiach aj v zahraničí\, a to v Maďarsku\, Turecku\, Francúzsku\, Dánsku\, Nemecku\, Egypte\, Rakúsku\, srbskej Vojvodine\, Chorvátsku\, Izraeli\, Česku\, Poľsku\, Bulharsku. \nZ mnohých regiónov Slovenska sme sa zamerali hlavne na oblasť Liptova\, Záhoria\, Horehronia a Terchovej. Tanečnou formou sa snažíme spracovať a zachovať pre ďalšie generácie piesne\, tance a ľudové zvyky z týchto regiónov. Zároveň sa však súbor stará o voľný čas\, kultúrne vyžitie a do určitej miery aj o výchovu aspoň malej skupiny bratislavských detí. \nProjekt realizovaný s finančnou podporou FPU
URL:https://bratislavskykraj.sk/podujatie/folklorne-zrkadlenie/
LOCATION:Dom kultúry Zrkadlový háj
CATEGORIES:Divadlo,Koncert,Predstavenie
ATTACH;FMTTYPE=image/jpeg:https://bratislavskykraj.sk/wp-content/uploads/2022/06/folklorne-zrkadlenie-gymnik-squere.jpg
ORGANIZER;CN="Kult%C3%BArne zariadenia Petr%C5%BEalky":MAILTO:kzp@kzp.sk
END:VEVENT
BEGIN:VEVENT
DTSTART;TZID=Europe/Bratislava:20220610T143000
DTEND;TZID=Europe/Bratislava:20220612T180000
DTSTAMP:20260422T030627
CREATED:20220530T074722Z
LAST-MODIFIED:20220530T081403Z
UID:98790-1654871400-1655056800@bratislavskykraj.sk
SUMMARY:Medzinárodný festival detských folklórnych súborov
DESCRIPTION:Malokarpatské osvetové stredisko Vás pozýva v dňoch 10. – 12. júna 2022\nna 24. ročník Medzinárodného festivalu detských folklórnych súborov\, ktorý už tradične organizuje Cech detských folklórnych súborov Bratislavy. \n \nNávštevníci festivalu si môžu v zaujímavom programe vychutnať krásne tance\na piesne v podaní detských folklórnych súborov nielen z celej Bratislavy a okolia\,\nale aj pozvaných súborov z iných regiónov Slovenska a zo zahraničia. V tomto ročníku vystúpia na festivale hostia z Popradu\, Vsetína a Beloveže.\nPiatkový festivalový deň zaháji v uliciach Starého mesta Bratislavy obľúbený krojovaný sprievod. Po slávnostnom otvorení tohto jedinečného podujatia sa účastníci festivalu predstavia návštevníkom v Galaprograme\, ktorý sa uskutoční\nna Hviezdoslavovom námestí v Bratislave. \nV rámci festivalového programu je pre hostí pripravená prehliadka pamätihodností Bratislavy a bratislavského regiónu. \nV sobotu vystúpia účastníci festivalu s programom súčasne v Malinove\na v Rači\, kde sa tiež oboznámia s miestnymi zaujímavosťami a pamiatkami\, a spolu\ns divákmi sa budú môcť zapojiť do tanečnej školy\, zakrepčiť si na tanečnej zábave\,\nči vyskúšať si svoju zručnosť v tradičných remeselných dielňach. \nFestivalové dni v nedeľu ukončí Galaprogram na Primaciálnom námestí\nv Bratislave. \nVšetci ste srdečne vítaní\, vstup je voľný. \nPodujatie z verejných zdrojov podporil Fond na podporu umenia.     \nViac informácií o Malokarpatskom osvetovom stredisku v Modre nájdete na www.moska.sk. \nZdroj: Malokarpatské osvetové stredisko v Modre
URL:https://bratislavskykraj.sk/podujatie/medzinarodny-festival-detskych-folklornych-suborov/
LOCATION:Bratislavský kraj\, Slovenská republika
CATEGORIES:Aktívne trávenie voľného času,Festival,Koncert,Predstavenie,Prehliadka
ATTACH;FMTTYPE=image/jpeg:https://bratislavskykraj.sk/wp-content/uploads/2022/05/mfdfs-bsk.jpg
ORGANIZER;CN="Malokarpatsk%C3%A9 osvetov%C3%A9 stredisko v Modre":MAILTO:mendlova@moska.sk
END:VEVENT
BEGIN:VEVENT
DTSTART;TZID=Europe/Bratislava:20201212T163000
DTEND;TZID=Europe/Bratislava:20201212T193000
DTSTAMP:20260422T030627
CREATED:20201209T122858Z
LAST-MODIFIED:20201209T122949Z
UID:56425-1607790600-1607801400@bratislavskykraj.sk
SUMMARY:Kto sa nehrá\, z kola von - Vianočný koncert + krst CD kapely Funny Fellows
DESCRIPTION:Najveselšie hudobné teleso\, ktoré vás pobaví a rozosmeje aj v dnešných časoch. Námorníci\, Hasiči\, Policajti\, Horári ale aj Golfisti\, to všetko obsahuje repertoár hosťujúcej kapely Funny Fellows-\nPríďte si do nášho divadla vychutnať vianočný koncert s pesničkami zo zbierky Tomáša Janovica.eerteÚčinkujú: Funny Fellows\, Csongor Kassai\, Helena Krajčiová\, Juraj Kemka\, Katarína Aulitisová\, Anka Šišková \, Bibiana Ondrejková\, Roman Féder.\nVeselé ale aj dôvtipné texty\, ktoré si môžete zaspievať a zároveň si odniesť domov na pokrstenom CD nosiči priamo s podpisom účinkujúcich.\n\nhttps://www.facebook.com/funfell\nhttps://www.funnyfellows.eu/\nVstupné: 6 €/osoba je možné zakúpiť elektronicky tu https://babkovedivadlo.maxiticket.sk/kto-sa-nehra-z-kola… alebo priamo v pokladni na Škultétyho 5.\nZ dôvodu epidemiologickej situácie a aktuálnych nariadení je počet miest v sále limitovaný na 50% a obsadzujeme miesta iba s voľným sedením. Prosíme návštevníkov o rešpektovanie opatrení a v hľadisku obsadzovali miesta tak\, aby medzi jednotlivými sedadlami boli zachované dostatočné rozostupy.
URL:https://bratislavskykraj.sk/podujatie/kto-sa-nehra-z-kola-von-vianocny-koncert-krst-cd-kapely-funny-fellows/
LOCATION:Bratislavské bábkové divadlo\, Dunajská 36\, Bratislava\, 81108
CATEGORIES:Koncert
ATTACH;FMTTYPE=image/jpeg:https://bratislavskykraj.sk/wp-content/uploads/2020/12/funny-fellows.jpg
ORGANIZER;CN="Bratislavsk%C3%A9 b%C3%A1bkov%C3%A9 divadlo":MAILTO:prevadzka@babkovedivadlo.sk
END:VEVENT
BEGIN:VEVENT
DTSTART;TZID=Europe/Bratislava:20201211T180000
DTEND;TZID=Europe/Bratislava:20201211T180000
DTSTAMP:20260422T030627
CREATED:20201201T121044Z
LAST-MODIFIED:20201201T121044Z
UID:55572-1607709600-1607709600@bratislavskykraj.sk
SUMMARY:GYPSY JAZZ FESTIVAL 2020 - Divadlo Aréna
DESCRIPTION:Deviaty ročník podujatia Gypsy Jazz Festival\, ktorého organizátorom je popredný slovenský saxofonista Milo Suchomel\, prinesie opäť veľa kvalitného jazzu\, nielen v „gypsy“ štýle. \nNa festivale tohto roku vystúpia: \nNový slovenský Jazz 2020\nLaura Jašková\, Alan Bartuš\, Andrej Farkaš\, Ján Rigó\, Ernest Vizváry\, Zsolt Farkas\nsupported by: Štefan Pišta Bartuš & David Hodek \nMilo Suchomel & ŠALEFUKY \nVanessa Šarközi & Miloš Biháry Gipsy Jazz Project \nAltar All Star Group\nNikolaj Nikitin & Ľuboš Šrámek feat. Kornél Fekete-Kovács\, Robert Balzar\, Martin Valihora\nspecial guest: Sisa Michalidesová \nErik Rothenstein & Babele Beat Band\nDominika Debnárová\, Michal Motýľ\, Ludovít Kotlár\, Pavol Bereza\, Matej Štubniak\, Marián Ševčík\nspecial guest: Balász Szokolay Dongó
URL:https://bratislavskykraj.sk/podujatie/gypsy-jazz-festival-2020-divadlo-arena/
LOCATION:Divadlo Aréna\, Viedenská cesta 10\, Bratislava\, 85101
CATEGORIES:Divadlo,Festival,Koncert
ATTACH;FMTTYPE=image/jpeg:https://bratislavskykraj.sk/wp-content/uploads/2020/12/gypsy-jazz-2020-da.jpg
ORGANIZER;CN="Divadlo Ar%C3%A9na":MAILTO:pokladna@divadloarena.sk
END:VEVENT
BEGIN:VEVENT
DTSTART;TZID=Europe/Bratislava:20200917T200000
DTEND;TZID=Europe/Bratislava:20200917T200000
DTSTAMP:20260422T030627
CREATED:20200910T073701Z
LAST-MODIFIED:20200910T073701Z
UID:47590-1600372800-1600372800@bratislavskykraj.sk
SUMMARY:ĽUBO ŠRÁMEK & HIS NANOSYMPHONY (Jazz v Aréne) - Divadlo Aréna
DESCRIPTION:Jazzový koncert medzinárodne uznávaného klaviristu\, skladateľa a hudobného producenta Ľuboša Šrámka a jeho projektu Nanosymphony. \nNanosymphony je originálny vokálno-inštrumentálny projekt\, pozostávajúci z mixtúry viacerých hudobných žánrov: R&B\, jazzu a súdobej vážnej hudby. Samotný názov prezrádza\, že ide o netradičné hudobné teleso\, akúsi „zmenšeninu“ symfonického orchestra za účasti R&B a soulovo-jazzovej rytmickej zložky. \nTeleso je zložené zo špičkových interpretov z oblasti jazzu aj vážnej hudby. Frontline-u tvoria dvaja až traja renomovaní speváci/speváčky. Autorom a zároveň lídrom projektu je medzinárodne uznávaný klavírista\, skladateľ a hudobný producent Ľuboš Šrámek.\nSúčasťou koncertu je krst autorovho posledného albumu Performances. \nÚčinkujú: Ľuboš Šrámek\, Pavol Bereza\, Juraj Griglák\, Martin Valihora\, Eugen Vizváry\, Nikolaj Nikitin\, Ondrej Juraši\, Barbora Kolářová\, Róbert Holota\, Branislav Dugovič\, Richard Karnok\, Karol Nitran\, Mucha Quartet\, Anita Soul
URL:https://bratislavskykraj.sk/podujatie/lubo-sramek-his-nanosymphony-jazz-v-arene-divadlo-arena/
LOCATION:Divadlo Aréna\, Viedenská cesta 10\, Bratislava\, 85101
CATEGORIES:Divadlo,Koncert
ATTACH;FMTTYPE=image/jpeg:https://bratislavskykraj.sk/wp-content/uploads/2020/09/jazz-v-arene-092020-da.jpg
ORGANIZER;CN="Divadlo Ar%C3%A9na":MAILTO:pokladna@divadloarena.sk
END:VEVENT
END:VCALENDAR