BEGIN:VCALENDAR
VERSION:2.0
PRODID:-//Bratislavskykraj.sk - ECPv6.15.20//NONSGML v1.0//EN
CALSCALE:GREGORIAN
METHOD:PUBLISH
X-WR-CALNAME:Bratislavskykraj.sk
X-ORIGINAL-URL:https://bratislavskykraj.sk
X-WR-CALDESC:Udalosti pre Bratislavskykraj.sk
REFRESH-INTERVAL;VALUE=DURATION:PT1H
X-Robots-Tag:noindex
X-PUBLISHED-TTL:PT1H
BEGIN:VTIMEZONE
TZID:Europe/Bratislava
BEGIN:DAYLIGHT
TZOFFSETFROM:+0100
TZOFFSETTO:+0200
TZNAME:CEST
DTSTART:20190331T010000
END:DAYLIGHT
BEGIN:STANDARD
TZOFFSETFROM:+0200
TZOFFSETTO:+0100
TZNAME:CET
DTSTART:20191027T010000
END:STANDARD
BEGIN:DAYLIGHT
TZOFFSETFROM:+0100
TZOFFSETTO:+0200
TZNAME:CEST
DTSTART:20200329T010000
END:DAYLIGHT
BEGIN:STANDARD
TZOFFSETFROM:+0200
TZOFFSETTO:+0100
TZNAME:CET
DTSTART:20201025T010000
END:STANDARD
BEGIN:DAYLIGHT
TZOFFSETFROM:+0100
TZOFFSETTO:+0200
TZNAME:CEST
DTSTART:20210328T010000
END:DAYLIGHT
BEGIN:STANDARD
TZOFFSETFROM:+0200
TZOFFSETTO:+0100
TZNAME:CET
DTSTART:20211031T010000
END:STANDARD
BEGIN:DAYLIGHT
TZOFFSETFROM:+0100
TZOFFSETTO:+0200
TZNAME:CEST
DTSTART:20220327T010000
END:DAYLIGHT
BEGIN:STANDARD
TZOFFSETFROM:+0200
TZOFFSETTO:+0100
TZNAME:CET
DTSTART:20221030T010000
END:STANDARD
BEGIN:DAYLIGHT
TZOFFSETFROM:+0100
TZOFFSETTO:+0200
TZNAME:CEST
DTSTART:20230326T010000
END:DAYLIGHT
BEGIN:STANDARD
TZOFFSETFROM:+0200
TZOFFSETTO:+0100
TZNAME:CET
DTSTART:20231029T010000
END:STANDARD
BEGIN:DAYLIGHT
TZOFFSETFROM:+0100
TZOFFSETTO:+0200
TZNAME:CEST
DTSTART:20240331T010000
END:DAYLIGHT
BEGIN:STANDARD
TZOFFSETFROM:+0200
TZOFFSETTO:+0100
TZNAME:CET
DTSTART:20241027T010000
END:STANDARD
END:VTIMEZONE
BEGIN:VEVENT
DTSTART;TZID=Europe/Bratislava:20230422T100000
DTEND;TZID=Europe/Bratislava:20230422T200000
DTSTAMP:20260423T155204
CREATED:20230330T155240Z
LAST-MODIFIED:20230330T155240Z
UID:121654-1682157600-1682193600@bratislavskykraj.sk
SUMMARY:SUSEDSKÝ DEŇ ZEME NA LÚKACH
DESCRIPTION:SUSEDSKÝ DEŇ ZEME NA LÚKACH  – 22.4.2023 \nKULTÚRNE ZARIADENIA PETRŽALKY počas Dňa Zeme a Svetového dňa stolného tenisu pre Vás pripravili  komunitné podujatie\, ktoré Vás nielen rozhýbe\, ale aj poučí. Poučí však nielen o krásach prírody a života\, ale aj o negatívnych veciach\, ktorými si ničíme našu planétu. \n   \nSusedský deň Zeme otvoríme Králičím hopom. Mobilné planetárium predstaví príbeh Život stromov a dozvieme sa\, ako to raší a funguje v rastlinnej ríši. Priaznivci stolného tenisu sa môžu tešiť na druhé športové priateľské zápolenia za zelenými stolmi v rámci Svetového dňa stolného tenisu. \nDeň ukončíme na vážnejšiu nôtu slovenskou premiérou dokumentárneho filmu „Svědectví: pravda\, která měla zůstat skryta„\, o veľkochove a malochove zvierat v ČR. \nPROGRAM / 10:00 – 20:00 / VSTUP VOĽNÝ \n10:00 – 12:00 / Okolie DK Lúky\n \nČistenie okolia DK Lúky \nPozývame obyvateľov\, dobrovoľníkov\, aby sa v spolupráci s miestnymi poslancami zapojili do skultúrnenia prostredia\, v ktorom žijeme. Odmenou bude krajšie okolie a pre každého aj chutné prekvapenie. \n10:00 – 16:00 / Priestor za DK Lúky \nExhibícia v Králičom hope \nŠport\, relax\, aj zábava\, to je Králičí hop. Súťažnú dvojicu bežiacu cez prekážky v disciplínach rovinka\, parkúr\, skok do výšky a skok do diaľky tvoria človek (vek od 7 rokov) a králik (vek od 5 mesiacov). \n \n13:00 – 14:00/ Komunitná záhrada\n \nS Petržalkou o Petržalke – diskusia o mestskej časti\, v ktorej žijeme a ktorú milujeme. \nmoderuje: Michal Sabo\, petržalský miestny poslanec a vicežupan BSK pre životné prostredie \ndebatujú: Iveta Jančoková a Michaela Kozáková\, petržalské vicestarostky\, Juraj Valocsay\, petržalský miestny poslanec \n15:00 – 20:00 / Telocvičňa DK Lúky \nPetržalská športová komunitná liga v stolnom tenise 2/2023 \npre AMATÉROV a HLAVNE SUSEDOV bez obmedzenia veku. Ide o komunitné podujatie\, ktorého cieľom je spojiť milovníkov stolného tenisu\, stretnúť starých priateľov alebo spoznať nových. ZAHRAŤ SI A MOŽNO AJ VYHRAŤ. Druhé športové priateľské stretnutie v tomto roku sa nesie v duchu Svetového dňa stolného tenisu\, ktorý sa od roku 2023 presúva na 23. apríla. \nPodujatie realizujeme pod záštitou starostu mestskej časti Bratislava-Petržalka Ing. Jána Hrčku \nNa turnaj je potrebná registrácia: dana.fabryova@kzp.sk do 19.04.2023 do 13:00.  \n14:15 – 15:00 / Registrácia účastníkov \n15:00 / Začiatok turnaja \n \n15:00 – 18:00 / Malá sála DK Lúky \nMobilné planetárium – Príbeh stromov \nZažite jedinečný príbeh s Lienkou Dorotkou\, Svetluškom Mirkom a Chrústom Toníkom o úchvatných javoch rastlinnej ríše. Pre deti od 3 rokov.\nProjekcie o 15:00\, 16:00\, 17:00. Maximálny počet na jedno premietanie 21 ľudí.\nPotrebná rezervácia: dkl@kzp.sk \n \n14:00 – 17:00 / Terasa pred DK Lúky \nDeti Petržalky  \nWorkshop pre deti aj rodičov. Maľba na veľkoformátové plátno – vymaľuj si Petržalku a obnova/premaľovanie “skákačiek“ na terase pred DK Lúky. \n \n15:00 – 16:00 / Kaviareň Art Café DK Lúky\n \nAko sa rozprávať s deťmi o problémoch životného prostredia  \nprednáška Lucie Szabovej z občianskeho združenia Znepokojené matky \n17:00 / Kaviareň Art Café DK Lúky \nLucia Piussi + Eva Turnová – TERRIBLE 2s\n \nkoncert \n \n \n18:00 / Kino Lúky/ vstupné 3 €\n \nSvědectví: pravda\, která měla zůstat skryta – SLOVENSKÁ PREMIÉRA!!! \n \nČeský dokument\, ktorý mal premiéru v roku 2022 v Česku\, na Slovensku však nebol film doteraz nikde premietaný \nRéžia: Michaela Vincourová\, Lukáš Vincour\, Věra Mikušová\, Petr Beneš\, Adele H.\nHrajú: Petr Vachler (rozprávač)\, Ben Cristovao\, Tereza Plicka\, Robert Plicka\, Magdalena Šormová\, Klára Vidličková\, Luboš Vidlička\, Aneta Marková\, Marie Šebestová\, Jan Müller\, Iva Linda Maruščáková\, Daniela Randáková\, Hana Klvanová \n \nDokument Svedectvo sa snaží odhaliť tušenú\, ale zámerne utajovanú pravdu o živočíšnom priemysle v susednej krajine.  V Českej republike sa vo veľkochovoch a malochovoch ročne zabije veľké množstvo zvierat (až 130 miliónov). Pomocou vzácnych záberov zo skrytej kamery investigatívne odhaľuje život zvierat za vysokými múrmi s ostnatými drôtami. Pomocou najsilnejšej stránky filmu sa autorom darí z masy živoriacich zvierat určených na produkciu mäsa vytvoriť konkrétnych a individuálnych jedincov\, ktorí cítia do posledného dychu. Dokument tak kladie mnoho otázok prenikajúcich až k podstate ľudskej kultúry a hodnoty ľudského života. \n  \n \nZmena programu vyhradená!
URL:https://bratislavskykraj.sk/podujatie/susedsky-den-zeme-na-lukach/
LOCATION:Dom kultúry Lúky
CATEGORIES:Aktívne trávenie voľného času,Beseda,Detské herne a čítačky,Film,Koncert,Ochrana životného prostredia,Prednáška,Predstavenie,Prehliadka,Súťaž,Workshop
ATTACH;FMTTYPE=image/jpeg:https://bratislavskykraj.sk/wp-content/uploads/2023/03/denzeme.jpg
ORGANIZER;CN="Kult%C3%BArne zariadenia Petr%C5%BEalky":MAILTO:kzp@kzp.sk
END:VEVENT
BEGIN:VEVENT
DTSTART;TZID=Europe/Bratislava:20230225T100000
DTEND;TZID=Europe/Bratislava:20230225T100000
DTSTAMP:20260423T155204
CREATED:20230207T083158Z
LAST-MODIFIED:20230207T141307Z
UID:118251-1677319200-1677319200@bratislavskykraj.sk
SUMMARY:Upracme Budmerice
DESCRIPTION:🌿 Milí priatelia 🌿\, \nOZ Spoznaj s nami svet 🌍 v spolupráci s obcou Budmerice 🏘 by Vás chcelo srdečne pozvať v SOBOTU 25. februára 2023 o 10:00 na plánovanú udalosť s názvom UPRACME BUDMERICE ❗️ \nMiesto stretnutia: oproti Družstvu \nIde o dobročinné podujatie 🧹 s cieľom odstrániť nahromadený odpadu ⚠️ na území obce Budmerice. Týmto činom by sme chceli aj našou troškou snahy prispieť ku kvalitnejšiemu životnému prostrediu v obci\, nie len pre všetkých súčasných obyvateľov\, ale aj pre budúce generácie ♻️. \nVítaní sú všetci nadšenci\, ktorým bije srdce pre čistú a zdravú prírodu. Akciu zakončíme chutným kotlíkovým gulášom 🍽\, pri ktorom môžeme predebatovať naše budúce vízie ako spoločne pomôcť k zlepšeniu životného prostredia. Budeme radi\, ak nám dáte vedieť\, či sa na akciu chytáte\, aby sme vedeli zaobstarať dostatok gulášiku a vecí. Samozrejme\, prísť môžete aj bez prihlásenia. \nVrecia\, rukavice\, zberače budú zabezpečené. \nLink na FB udalosť na našej stránke nájdete tu \n🌿 Tešíme sa na Vás. 🌿\nČlenovia tímu Spoznaj s nami svet
URL:https://bratislavskykraj.sk/podujatie/upracme-budmerice/
CATEGORIES:Ochrana životného prostredia
ATTACH;FMTTYPE=image/jpeg:https://bratislavskykraj.sk/wp-content/uploads/2023/02/upracme-budmerice.jpg
ORGANIZER;CN="OZ Spoznaj s nami svet":MAILTO:spoznajsnamisvet@gmail.com
END:VEVENT
BEGIN:VEVENT
DTSTART;TZID=Europe/Bratislava:20220826T173000
DTEND;TZID=Europe/Bratislava:20220826T200000
DTSTAMP:20260423T155204
CREATED:20220823T062605Z
LAST-MODIFIED:20220823T062605Z
UID:104098-1661535000-1661544000@bratislavskykraj.sk
SUMMARY:STROMORODIE/TREENCARNATION VERNISÁŽ
DESCRIPTION:Sochárske sympózium na Gessayovej so zámerom využiť vyrúbané stromy\, ktoré boli odstránené v súvislosti so stavbou električkovej trate v Petržalke na vytvorenie sochárskych diel. \nPiatok 26. 8. 2022\, 18:00 – slávnostná vernisáž \nMiesto konania sympózia: nábrežie Chorvátskeho ramena\, Gessayova\, Mestská časť Petržalka\, Bratislava \nHostia: Ján Hrčka (starosta MČ Petržalka)\, Jana Hrehorová (zástupkyňa starostu)\, Iveta Jančoková (zástupkyňa starostu)\, Pavol Škápik (poslanec MČ Petržalka) \nHudobný hosť: Hudobné zoskupenie MegaJazz. \n \nPROJEKT: \nProjekt sochárskeho sympózia priamo reaguje na aktuálnu potrebu kultivácie verejného priestoru z udržateľných zdrojov: znovuzrodenie (reinkarnácia) stromov = STROMORODIE/TREENCARNATION. \nZámer projektu je využiť vyrúbané stromy\, ktoré boli odstránené v súvislosti so stavbou električkovej trate v Petržalke na vytvorenie sochárskych diel. Časť stromov\, ktoré museli ustúpiť výstavbe\, tak získa šancu na „druhý život”: vrátia sa medzi obyvateľov v novej forme\, buď ako funkčné praktické prvky obohacujúce verejný priestor\, alebo ako umelecké diela\, dotvárajúce charakter daného miesta. \nPočas trvania sympózia budú mať obyvatelia možnosť sledovať umelcov pri práci\, porozprávať sa s nimi\, dokonca sa budú môcť deti aj dospelí zúčastniť tvorivých dielní. Sympózium bude zavŕšené slávnostnou vernisážou\, vzniknuté diela budú vystavené v areáli a po dostavaní električky budú umiestnené vo verejnom priestore v jej okolí. \nNa výzvu\, ktorú sme rozposlali\, zareagovali umelci zo Slovenska\, Rakúska\, Grécka\, Fínska\, Švédska\, dokonca aj Islandu. Veľmi sa tešíme na to\, keď sa všetci v polovici augusta stretneme v srdci Petržalky\, umelci vybalia svoje nástroje a kusy dreva pod ich rukami postupne ožijú. \n \nUMELCI: \n\nIstván Antal (Rakúsko)\nVinko Nino Jaeger (Rakúsko)\nElias Peltonen (Fínsko)\nMilja Ilona Salonen (Fínsko)\nZoe Theodorou (Grécko)\nAggelos Kotsiras (Grécko)\nKostis Sotiriou (Grécko)\nOlga Bergmann (Island)\nLars Apelmo (Švédsko)\nPer Brandstedt (Švédsko)\nAndrej Haršány (Slovensko)\nEmil Malecký (Slovensko)\nSoňa Halásová (Slovensko)\nMarek Štuller (Slovensko)\nAndrej Šoka (Slovensko)\n\n  \nSPOLUORGANIZÁTOR: Andrej Šoka \nKURÁTOR: Tereza Tomešová \nPR: Martina Šottová
URL:https://bratislavskykraj.sk/podujatie/stromorodie-treencarnation-vernisaz/
LOCATION:Bratislava-Petržalka\, Slovenská republika
CATEGORIES:Aktívne trávenie voľného času,Ochrana životného prostredia,Prehliadka,Výstava
ATTACH;FMTTYPE=image/jpeg:https://bratislavskykraj.sk/wp-content/uploads/2022/08/1661184515-8-1000-650-streomorodie-600x400-1.jpg
ORGANIZER;CN="Kult%C3%BArne zariadenia Petr%C5%BEalky":MAILTO:kzp@kzp.sk
END:VEVENT
BEGIN:VEVENT
DTSTART;TZID=Europe/Bratislava:20200912T083000
DTEND;TZID=Europe/Bratislava:20200912T150000
DTSTAMP:20260423T155204
CREATED:20200903T134816Z
LAST-MODIFIED:20200903T142306Z
UID:47010-1599899400-1599922800@bratislavskykraj.sk
SUMMARY:Veľké čistenie Malého Dunaja
DESCRIPTION:VEĽKÉ ČISTENIE MALÉHO DUNAJA \nPridajte sa k nám a pomôžte nám vyčistiť Malý Dunaj od odpadu\, ktorý do rieky a okolia nepatrí. \n12.9. 2020 v sobotu\, so začiatkom 8.30 v Jelke pri mlyne! \nRozdelíme vás na jednotlivé úseky\, kam vás zavezie autobus a po skončení čistenia vás odvezie späť do Jelky. \nVrecia\, guláš\, dobrú hudbu a kompletnú výstroj (kanoe\, pádla\, vesty) zabezpečíme my\, k dispozícii budú aj jednorazové tenké rukavice. \nNa akciu je potrebné sa vopred prihlásiť: \n\nprostredníctvom FB (poslaním správy)\nna mail info@klubmalydunaj.sk\nak ste skupina\, dohodnite sa a prihláste sa spolu\n\nAkcia je vhodná len pre tých\, ktorí už na vode boli – veľká časť odpadu je pod stromami\, v konároch a my potrebujeme vedieť\, že to bezpečne zvládnete.\nAhoj na vode!
URL:https://bratislavskykraj.sk/podujatie/velke-cistenie-maleho-dunaja/
LOCATION:Vodný kolový mlyn Jelka\, Vodný kolový mlyn Jelka 925 23 Jelka\, Slovenská republika
CATEGORIES:Aktívne trávenie voľného času,Ochrana životného prostredia,Športové podujatie
ATTACH;FMTTYPE=image/jpeg:https://bratislavskykraj.sk/wp-content/uploads/2020/09/159-kanoe-scaled.jpg
END:VEVENT
END:VCALENDAR