BEGIN:VCALENDAR
VERSION:2.0
PRODID:-//Bratislavskykraj.sk - ECPv6.15.20//NONSGML v1.0//EN
CALSCALE:GREGORIAN
METHOD:PUBLISH
X-WR-CALNAME:Bratislavskykraj.sk
X-ORIGINAL-URL:https://bratislavskykraj.sk
X-WR-CALDESC:Udalosti pre Bratislavskykraj.sk
REFRESH-INTERVAL;VALUE=DURATION:PT1H
X-Robots-Tag:noindex
X-PUBLISHED-TTL:PT1H
BEGIN:VTIMEZONE
TZID:Europe/Bratislava
BEGIN:DAYLIGHT
TZOFFSETFROM:+0100
TZOFFSETTO:+0200
TZNAME:CEST
DTSTART:20230326T010000
END:DAYLIGHT
BEGIN:STANDARD
TZOFFSETFROM:+0200
TZOFFSETTO:+0100
TZNAME:CET
DTSTART:20231029T010000
END:STANDARD
BEGIN:DAYLIGHT
TZOFFSETFROM:+0100
TZOFFSETTO:+0200
TZNAME:CEST
DTSTART:20240331T010000
END:DAYLIGHT
BEGIN:STANDARD
TZOFFSETFROM:+0200
TZOFFSETTO:+0100
TZNAME:CET
DTSTART:20241027T010000
END:STANDARD
BEGIN:DAYLIGHT
TZOFFSETFROM:+0100
TZOFFSETTO:+0200
TZNAME:CEST
DTSTART:20250330T010000
END:DAYLIGHT
BEGIN:STANDARD
TZOFFSETFROM:+0200
TZOFFSETTO:+0100
TZNAME:CET
DTSTART:20251026T010000
END:STANDARD
BEGIN:DAYLIGHT
TZOFFSETFROM:+0100
TZOFFSETTO:+0200
TZNAME:CEST
DTSTART:20260329T010000
END:DAYLIGHT
BEGIN:STANDARD
TZOFFSETFROM:+0200
TZOFFSETTO:+0100
TZNAME:CET
DTSTART:20261025T010000
END:STANDARD
BEGIN:DAYLIGHT
TZOFFSETFROM:+0100
TZOFFSETTO:+0200
TZNAME:CEST
DTSTART:20270328T010000
END:DAYLIGHT
BEGIN:STANDARD
TZOFFSETFROM:+0200
TZOFFSETTO:+0100
TZNAME:CET
DTSTART:20271031T010000
END:STANDARD
END:VTIMEZONE
BEGIN:VEVENT
DTSTART;TZID=Europe/Bratislava:20260321T170000
DTEND;TZID=Europe/Bratislava:20260321T170000
DTSTAMP:20260421T071414
CREATED:20260219T110826Z
LAST-MODIFIED:20260219T110826Z
UID:172943-1774112400-1774112400@bratislavskykraj.sk
SUMMARY:MET Opera: TRISTAN A IZOLDA - Divadlo Aréna
DESCRIPTION:Strhujúci výkon Lise Davidsen\, ktorá sa ujíma jednej z vrcholných úloh dramatického sopránu – írskej princeznej Izoldy v transcendentnom Wagnerovej príbehu o láske a smrti. \nNová inscenácia v réžii Yuvala Sharona\, pre ktorého ide o debut v Metropolitnej opere – The New York Times ho označili za „najvizionárskejšieho operného režiséra svojej generácie“ a stal sa prvým Američanom\, ktorý režíroval operu na slávnom Wagnerovom festivale v Bayreuthe. \nHrdinský tenorista Michael Spyres vystupuje po boku Lise Davidsen v úlohe láskou poblúzneného Tristana. Pod taktovkou dirigenta Yannicka Nézet-Séguiniho sa ďalej predstaví mezzosopranistka Ekaterina Gubanova v úlohe Brangäny\, basbarytonista Tomasz Konieczny stvárni Kurwenala a basbarytonista Ryan Speedo Green debutuje v úlohe kráľa Marka. \nOpera je spievaná v nemeckom jazyku a priamy prenos obsahuje anglické a slovenské titulky.
URL:https://bratislavskykraj.sk/podujatie/met-opera-tristan-a-izolda-divadlo-arena/
LOCATION:Divadlo Aréna\, Viedenská cesta 10\, Bratislava\, 85101
CATEGORIES:Divadlo,Opera
ATTACH;FMTTYPE=image/jpeg:https://bratislavskykraj.sk/wp-content/uploads/2026/02/met-tristan-a-izolda-da.jpg
ORGANIZER;CN="Divadlo Ar%C3%A9na":MAILTO:pokladna@divadloarena.sk
END:VEVENT
BEGIN:VEVENT
DTSTART;TZID=Europe/Bratislava:20260228T190000
DTEND;TZID=Europe/Bratislava:20260228T190000
DTSTAMP:20260421T071414
CREATED:20260119T113656Z
LAST-MODIFIED:20260119T113656Z
UID:171172-1772305200-1772305200@bratislavskykraj.sk
SUMMARY:MET Opera: PURITÁNI - Divadlo Aréna
DESCRIPTION:Pokiaľ ide o nádherné melódie\, očarujúcu koloratúru a virtuózne vokály\, operný titul Vincenza Belliniho\, Puritáni\, má len málo rovnocenných diel. \nNová inscenácia záverečného majstrovského diela Vincenza Belliniho v réžii a scénografii Charlesa Edwardsa\, ktorý po mnohých úspechoch ako scénograf zažije svoj režijný debut v Metropolitnej opere. \nPod taktovkou dirigenta Marca Armiliata sa v mimoriadne náročných hlavných úlohách predstaví operné obsadenie svetového formátu. Sopranistka Lisette Oropesa a tenorista Lawrence Brownlee stvárnia Elviru a Artura\, ktorých spája láska\, no rozdeľuje politika anglickej občianskej vojny. Barytonista Artur Ruciński vystupuje ako Riccardo\, zasnúbený s Elvirou proti jej vôli\, a basbarytonista Christian Van Horn ako jej súcitný strýko Giorgio. \nOpera je spievaná v taliančine a priamy prenos obsahuje anglické a slovenské titulky.
URL:https://bratislavskykraj.sk/podujatie/met-opera-puritani-divadlo-arena-2/
LOCATION:Divadlo Aréna\, Viedenská cesta 10\, Bratislava\, 85101
CATEGORIES:Opera,Predstavenie
ATTACH;FMTTYPE=image/jpeg:https://bratislavskykraj.sk/wp-content/uploads/2025/12/met-puritani-da.jpg
ORGANIZER;CN="Divadlo Ar%C3%A9na":MAILTO:pokladna@divadloarena.sk
END:VEVENT
BEGIN:VEVENT
DTSTART;TZID=Europe/Bratislava:20260207T180000
DTEND;TZID=Europe/Bratislava:20260207T180000
DTSTAMP:20260421T071414
CREATED:20260119T114140Z
LAST-MODIFIED:20260119T114140Z
UID:171174-1770487200-1770487200@bratislavskykraj.sk
SUMMARY:MET Opera: POPOLUŠKA - Divadlo Aréna
DESCRIPTION:Popoluška s nevídanou láskavosťou a ušľachtilosťou prekonáva krivdu zo strany svojej nevlastnej rodiny a s pomocou čarovnej víly získava šancu na nový život\, keď si získa srdce kráľovského nápadníka\, aby žila šťastne až do smrti. \nOperný titul v réžii Laurenta Pellyho doslova privádza tento slávny knižný príbeh k životu. Scéna evokuje stránky knihy – steny sú tvorené čiernobielym textom a postavy či rekvizity sa javia ako veľké vystrihnuté písmená. Inscenácia v sebe spája humor\, ale aj temnotu a napätie a vytvára podmanivú\, magickú scénu oživenú výraznými postavami a precíznym dizajnom. \nV úlohe Popolušky\, ktorá sa z chudobného dievčaťa premení na princeznú\, sa predstaví mezzosopranistka Isabel Leonard. Dirigent Emmanuel Villaume povedie spevácke obsadenie\, v ktorom účinkujú mezzosopranistka Emily D’Angelo ako princ\, sopranistka Jessica Pratt ako krstná víla a mezzosopranistka Stephanie Blythe spolu s basbarytonistom Laurentom Naourim ako poručníci Popolušky. \nRozprávková inscenácia od autorky Jules  Massenetovej\, ktorá zožala úspech v sezóne 2017 – 2018\, sa vracia v úplne novom anglickom preklade a skrátenej 90-minútovej verzii. Záznam obsahuje anglické a slovenské titulky.
URL:https://bratislavskykraj.sk/podujatie/met-opera-popoluska-divadlo-arena/
LOCATION:Divadlo Aréna\, Viedenská cesta 10\, Bratislava\, 85101
CATEGORIES:Opera,Predstavenie
ATTACH;FMTTYPE=image/jpeg:https://bratislavskykraj.sk/wp-content/uploads/2026/01/met-popoluska-da.jpg
ORGANIZER;CN="Divadlo Ar%C3%A9na":MAILTO:pokladna@divadloarena.sk
END:VEVENT
BEGIN:VEVENT
DTSTART;TZID=Europe/Bratislava:20260110T190000
DTEND;TZID=Europe/Bratislava:20260110T190000
DTSTAMP:20260421T071414
CREATED:20251218T174823Z
LAST-MODIFIED:20251218T174823Z
UID:169605-1768071600-1768071600@bratislavskykraj.sk
SUMMARY:MET Opera: PURITÁNI - Divadlo Aréna
DESCRIPTION:Pokiaľ ide o nádherné melódie\, očarujúcu koloratúru a virtuózne vokály\, operný titul Vincenza Belliniho\, Puritáni\, má len málo rovnocenných diel. \nNová inscenácia záverečného majstrovského diela Vincenza Belliniho v réžii a scénografii Charlesa Edwardsa\, ktorý po mnohých úspechoch ako scénograf zažije svoj režijný debut v Metropolitnej opere. \nPod taktovkou dirigenta Marca Armiliata sa v mimoriadne náročných hlavných úlohách predstaví operné obsadenie svetového formátu. Sopranistka Lisette Oropesa a tenorista Lawrence Brownlee stvárnia Elviru a Artura\, ktorých spája láska\, no rozdeľuje politika anglickej občianskej vojny. Barytonista Artur Ruciński vystupuje ako Riccardo\, zasnúbený s Elvirou proti jej vôli\, a basbarytonista Christian Van Horn ako jej súcitný strýko Giorgio. \nOpera je spievaná v taliančine a priamy prenos obsahuje anglické a slovenské titulky.
URL:https://bratislavskykraj.sk/podujatie/met-opera-puritani-divadlo-arena/
LOCATION:Divadlo Aréna\, Viedenská cesta 10\, Bratislava\, 85101
CATEGORIES:Opera
ATTACH;FMTTYPE=image/jpeg:https://bratislavskykraj.sk/wp-content/uploads/2025/12/met-puritani-da.jpg
ORGANIZER;CN="Divadlo Ar%C3%A9na":MAILTO:pokladna@divadloarena.sk
END:VEVENT
BEGIN:VEVENT
DTSTART;TZID=Europe/Bratislava:20251213T190000
DTEND;TZID=Europe/Bratislava:20251213T190000
DTSTAMP:20260421T071414
CREATED:20251114T170149Z
LAST-MODIFIED:20251114T170149Z
UID:168288-1765652400-1765652400@bratislavskykraj.sk
SUMMARY:MET Opera: ANDREA CHÉNIER - Divadlo Aréna
DESCRIPTION:Strhujúca tragédia Umberta Giordana v hlavnej úlohe s tenoristom Piotrom Beczałom\, čestným básnikom\, ktorý sa stane obeťou intríg a násilia Francúzskej revolúcie. \nTragédia spája verizmus so zameraním na surové emócie obyčajných ľudí s veľkoleposťou historickej grand opery. Spojenie hudby a textu je ukážkové. \nDej sa odohráva v Paríži uprostred dramatických a búrlivých udalostí Francúzskej revolúcie. Zameraním sa na jednotlivcov\, ktorí sa ocitli vo víre historickej drámy\, je opera zároveň hlboko ľudská aj veľkolepo epická. Hlavná postava vychádza z idealizovanej predstavy o živote a smrti básnika Andrého Chéniera (1762 – 1794). \nV hlavnej úlohe čestného básnika\, ktorý sa stane obeťou intríg a násilia Francúzskej revolúcie\, Andrea Chénier\, sa predstaví tenorista Piotr Beczała. Jeho aristoktatickú milenku\, Maddalenu di Coigny\, stvárni Sonya Yoncheva. Barytonista Igor Golovatenko sa predstaví ako Carlo Gérard\, predstaviteľ vlády teroru\, spečatí ich osudy. \nPútavej produkcie Nicolasa Joëla sa ako hlavný dirigent ujme Daniele Rustioni.
URL:https://bratislavskykraj.sk/podujatie/met-opera-andrea-chenier-divadlo-arena/
LOCATION:Divadlo Aréna\, Viedenská cesta 10\, Bratislava\, 85101
CATEGORIES:Divadlo,Opera
ATTACH;FMTTYPE=image/jpeg:https://bratislavskykraj.sk/wp-content/uploads/2025/11/met-andrea-chenier-da.jpg
ORGANIZER;CN="Divadlo Ar%C3%A9na":MAILTO:pokladna@divadloarena.sk
END:VEVENT
BEGIN:VEVENT
DTSTART;TZID=Europe/Bratislava:20251206T180000
DTEND;TZID=Europe/Bratislava:20251206T180000
DTSTAMP:20260421T071414
CREATED:20251114T165247Z
LAST-MODIFIED:20251114T165247Z
UID:168279-1765044000-1765044000@bratislavskykraj.sk
SUMMARY:MET Opera: ČAROVNÁ FLAUTA - Divadlo Aréna
DESCRIPTION:Metropolitná opera vstúpila do histórie v decembri 2006\, keď po prvýkrát predstavila priamy prenos zo série Live in HD do divadiel po celom svete – skrátenú anglickú verziu Mozartovej opery Čarovná flauta. V novej sezóne sa inscenácia vracia v špeciálnom reprízovom uvedení. \nRozprávkový operný titul pod réžiou Julie Taymor plynulo prechádza medzi prostoduchým humorom a ušľachtilým mysticizmom a je rozprávaný vo forme spevohry\, ktorá ideálne vystihuje rozmanité nálady diela oscilujúce medzi vážnosťou a ľahkosťou\, rovnako v deji ako aj v hudbe. \nMiestom deja je Egypt – krajina\, ktorá bola považovaná za legendárnu kolísku slobodomurárstva\, pričom symboly a rituály tohto bratstva sú v opere výrazne prítomné. Mytologická atmosféra vystihuje nadpozemskosť\, akú si vyžaduje Mozartova hudba aj celkový tón diela. Najpopulárnejšie operné melódie\, farebné kulisy\, kostýmy a očarujúce bábky robia inscenáciu vhodnú pre divákov všetkých vekových kategórií. \nV bájnom svete medzi slnkom a mesiacom dostane princ Tamino od Kráľovnej noci úlohu zachrániť jej dcéru Paminu\, ktorú údajne uniesol zlý Sarastro. Spolu s lovcom vtákov Papagenom sa vydávajú na cestu\, vybavení čarovnou flautou a magickými zvončekmi. Postupne však Tamino zistí\, že Sarastro nie je nepriateľ\, ale múdry vodca\, a že skutočné zlo predstavuje Kráľovná noc.
URL:https://bratislavskykraj.sk/podujatie/met-opera-carovna-flauta-divadlo-arena/
LOCATION:Divadlo Aréna\, Viedenská cesta 10\, Bratislava\, 85101
CATEGORIES:Divadlo,Opera
ATTACH;FMTTYPE=image/jpeg:https://bratislavskykraj.sk/wp-content/uploads/2025/11/met-carovna-flauta-da.jpg
ORGANIZER;CN="Divadlo Ar%C3%A9na":MAILTO:pokladna@divadloarena.sk
END:VEVENT
BEGIN:VEVENT
DTSTART;TZID=Europe/Bratislava:20251122T190000
DTEND;TZID=Europe/Bratislava:20251122T190000
DTSTAMP:20260421T071414
CREATED:20251021T090702Z
LAST-MODIFIED:20251021T090702Z
UID:167021-1763838000-1763838000@bratislavskykraj.sk
SUMMARY:MET Opera: ARABELLA - Divadlo Aréna
DESCRIPTION:Straussova elegantná romanca prináša pôvod a čaro Viedne 19. storočia v honosnej produkcii legendárneho režiséra Otta Schenka\, ktorá je taká krásna\, akú si len možno priať. \nRomantická komédia Arabella bola poslednou spoluprácou Richarda Straussa s libretistom Hugom von Hofmannsthalom. Hoci obsahuje prvky opernej frašky\, dielo si zachováva mimoriadnu eleganciu a postavy prechádzajú emocionálnym vývojom\, ktorý je dojímavý a presvedčivý. Úprimná\, čistá a dobrosrdečná hlavná hrdinka Arabella patrí medzi najpríťažlivejšie a najuveriteľnejšie postavy operného repertoáru. \nDej je zasadený do Viedne 19. storočia\, keď upadajúca šľachta vlastníkov pôdy zápasí s udržiavaním spoločenského postavenia a vonkajšieho lesku\, zatiaľ čo sa stráca v rýchlo sa meniacej\, modernej a mestsky orientovanej spoločnosti. Táto historická situácia poháňa dramatický konflikt a poskytuje kontext pre osobné i spoločenské dilemy postáv. \nHlavnú hrdinku Arabellu\, mladú šľachtičnú\, ktorá hľadá lásku podľa vlastných predstáv\, stvárňuje sopranistka Rachel Willis-Sørensen a jej sestru Zdenku sopranistka Louise Alder. Basbarytonista Tomasz Konieczny predstavuje Mandryka\, grófa\, ktorého čaro Arabellu úplne omámi.
URL:https://bratislavskykraj.sk/podujatie/met-opera-arabella-divadlo-arena/
LOCATION:Divadlo Aréna\, Viedenská cesta 10\, Bratislava\, 85101
CATEGORIES:Divadlo,Opera
ATTACH;FMTTYPE=image/jpeg:https://bratislavskykraj.sk/wp-content/uploads/2025/10/met-arabella-da.jpg
ORGANIZER;CN="Divadlo Ar%C3%A9na":MAILTO:pokladna@divadloarena.sk
END:VEVENT
BEGIN:VEVENT
DTSTART;TZID=Europe/Bratislava:20251108T190000
DTEND;TZID=Europe/Bratislava:20251108T190000
DTSTAMP:20260421T071414
CREATED:20251015T102107Z
LAST-MODIFIED:20251015T103945Z
UID:166815-1762628400-1762628400@bratislavskykraj.sk
SUMMARY:MET Opera: BOHÉMA - Divadlo Aréna
DESCRIPTION:Priamy prenos z Metropolitnej Opery v New Yorku. \nOpera Giacoma Pucciniho\, najpopulárnejšia opera sveta\, so svojím čarovným prostredím a podmanivou hudbou je rovnako nadčasová\, ako srdcervúca. \nDokonalá produkcia Franca Zeffirelliho prináša na javisko Metropolitnej opery Paríž 19. storočia\, kde mladí priatelia a milenci Pucciniho prežívajú radosť i útrapy bohémskeho života. \nVášnivý\, nadčasový a nezabudnuteľný príbeh lásky mladých umelcov v Paríži\, si právom nárokuje titul najobľúbenejšej opery všetkých čias. Má jedinečnú schopnosť urobiť silný prvý dojem a zároveň odhaliť nové detaily aj po desiatkach vypočutí. Na prvý pohľad je Bohéma dokonalým obrazom radosti a smútku zo zamilovanosti a straty. Pri hlbšom pohľade však odhaľuje silný citový význam ukrytý v zdanlivo bezvýznamných veciach – v čepci\, starom kabáte či náhodnom stretnutí so susedom\, ktoré tvoria každodenný život. \nDej opery Bohéma sa odohráva v Paríži 19. storočia\, čo nie je náhodné – toto obdobie odráža spoločenské zmeny po revolúciách a vojnách\, keď francúzski umelci stratili tradičných mecenášov z radov šľachty a cirkvi. Príbeh sleduje mladých ľudí\, ktorí sa vedome stavajú proti väčšinovej spoločnosti – vzniká tak prostredie bohémskeho života\, ktoré je dodnes rozpoznateľné v mnohých mestách. Operný titul Giacoma Pucciniho Bohéma zachytáva túto atmosféru už v jej začiatkoch. \nSopranistka Juliana Grigoryan stvárňuje krajčírku Mimì\, po boku tenoristu Freddieho De Tommasa ako vášnivého básnika Rodolfa. Operné dielo povedie dirigentka Keri-Lynn Wilson. \nVstupenky si môžete zakúpiť online prostredníctvom stránky www.divadloarena.sk\, alebo osobne počas otváracích hodín pokladne Divadla Aréna na Viedenskej ceste 10 v Bratislave.
URL:https://bratislavskykraj.sk/podujatie/met-opera-bohema-divadlo-arena/
LOCATION:Divadlo Aréna\, Viedenská cesta 10\, Bratislava\, 85101
CATEGORIES:Divadlo,Opera
ATTACH;FMTTYPE=image/jpeg:https://bratislavskykraj.sk/wp-content/uploads/2025/10/met-bohema-da.jpg
ORGANIZER;CN="Divadlo Ar%C3%A9na":MAILTO:pokladna@divadloarena.sk
END:VEVENT
BEGIN:VEVENT
DTSTART;TZID=Europe/Bratislava:20251025T190000
DTEND;TZID=Europe/Bratislava:20251025T190000
DTSTAMP:20260421T071414
CREATED:20250826T090642Z
LAST-MODIFIED:20251015T105722Z
UID:164566-1761418800-1761418800@bratislavskykraj.sk
SUMMARY:MET Opera: NÁMESAČNÁ- Divadlo Aréna
DESCRIPTION:Priamy prenos z Metropolitnej opery v New Yorku. Operný klenot Vincenza Belliniho\, jedného z najväčších majstrov melódie\, je vrcholom výnimočného vokálneho majstrovstva. \nDej opery sa odohráva v dedinke vo švajčiarskych Alpách\, zámerne bájnom\, no pritom uveriteľnom prostredí\, ktoré odráža rovnováhu príbehu medzi realitou a snovým svetom. Režisér Rolando Villazón využíva jej dej na skúmanie citových a psychologických hlbín ľudskej mysle. Operný titul Námesačná je hlbší než komédia\, no rozhodne nie tragédia – svoj záver dosahuje prostredníctvom úprimného a dojemného vývoja postáv\, nie intrigami či fraškou. \nNadine Sierra dosahuje ďalší vrchol sopránového repertoáru v úlohe Aminy\, ktorá si v Belliniho dojímavom príbehu stratenej a znovu nájdenej láske získava srdcia divákov. Tenorista Xabier Anduaga stvárňuje snúbenca Aminy\, Elvina\, po boku sopranistky Sydney Mancasoly v úlohe jej sokyne Lisy a basistu Alexandra Vinogradova ako grófa Rodolfa. \nV jednom z najúchvatnejších diel opernej literatúry sa dirigentskej taktovky ujme Riccardo Frizza.
URL:https://bratislavskykraj.sk/podujatie/met-opera-namesacna-divadlo-arena/
LOCATION:Divadlo Aréna\, Viedenská cesta 10\, Bratislava\, 85101
CATEGORIES:Divadlo,Opera
ATTACH;FMTTYPE=image/jpeg:https://bratislavskykraj.sk/wp-content/uploads/2025/08/namesacna.jpg
ORGANIZER;CN="Divadlo Ar%C3%A9na":MAILTO:pokladna@divadloarena.sk
END:VEVENT
BEGIN:VEVENT
DTSTART;TZID=Europe/Bratislava:20250615T190000
DTEND;TZID=Europe/Bratislava:20250615T190000
DTSTAMP:20260421T071414
CREATED:20250519T120902Z
LAST-MODIFIED:20250611T082349Z
UID:161000-1750014000-1750014000@bratislavskykraj.sk
SUMMARY:MET Opera: GROUNDED - Divadlo Aréna (ZRUŠENÉ)
DESCRIPTION:Metropolitná opera v New Yorku pripravila premiéru novej a prestížnou cenou Tony ovenčenej opery americkej skladateľky Jeanine Tesori pod názvom Grounded (Uzemnená). \nKanadská mezzosopranistka Emily D’Angelo stvárni rolu bojovej pilotky\, ktorá sa kvôli neplánovanému tehotenstvu musí presunúť z kokpitu stíhačky na zem do Las Vegas\, odkiaľ riadi bezpilotné lietadlo Reaper. Operné obsadenie dopĺňa americký tenorista Ben Bliss v roli wyomingského rančera Erika. \nV réžii Michaela Mayera opera predkladá divákovi rôzne pohľady na aktuálny príbeh morálnych dilem. Kaleidoskopické operné dielo Jeanine Tesori uvedie orchester Metropolitnej opery pod taktovkou jej hudobného riaditeľa Yannicka Nézet-Séguina.
URL:https://bratislavskykraj.sk/podujatie/met-opera-grounded-divadlo-arena-2/
LOCATION:Divadlo Aréna\, Viedenská cesta 10\, Bratislava\, 85101
CATEGORIES:Divadlo,Opera
ATTACH;FMTTYPE=image/jpeg:https://bratislavskykraj.sk/wp-content/uploads/2025/05/grounded-met.jpg
ORGANIZER;CN="Divadlo Ar%C3%A9na":MAILTO:pokladna@divadloarena.sk
END:VEVENT
BEGIN:VEVENT
DTSTART;TZID=Europe/Bratislava:20250531T190000
DTEND;TZID=Europe/Bratislava:20250531T190000
DTSTAMP:20260421T071414
CREATED:20250422T130340Z
LAST-MODIFIED:20250422T130340Z
UID:159481-1748718000-1748718000@bratislavskykraj.sk
SUMMARY:MET Opera: BARBIER ZO SEVILLY - Divadlo Aréna
DESCRIPTION:Jedna z najúspešnejších Rossiniho komédií. Chytľavé melódie sprevádzajú dôvtipného sluhu Figara a jeho pána – grófa Almavivu\, ktorí chcú získať pre zamilovaného grófa krásnu Rosinu\, napriek všetkým nástrahám… \nRuská mezzosopranistka Aigul Akhmetshina debutuje v Metropolitnej opere ako divoká hrdinka Rosina po boku amerického tenoristu Jacka Swansona\, ktorý stvárňuje jej tajného milenca\, grófa Almaviva. Postavu Figara\, geniálneho holiča zo Sevilly hrá moldavský barytonista Andrey Zhilikhovsky. Hlavné obsadenie dopĺňa maďarský basbarytonista Peter Kálmán ako Dr. Bartolo a ruský basista Alexander Vinogradov ako Don Basilio. \nŠialenú produkciu Bartletta Shera diriguje Giacomo Sagripanti.
URL:https://bratislavskykraj.sk/podujatie/met-opera-barbier-zo-sevilly-divadlo-arena/
LOCATION:Divadlo Aréna\, Viedenská cesta 10\, Bratislava\, 85101
CATEGORIES:Divadlo,Opera
ATTACH;FMTTYPE=image/jpeg:https://bratislavskykraj.sk/wp-content/uploads/2025/04/met-barbier-zo-sevilly-da.jpg
ORGANIZER;CN="Divadlo Ar%C3%A9na":MAILTO:pokladna@divadloarena.sk
END:VEVENT
BEGIN:VEVENT
DTSTART;TZID=Europe/Bratislava:20250517T190000
DTEND;TZID=Europe/Bratislava:20250517T190000
DTSTAMP:20260421T071414
CREATED:20250422T115157Z
LAST-MODIFIED:20250422T122938Z
UID:159445-1747508400-1747508400@bratislavskykraj.sk
SUMMARY:MET Opera: SALOME - Divadlo Aréna
DESCRIPTION:Expresívna\, krátka a šokujúca. Taká je Straussova opera Salome podľa hry Oscara Wilda. Príbeh inšpirovaný Bibliou o pôvabnej Salome\, dcére kráľa Heroda\, a jej obsesívnej láske k prorokovi Jochanaanovi vyvolal pri svojej premiére poriadny škandál. \nNovú produkciu Straussovej opery Salome režíroval Claus Guth\, jeden z popredných európskych operných režisérov. Biblickému príbehu Jána Krstiteľa a Salome dodal atmosféru viktoriánskej éry. \nJuhoafrická sopranistka Elza van den Heeverová sa predstaví v úlohe zneužívanej a neviazanej antihrdinky. Uväzneného proroka Jochanaana stvárni švédsky barytonista Peter Mattei. Medzinárodné spevácke obsadenie doplní nemecký tenorista Gerhard Siegel ako Salomin chlípny nevlastný otec – kráľ Herodes\, americká mezzosopranistka Michelle DeYoung ako jeho manželka Herodias a poľský tenor Piotr Buszewski ako Narraboth. \nVstupenky si môžete zakúpiť online prostredníctvom stránky www.divadloarena.sk\, alebo osobne počas otváracích hodín pokladne Divadla Aréna na Viedenskej ceste 10 v Bratislave.
URL:https://bratislavskykraj.sk/podujatie/met-opera-salome-divadlo-arena/
LOCATION:Divadlo Aréna\, Viedenská cesta 10\, Bratislava\, 85101
CATEGORIES:Divadlo,Opera
ATTACH;FMTTYPE=image/jpeg:https://bratislavskykraj.sk/wp-content/uploads/2025/04/met-salome-da.jpg
ORGANIZER;CN="Divadlo Ar%C3%A9na":MAILTO:pokladna@divadloarena.sk
END:VEVENT
BEGIN:VEVENT
DTSTART;TZID=Europe/Bratislava:20250426T190000
DTEND;TZID=Europe/Bratislava:20250426T190000
DTSTAMP:20260421T071414
CREATED:20250317T091512Z
LAST-MODIFIED:20250422T130217Z
UID:157705-1745694000-1745694000@bratislavskykraj.sk
SUMMARY:MET Opera: FIGAROVA SVADBA - Divadlo Aréna
DESCRIPTION:Jedno z najhranejších diel svetovej opernej literatúry. Mozartova Figarova svadba je komická opera v štyroch dejstvách\, ktorej dej sa odohráva v 18. storočí na vidieckom šľachtickom sídle v Španielsku. \nDirigentka Joana Mallwitz sa vo svojom debute v Metropolitnej opere postavila na pódium\, aby dirigovala  Mozartovu nadčasovú komickú operu s hviezdnym obsadením. \nAmerický basbarytonista Michael Sumuel ako šikovný komorník Figaro\, ukrajinská sopranistka Olga Kulchynska ako prefíkaná chyžná Susanne\, kanadský barytonista Joshua Hopkins ako záletnícky gróf\, ale aj talianska sopranistka Federica Lombardi ako jeho utrápená manželka a mezzosopranistka Sun-Ly Pierce ako dospievajúci Cherubino. \nOpera je spievaná v talianskom jazyku a priamy prenos obsahuje anglické a slovenské titulky. \nVstupenky si môžete zakúpiť online prostredníctvom stránky www.divadloarena.sk\, alebo osobne počas otváracích hodín pokladne Divadla Aréna na Viedenskej ceste 10 v Bratislave.
URL:https://bratislavskykraj.sk/podujatie/met-opera-figarova-svadba-divadlo-arena/
LOCATION:Divadlo Aréna\, Viedenská cesta 10\, Bratislava\, 85101
CATEGORIES:Divadlo,Opera,Predstavenie
ATTACH;FMTTYPE=image/jpeg:https://bratislavskykraj.sk/wp-content/uploads/2025/03/figarova-svadba.jpg
ORGANIZER;CN="Divadlo Ar%C3%A9na":MAILTO:pokladna@divadloarena.sk
END:VEVENT
BEGIN:VEVENT
DTSTART;TZID=Europe/Bratislava:20250315T180000
DTEND;TZID=Europe/Bratislava:20250315T180000
DTSTAMP:20260421T071414
CREATED:20250224T100649Z
LAST-MODIFIED:20250224T100649Z
UID:156922-1742061600-1742061600@bratislavskykraj.sk
SUMMARY:MET Opera: FIDELIO - Divadlo Aréna
DESCRIPTION:Jediná opera významného skladateľa Ludwiga van Beethovena je príbehom z väzenského prostredia\, ktorá kladie dôraz na právo človeka na slobodu myšlienky a slobodné rozhodnutie. \nNórska sopranistka Lise Davidsen sa po sérii úžasných vystúpení Live in HD vracia do Metropolitnej opery ako Leonore – verná manželka\, ktorá riskuje všetko\, aby zachránila svojho manžela z pazúrov tyranie v Beethovenovom Fideliovi. \nVýznamné obsadenie dopĺňa britský tenorista David Butt Philip ako politický väzeň Florestan\, poľský basbarytonista Tomasz Konieczny ako darebný Don Pizarro\, veterán nemecký bas René Pape ako žalárnik Rocco\, čínska sopranistka Ying Fang a nemecký tenorista Magnus Dietrich ako mladý Marzelline a Jaquino a dánsky basgitarista Stephen Milling ako zásadový Don Fernando. Operu Fidelio diriguje Susanna Mälkki. \nOpera je spievaná v nemeckom jazyku a priamy prenos obsahuje anglické a slovenské titulky. \nVstupenky si môžete zakúpiť online prostredníctvom stránky www.divadloarena.sk\, alebo osobne počas otváracích hodín pokladne Divadla Aréna na Viedenskej ceste 10 v Bratislave.
URL:https://bratislavskykraj.sk/podujatie/met-opera-fidelio-divadlo-arena/
LOCATION:Divadlo Aréna\, Viedenská cesta 10\, Bratislava\, 85101
CATEGORIES:Divadlo,Opera,Predstavenie
ATTACH;FMTTYPE=image/jpeg:https://bratislavskykraj.sk/wp-content/uploads/2025/02/met-fidelio-da.jpg
ORGANIZER;CN="Divadlo Ar%C3%A9na":MAILTO:pokladna@divadloarena.sk
END:VEVENT
BEGIN:VEVENT
DTSTART;TZID=Europe/Bratislava:20241123T190000
DTEND;TZID=Europe/Bratislava:20241123T190000
DTSTAMP:20260421T071414
CREATED:20241021T101108Z
LAST-MODIFIED:20241127T151036Z
UID:150877-1732388400-1732388400@bratislavskykraj.sk
SUMMARY:MET Opera: TOSCA - Divadlo Aréna
DESCRIPTION:Na domácu scénu Divadla Aréna sa opäť vracia divácky obľúbený cyklus priamych prenosov z Metropolitnej opery v New Yorku. Milovníci opery si tak môžu vychutnať svetoznáme operné diela z produkcie jedného z najväčších operných domov. \nPrenosy The Metropolitan Opera: Live in HD kombinujú špičkové operné umenie s najmodernejšími technológiami\, ktoré zabezpečujú divákovi jedinečný obrazový a zvukový zážitok. Predstavenia sú hrané v pôvodnom jazyku jednotlivých opier\, v Divadle Aréna s anglickými titulkami so slovenským prekladom. \nOpera Tosca je jednou z najhranejších opier na svete. Jej autorom je Giacomo Puccini. Rozpráva príbeh známej speváčky Toscy\, ktorá láske a umeniu obetovala všetko\, aby jej nakoniec zostala len prázdnota a smrť… \nVášnivú hlavnú postavu speváčky Toscy stvárni Lise Davidsen\, Freddie de Tommaso jej milenca\, idealistického maliara Maria Cavaradossiho. Quinn Kelsey spieva hrozivého baróna Scarpiu\, nemorálneho náčelníka tajnej polície. Elektrizujúcu partitúru\, kam patria viaceré z Pucciniho najúžasnejších melódií\, diriguje Yannick Nézet-Séguin. \nVstupenky si môžete zakúpiť online prostredníctvom stránky www.divadloarena.sk\, alebo osobne počas otváracích hodín pokladne Divadla Aréna na Viedenskej ceste 10 v Bratislave.
URL:https://bratislavskykraj.sk/podujatie/met-opera-tosca-divadlo-arena/
LOCATION:Divadlo Aréna\, Viedenská cesta 10\, Bratislava\, 85101
CATEGORIES:Divadlo,Opera
ATTACH;FMTTYPE=image/jpeg:https://bratislavskykraj.sk/wp-content/uploads/2024/10/met-tosca-da.jpg
ORGANIZER;CN="Divadlo Ar%C3%A9na":MAILTO:pokladna@divadloarena.sk
END:VEVENT
END:VCALENDAR