BEGIN:VCALENDAR
VERSION:2.0
PRODID:-//Bratislavskykraj.sk - ECPv6.15.20//NONSGML v1.0//EN
CALSCALE:GREGORIAN
METHOD:PUBLISH
X-ORIGINAL-URL:https://bratislavskykraj.sk
X-WR-CALDESC:Udalosti pre Bratislavskykraj.sk
REFRESH-INTERVAL;VALUE=DURATION:PT1H
X-Robots-Tag:noindex
X-PUBLISHED-TTL:PT1H
BEGIN:VTIMEZONE
TZID:Europe/Bratislava
BEGIN:DAYLIGHT
TZOFFSETFROM:+0100
TZOFFSETTO:+0200
TZNAME:CEST
DTSTART:20190331T010000
END:DAYLIGHT
BEGIN:STANDARD
TZOFFSETFROM:+0200
TZOFFSETTO:+0100
TZNAME:CET
DTSTART:20191027T010000
END:STANDARD
BEGIN:DAYLIGHT
TZOFFSETFROM:+0100
TZOFFSETTO:+0200
TZNAME:CEST
DTSTART:20200329T010000
END:DAYLIGHT
BEGIN:STANDARD
TZOFFSETFROM:+0200
TZOFFSETTO:+0100
TZNAME:CET
DTSTART:20201025T010000
END:STANDARD
BEGIN:DAYLIGHT
TZOFFSETFROM:+0100
TZOFFSETTO:+0200
TZNAME:CEST
DTSTART:20210328T010000
END:DAYLIGHT
BEGIN:STANDARD
TZOFFSETFROM:+0200
TZOFFSETTO:+0100
TZNAME:CET
DTSTART:20211031T010000
END:STANDARD
END:VTIMEZONE
BEGIN:VEVENT
DTSTART;TZID=Europe/Bratislava:20200904T180000
DTEND;TZID=Europe/Bratislava:20200904T200000
DTSTAMP:20260423T170609
CREATED:20200902T085321Z
LAST-MODIFIED:20200902T085321Z
UID:46908-1599242400-1599249600@bratislavskykraj.sk
SUMMARY:Večerná prehliadka Modry
DESCRIPTION:Modra má všetko. Modra má víno\, Modra má keramiku. Modra má Štúra\, Modra má turistiku\, Modra má školy i chutné zmrzliny\, z Modry sa šíria svadobné noviny. \nŠpacírka hornou časťou Modry po uličkách\, osobnostiach\, pikoškách a zaujímavostiach najkrajšieho mesta Malých Karpát. \nRezervácie: info@modratours.com\, 0903/50 51 52\nInformácie: 0903/50 51 52\nVstupné: 13 Eur\, deti 2-12- 5 Eur\nSeniori\, ZŤP\, študenti -11 Eur\nMinimálny počet účastníkov:5 dospelých\nLístky si kúpite tu:https://bit.ly/2DpsReI \nMiesto stretnutia: pod Hornou bránou\, Štúrova 128\nParkovanie: zdarma pred hotelom Modra
URL:https://bratislavskykraj.sk/podujatie/vecerna-prehliadka-modry/
LOCATION:Malokarpatské osvetové stredisko v Modre\, modranský kaštieľ\, Horná 22\, Modra 900 01\, Bratislavský kraj\, Slovenská republika
CATEGORIES:Prednáška
ATTACH;FMTTYPE=image/jpeg:https://bratislavskykraj.sk/wp-content/uploads/2020/09/116369823_570341616978492_590330172973013084_o.jpg
END:VEVENT
BEGIN:VEVENT
DTSTART;TZID=Europe/Bratislava:20200902T193000
DTEND;TZID=Europe/Bratislava:20200902T213000
DTSTAMP:20260423T170610
CREATED:20200902T082639Z
LAST-MODIFIED:20200902T083041Z
UID:46879-1599075000-1599082200@bratislavskykraj.sk
SUMMARY:Splnová cintorínska prehliadka
DESCRIPTION:Máte radi nezvyčajné zážitky? \nZažili ste už prehliadku cintorína? \nChcete byť inšpirovaný a zároveň sa dozvedieť niečo nové? \nPozývame Vás na nočnú prehliadku modranského cintorína počas splnu mesiaca. Dozviete sa prečo je tento cintorín považovaný za národný\, kde leží Štefánikova sestra\, ilustrátor knižky O dvanástich mesiačikoch či Prázdniny so strýcom Rafaelom\, autor Martinskej deklarácie a samozrejme neobídeme ani kodifikátora spisovnej slovenčiny a vynálezcu Viney. \nVSTUPENKY:\nDospelý 13 Eur\nDeti 2-12 r. v sprievode rodičov 2 Eur\nNa udalosť sa treba vopred prihlásiť na:\ninfo@modratours.com\, 0903 50 51 52\nMinimálny počet účastníkov:4\nMaximálny počet účastníkov:15
URL:https://bratislavskykraj.sk/podujatie/splnova-cintorinska-prehliadka/
LOCATION:Modranský cintorín\, Dolná ulica\, Modra\, Bratislavský kraj\, 900 01\, Slovenská republika
CATEGORIES:Prednáška
ATTACH;FMTTYPE=image/jpeg:https://bratislavskykraj.sk/wp-content/uploads/2020/09/118649448_597569317589055_8707813237037594437_o.jpg
END:VEVENT
BEGIN:VEVENT
DTSTART;TZID=Europe/Bratislava:20200821T150000
DTEND;TZID=Europe/Bratislava:20200823T180000
DTSTAMP:20260423T170610
CREATED:20200820T092808Z
LAST-MODIFIED:20200820T093053Z
UID:45864-1598022000-1598205600@bratislavskykraj.sk
SUMMARY:Pezinský Permoník 2020
DESCRIPTION:Pozývame vás na Malokarpatskú výstavu a burzu minerálov\, fosílií a drahých kameňov. Zároveň je to kultúrne podujatie\, ktoré organizuje Nezisková organizácia Barbora pravidelne každý rok v auguste. Tento rok sa uskutoční vo dňoch 21.-23. 8. 2020. V meste Pezinok má toto podujatie dlhoročnú tradíciu a v roku 2020 odštartuje už 24. ročník.
URL:https://bratislavskykraj.sk/podujatie/pezinsky-permonik-2020/
LOCATION:Pezinské kultúrne centrum\, Holubyho 42\, Pezinok\, Bratislavský kraj\, 902 01\, Slovenská republika
CATEGORIES:Beseda,Prednáška,Workshop
ATTACH;FMTTYPE=image/jpeg:https://bratislavskykraj.sk/wp-content/uploads/2020/08/117817723_10151481564999963_1875420043530813102_n.jpg
END:VEVENT
END:VCALENDAR