BEGIN:VCALENDAR
VERSION:2.0
PRODID:-//Bratislavskykraj.sk - ECPv6.15.20//NONSGML v1.0//EN
CALSCALE:GREGORIAN
METHOD:PUBLISH
X-WR-CALNAME:Bratislavskykraj.sk
X-ORIGINAL-URL:https://bratislavskykraj.sk
X-WR-CALDESC:Udalosti pre Bratislavskykraj.sk
REFRESH-INTERVAL;VALUE=DURATION:PT1H
X-Robots-Tag:noindex
X-PUBLISHED-TTL:PT1H
BEGIN:VTIMEZONE
TZID:Europe/Bratislava
BEGIN:DAYLIGHT
TZOFFSETFROM:+0100
TZOFFSETTO:+0200
TZNAME:CEST
DTSTART:20250330T010000
END:DAYLIGHT
BEGIN:STANDARD
TZOFFSETFROM:+0200
TZOFFSETTO:+0100
TZNAME:CET
DTSTART:20251026T010000
END:STANDARD
BEGIN:DAYLIGHT
TZOFFSETFROM:+0100
TZOFFSETTO:+0200
TZNAME:CEST
DTSTART:20260329T010000
END:DAYLIGHT
BEGIN:STANDARD
TZOFFSETFROM:+0200
TZOFFSETTO:+0100
TZNAME:CET
DTSTART:20261025T010000
END:STANDARD
BEGIN:DAYLIGHT
TZOFFSETFROM:+0100
TZOFFSETTO:+0200
TZNAME:CEST
DTSTART:20270328T010000
END:DAYLIGHT
BEGIN:STANDARD
TZOFFSETFROM:+0200
TZOFFSETTO:+0100
TZNAME:CET
DTSTART:20271031T010000
END:STANDARD
END:VTIMEZONE
BEGIN:VEVENT
DTSTART;TZID=Europe/Bratislava:20260426T170000
DTEND;TZID=Europe/Bratislava:20260426T190000
DTSTAMP:20260421T121112
CREATED:20260403T161245Z
LAST-MODIFIED:20260413T181229Z
UID:174549-1777222800-1777230000@bratislavskykraj.sk
SUMMARY:Oddychovka
DESCRIPTION:Oddychovka je celoštátna postupová súťaž a prehliadka dychových hudieb\, ktorá sa koná na Slovensku a je jedným z vrcholných podujatí dychovej hudby v krajine. Podujatie vzniklo zlúčením dvoch tradičných súťaží — Lednické Rovne a FestMlaDych od roku 2021 (do roku 2023 pod názvom OdDYCHpoDYCH). Od svojho vzniku vytvára možnosť konfrontácie tvorivých prístupov dychových telies a zároveň rozvíjanie kontaktov medzi priaznivcami dychovej hudby. \nVyhlasovateľom a hlavným finančným partnerom je Národné osvetové centrum z poverenia Ministerstva kultúry SR a odbornými garantmi sú Národné osvetové centrum a Združenie dychových hudieb Slovenska. V roku 2026 sa uskutoční  28. ročník celoštátnej súťaže a prehliadky dychovej hudby. Krajské kolo súťaže pre Bratislavský samosprávny kraj organizačne zabezpečuje Malokarpatské osvetové stredisko v Modre. \nOddychovka má charakter verejného predstavenia a je určená pre detské\, mládežnícke a malé dychové hudby. Jej význam spočíva predovšetkým: \n\numožniť jednotlivým kolektívom vystupovať pred odborníkmi i širokou verejnosťou\nvytvárať dychovým hudobným telesám priestor\, kde sa učia svojou hrou vnímať krásu hudby\, pestovať a uchovávať si melodickosť (resp. spevnosť)\nvytvárať priestor pre pedagógov základných umeleckých škôl a kapelníkov dychových telies na napĺňanie vlastných pedagogicko-výchovných cieľov\npozdvihnúť a odborne usmerniť túto oblasť záujmovej umeleckej činnosti\, ktorá si vyžaduje systematickú prácu s hudobne talentovanými interpretmi v jednotlivých regiónoch Slovenska\n\nSúťaž poskytuje a vytvára priestor na konfrontáciu a metodickú pomoc kolektívom ich zbormajstrom\, kapelníkom a zároveň poskytuje rozvíjanie kontaktov medzi priaznivcami dychovej hudby. \nVekové kategórie\nDo 28.ročníka sa môžu zapojiť dychové telesá v týchto súťažných kategóriách: \n\nDetské dychové hudby s priemerným vekom do 17 rokov (maximálny vek jednotlivca  je 20 rokov)\nVeľké dychové orchestre bez vekového obmedzenia\nMalé dychové hudby bez vekového obmedzenia\n\nOddychovka 2026 predstavuje významnú príležitosť na prezentáciu systematickej pedagogickej práce s kolektívom a jednotlivcami v oblasti dychovej hudby\, na umelecký rast a ďalší rozvoj dychových telies v Bratislavskom kraji. \nTermín konania: 26. apríl 2026\nMiesto konania: Filozofická Fakulta UK\, Bratislava – Moyzesova sieň \nRealizácia krajského kola v koncertnom priestore vytvára adekvátne akustické a technické podmienky pre prezentáciu dychových nástrojov a zároveň poskytuje účastníkom autentickú skúsenosť s koncertným prostredím.
URL:https://bratislavskykraj.sk/podujatie/oddychovka/
LOCATION:Filozofická Fakulta UK\, Bratislava – Moyzesova sieň\, Gondova 2\, Bratislava\, 81102
CATEGORIES:Koncert,Prehliadka
ATTACH;FMTTYPE=image/png:https://bratislavskykraj.sk/wp-content/uploads/2026/04/oddychovka-web.png
ORGANIZER;CN="Malokarpatsk%C3%A9 osvetov%C3%A9 stredisko v Modre":MAILTO:moska@moska.sk
END:VEVENT
END:VCALENDAR