BEGIN:VCALENDAR
VERSION:2.0
PRODID:-//Bratislavskykraj.sk - ECPv6.15.20//NONSGML v1.0//EN
CALSCALE:GREGORIAN
METHOD:PUBLISH
X-WR-CALNAME:Bratislavskykraj.sk
X-ORIGINAL-URL:https://bratislavskykraj.sk
X-WR-CALDESC:Udalosti pre Bratislavskykraj.sk
REFRESH-INTERVAL;VALUE=DURATION:PT1H
X-Robots-Tag:noindex
X-PUBLISHED-TTL:PT1H
BEGIN:VTIMEZONE
TZID:Europe/Bratislava
BEGIN:DAYLIGHT
TZOFFSETFROM:+0100
TZOFFSETTO:+0200
TZNAME:CEST
DTSTART:20190331T010000
END:DAYLIGHT
BEGIN:STANDARD
TZOFFSETFROM:+0200
TZOFFSETTO:+0100
TZNAME:CET
DTSTART:20191027T010000
END:STANDARD
BEGIN:DAYLIGHT
TZOFFSETFROM:+0100
TZOFFSETTO:+0200
TZNAME:CEST
DTSTART:20200329T010000
END:DAYLIGHT
BEGIN:STANDARD
TZOFFSETFROM:+0200
TZOFFSETTO:+0100
TZNAME:CET
DTSTART:20201025T010000
END:STANDARD
BEGIN:DAYLIGHT
TZOFFSETFROM:+0100
TZOFFSETTO:+0200
TZNAME:CEST
DTSTART:20210328T010000
END:DAYLIGHT
BEGIN:STANDARD
TZOFFSETFROM:+0200
TZOFFSETTO:+0100
TZNAME:CET
DTSTART:20211031T010000
END:STANDARD
BEGIN:DAYLIGHT
TZOFFSETFROM:+0100
TZOFFSETTO:+0200
TZNAME:CEST
DTSTART:20220327T010000
END:DAYLIGHT
BEGIN:STANDARD
TZOFFSETFROM:+0200
TZOFFSETTO:+0100
TZNAME:CET
DTSTART:20221030T010000
END:STANDARD
BEGIN:DAYLIGHT
TZOFFSETFROM:+0100
TZOFFSETTO:+0200
TZNAME:CEST
DTSTART:20230326T010000
END:DAYLIGHT
BEGIN:STANDARD
TZOFFSETFROM:+0200
TZOFFSETTO:+0100
TZNAME:CET
DTSTART:20231029T010000
END:STANDARD
BEGIN:DAYLIGHT
TZOFFSETFROM:+0100
TZOFFSETTO:+0200
TZNAME:CEST
DTSTART:20240331T010000
END:DAYLIGHT
BEGIN:STANDARD
TZOFFSETFROM:+0200
TZOFFSETTO:+0100
TZNAME:CET
DTSTART:20241027T010000
END:STANDARD
END:VTIMEZONE
BEGIN:VEVENT
DTSTART;TZID=Europe/Bratislava:20230917T130000
DTEND;TZID=Europe/Bratislava:20230917T200000
DTSTAMP:20260424T032334
CREATED:20230908T145732Z
LAST-MODIFIED:20230908T145732Z
UID:130730-1694955600-1694980800@bratislavskykraj.sk
SUMMARY:TRI\, DVA\, JEDNA - ŠTART! / EURÓPSKY TÝŽDEŇ MOBILITY
DESCRIPTION:Štartujeme Európsky týždeň mobility a oslavujeme Medzinárodný deň cargo bajkov na Námestí Republiky a Tyršovom nábreží! \nPodujatie TRI\, DVA\, JEDNA – ŠTART! začneme jazdou na bicykloch po cool miestach Petržalky\, ktorá bude začínať a končiť na Námestí Republiky. Tam sa potom poriadne zabavíme pri energickej BIKESKILLS SHOW s bratmi Michalom a Tomášom Pokornými\, zatancujeme si latino spolu s hudobným projektom BOSSA ROSA a na bicykloch sa presunieme do Cyklokuchyne na Tyršovom nábreží\, kde sa program ukončí koncertom skupín HMLISTO a 300 HRMENÝCH. \n  \n13:00 – 15:00  Cyklojazda po Petržalke  \n15:00 – 16:00  BIKESKILLS SHOW s bratmi Michalom a Tomášom Pokornými \n16:00 – 17:00  JAZDA ZRUČNOSTI súťaž\n \n17:00 – 18:00  BOSSA ROSA koncert\n \n18:00 – 19:00  presun na TYRŠOVO NÁBREŽIE \n19:00  HMLISTO a 300 HRMENÝCH koncert v Cyklokuchyni\n \n  \nBIKESKILLS SHOW – bratia Michal a Tomáš sa venujú rôznym disciplínam a exhibíciám na bicykloch. Ich energická show pozostava z akrobacie\, zo skokov cez prekážky a ponad ľudí a z ďalšich kúskov\, pri ktorých sa až tají dych.\n \n  \nHudobné zoskupenie Bossa Rosa bolo založené v Roku 2022 so zameraním na žánre Bossa Nova a Brazil Jazz Fusion. Autentický prejav speváčky Rosario “Rosi” Portuondo s jedinečnou farbou hlasu je potešením pre každého. V máji 2023 sa stali víťazmi otvorenej výzvy Hľadá sa Jazz 2023 a zároveň získali možnosť vystúpiť na úvod festivalu PET JAZZ 2023 v Bratislave. \nKapela vám prináša hudobný zážitok v zložení:\nRosario Portuondo – spev\nPaulo Da Rosa – saxofón\nWestevi Werlen Ramos Moreira – perkusie\nMartin Dohňanský – bicie\nMiro Zahradník – gitara\nDiana Drobná – basová gitara\n \n  \n  \nVitajte v Európskom týždni mobility 2023! Vykročte s nami smerom k lepšej budúcnosti mobility v celej Európe! \nTento rok sa krajiny opäť spojili\, aby oslávili a podporili udržateľnú a inteligentnú mobilitu v celej Európe. Európsky týždeň mobility je každoročnou iniciatívou Európskej komisie\, ktorá slúži ako platforma na zvýšenie povedomia o dôležitosti udržateľných foriem dopravy a zmenu našich cestovných návykov už viac ako 20 rokov. \nTéma ročníka Európskeho týždňa mobility (ETM) 2023 je ŠETRI ENERGIU. Táto téma sa zameriava na dôležitosť znižovania energetických nákladov a spotreby v oblasti dopravy s cieľom dosiahnuť udržateľnú a efektívnu mobilitu. \nEurópsky týždeň mobility na Slovensku
URL:https://bratislavskykraj.sk/podujatie/tri-dva-jedna-start-europsky-tyzden-mobility/
LOCATION:Námestie Rebubliky\, Bratislava - Petržalka\, 85105
CATEGORIES:Aktívne trávenie voľného času,Koncert,Prehliadka,Športové podujatie
ATTACH;FMTTYPE=image/jpeg:https://bratislavskykraj.sk/wp-content/uploads/2023/09/321start-squere.jpg
ORGANIZER;CN="Kult%C3%BArne zariadenia Petr%C5%BEalky":MAILTO:kzp@kzp.sk
END:VEVENT
BEGIN:VEVENT
DTSTART;TZID=Europe/Bratislava:20230813T100000
DTEND;TZID=Europe/Bratislava:20230813T200000
DTSTAMP:20260424T032334
CREATED:20230804T133640Z
LAST-MODIFIED:20230804T133901Z
UID:129242-1691920800-1691956800@bratislavskykraj.sk
SUMMARY:KULTÚRNE LETO V PETRŽALKE / LETNÁ VLNA FANTÁZIE
DESCRIPTION:Ďalší ročník súťaže kreatívnych plavidiel na Draždiaku. \nHarmonogram podujatia: \n10:00 – 15:30 Registrácia plavidiel\n10:00 – 18:00 Nafukovacie atrakcie\n11:00 Prezentácia klubov a oddielov / Modelárske lode / Flyboarding / Záchranári na vode / Obhliadka hasičského auta\n11:00 Detský prístav / tvorivé dielne\n16:00 Súťaž kreatívnych plavidiel\n18:00 Vyhodnotenie súťaže plavidiel\n19:00 Koncert O.B.D.
URL:https://bratislavskykraj.sk/podujatie/kulturne-leto-v-petrzalke-letna-vlna-fantazie/
LOCATION:VEĽKÝ DRAŽDIAK\, Bratislava - Petržalka\, 85105
CATEGORIES:Aktívne trávenie voľného času,Detské herne a čítačky,Festival,Koncert,Predstavenie,Prehliadka,Športové podujatie,Súťaž,Workshop
ATTACH;FMTTYPE=image/jpeg:https://bratislavskykraj.sk/wp-content/uploads/2023/08/klvp23-fantastickeleto-squere-1.jpg
ORGANIZER;CN="Mestsk%C3%A1 %C4%8Das%C5%A5 Bratislava-Petr%C5%BEalka":MAILTO:podnety@petrzalka.sk
END:VEVENT
BEGIN:VEVENT
DTSTART;TZID=Europe/Bratislava:20230812T090000
DTEND;TZID=Europe/Bratislava:20230812T200000
DTSTAMP:20260424T032334
CREATED:20230804T132049Z
LAST-MODIFIED:20230804T132049Z
UID:129239-1691830800-1691870400@bratislavskykraj.sk
SUMMARY:KULTÚRNE LETO V PETRŽALKE / FANTASTICKÉ ZVIERATKÁ
DESCRIPTION:Zábavný letný deň pre všetkých milovníkov zvieratiek na ihrisku Romanova. \nČo by bolo leto bez zvieratiek? Behajú vedľa nás s vyplazeným jazykom\, plávajú s nami vo vode a potom osprchujú všetkých okolo\, cválajú hore-dole len tak pre radosť\, alebo ležia v tieni a nič sa im nechce – sú občas ako my\, a my by sme občas chceli byť ako ony. Príďte si užiť na ihrisko Romanova krásny čas s fantastickými zvieratkami\, aby ste si urobili náladu deň pred súťažou bláznivých plavidiel na Veľkom Draždiaku. Čaká vás veľký šampionát BRATISLAVA CUP 2023 v Králičom Hope\, jazda na koníkoch\, poradňa pre zvieracích miláčikov a mnoho iných zábaviek a atrakcií. \n09.00 Príprava BRATISLAVA CUP 2023\n10.00 Ľahká rovinka\n11.00 Ľahký parkúr\n13.00 Cvičíme si svoje králiky! Trénuje prestížná česká trénerka Lada Šípova.\nPetržalčania\, prineste si svojho králika\, možno máte doma budúceho šampióna!\n17.00 – 19.00 jazda na koníkoch\n19.00 Divadlo JaJa – HLÚPE KURA
URL:https://bratislavskykraj.sk/podujatie/kulturne-leto-v-petrzalke-fantasticke-zvieratka/
LOCATION:Ihrisko Romanova
CATEGORIES:Aktívne trávenie voľného času,Detské herne a čítačky,Prednáška,Športové podujatie,Súťaž,Výstava,Workshop
ATTACH;FMTTYPE=image/jpeg:https://bratislavskykraj.sk/wp-content/uploads/2023/08/fantastickezvieratka-squere4.jpg
ORGANIZER;CN="Kult%C3%BArne zariadenia Petr%C5%BEalky":MAILTO:kzp@kzp.sk
END:VEVENT
BEGIN:VEVENT
DTSTART;TZID=Europe/Bratislava:20230601T160000
DTEND;TZID=Europe/Bratislava:20230601T190000
DTSTAMP:20260424T032334
CREATED:20230526T075811Z
LAST-MODIFIED:20230526T075811Z
UID:125252-1685635200-1685646000@bratislavskykraj.sk
SUMMARY:MEDZINÁRODNÝ DEŇ DETÍ V PETRŽALKE
DESCRIPTION:Popoludnie plné hry\, zábavy a športu pre malých aj veľkých Petržalčanov na ihrisku Romanova. \nMedzinárodný deň detí v Petržalke pod záštitou starostu MČ Bratislava – Petržalka Jána Hrčku. \n  \n16:00 Zumba pre deti s cvičiteľkou Alexandrou Petrášovou \n16:30 ŠK Juventa – tanečné vystúpenie \n17:00 Funny a kamaráti – zábavný hudobný program\, bublinková zábava\, maskot a fotenie s ním (opička GUGU)\, rozdávanie balónov \n18:00 Karate – ŠŠK Bratislava – vystúpenie + workshop \n \nSprievodné aktivity  \n16:00 Basketbalový turnaj /streetbal/ \n16:30 Skákanie vo vreci – súťaž \n16:00 – 18:00 Obhliadka hasičského auta \n16:00 – 18:00 Detské dielničky \n16:30 – 18:30 Jazda na poníkovi \n16:30 – 18:30 Maľovanie na tvár \n16:00 – 19:00 Stolný tenis pre verejnosť \n16:00 – 19:00 Cukrová vata\, pukance \nModerátor Maroš Szalay  \nVstup voľný.\nTešíme sa na vás!
URL:https://bratislavskykraj.sk/podujatie/medzinarodny-den-deti-v-petrzalke/
LOCATION:Ihrisko Romanova
CATEGORIES:Aktívne trávenie voľného času,Detské herne a čítačky,Divadlo,Festival,Koncert,Predstavenie,Prehliadka,Športové podujatie,Súťaž,Výstava,Workshop
ATTACH;FMTTYPE=image/jpeg:https://bratislavskykraj.sk/wp-content/uploads/2023/05/dendeti2-web1.jpg
ORGANIZER;CN="Kult%C3%BArne zariadenia Petr%C5%BEalky":MAILTO:kzp@kzp.sk
END:VEVENT
BEGIN:VEVENT
DTSTART;TZID=Europe/Bratislava:20221009T130000
DTEND;TZID=Europe/Bratislava:20221009T170000
DTSTAMP:20260424T032334
CREATED:20221005T091937Z
LAST-MODIFIED:20221005T091937Z
UID:108629-1665320400-1665334800@bratislavskykraj.sk
SUMMARY:DRAGON ENGERAU
DESCRIPTION:Slávnosť púšťania šarkanov \n\n\n\n\n\n\nKaždé ročné obdobie má príťažlivosť a svoje čaro. Jeseň sa nám mnohým spája s púšťaním šarkanov. Vytvorme spoločne pestrofarebné divadlo na jesennej oblohe.\nSÚŤAŽ O: NAJKRAJŠIEHO / NAJVYNACHÁDZAVEJŠIEHO/ NAJVÄČŠIEHO PO DOMÁCKY VYROBENÉHO LIETAJÚCEHO ŠARKANA \nVzlietnu z voľného priestoru pred Domom kultúry Lúky!\n\nČo vás čaká:\n13.00 – 16.00 / Tvorivá „šarkania“ dielňa\n13.00 – 14.00 / Registrácia súťažiacich\n14.00 – 16.30 / Púšťanie šarkanov – pestrofarebné divadlo na jesennej oblohe\n16.30 – 17.00 / Vyhodnotenie najkrajšieho\, najvynachádzavejšieho a najväčšieho po domácky vyrobeného šarkana\n\n  \n\nNEVÁHAJTE! VYROBTE DOMA ŠARKANA! ČAKÁME VÁS!\n\n\n\n\n\n\n\n\n\n\n\n\n\n\n\n\n\n\n\n\n\n\n\n\n\n\n\n\n\n\n\n\n\n\n\n\n\n\n\n\n\n\n\n\n\n\n\n\n\n\n\n\n\n\n\n\n\n\n\n\n\n\n\n\n\n\n\n\n\n 
URL:https://bratislavskykraj.sk/podujatie/dragon-engerau/
LOCATION:Dom kultúry Lúky
CATEGORIES:Aktívne trávenie voľného času,Športové podujatie,Súťaž,Výstava,Workshop
ATTACH;FMTTYPE=image/jpeg:https://bratislavskykraj.sk/wp-content/uploads/2022/10/1663788015-8-1000-650-engeraudragon-web.jpg
ORGANIZER;CN="Kult%C3%BArne zariadenia Petr%C5%BEalky":MAILTO:kzp@kzp.sk
END:VEVENT
BEGIN:VEVENT
DTSTART;VALUE=DATE:20220813
DTEND;VALUE=DATE:20220814
DTSTAMP:20260424T032334
CREATED:20220802T130217Z
LAST-MODIFIED:20220802T130217Z
UID:103132-1660348800-1660435199@bratislavskykraj.sk
SUMMARY:LETNÁ VLNA FANTÁZIE - KULTÚRNE LETO V PETRŽALKE 2022
DESCRIPTION:Tretí ročník celodenného podujatia na Draždiaku \nBolo to veľmi spontánne rozhodnutie uskutočniť na Veľkom Draždiaku podujatie\, ktoré má veľkú tradíciu na mnohých vodných plochách po celom svete a vyzerá to tak\, že spontánne o rozhodnutia sú tie najlepšie. Popularita jazera je nespochybniteľná. Celé roky slúži Petržalčanom ako oáza letnej rekreácie\, ako náhrada za Senecké jazerá\, za Zlaté piesky a dokonca v čase covidu aj ako náhrada za Jadran. Náhrada\, ku ktorej je možné prísť z domu pešo\, či na bicykli\, alebo autobusom. Preto sme sa v lete roku 2020 rozhodli pokúsiť sa nadchnúť Petržalčanov pre komunitné podujatie\, ktoré využíva vodnú plochu na zábavu\, aká sa nedá nikde inde uskutočniť – stavbu a plavbu na plavidlách „od výmyslu sveta“\, ktoré si zúčastnení postavia na brehu jazera sami\, vlastnými silami\, alebo si ich už postavené na niečom privezú\, alebo v rukách prinesú. V druhom roku konania komunitnej súťaže v stavbe a plavbe kreatívnych plavidiel na Veľkom Draždiaku dostala súťaž poetický názov LETNÁ VLNA FANTÁZIE a pritiahla ešte väčšie množstvo záujemcov ako minulý rok. Aj pre veľký záujem detí a rodín sme sa ako organizátori celého podujatia rozhodli opakovať ho pod týmto názvom každý rok. \n \nVodné atrakcie: nafukovacia šmykľavka zajac\, hrad\, lezecká stena\, trampolína\, maxiterč\nVodné exhibície: ukážky vodných športov\, voľnočasových aktivít\, vodácke a športové kluby
URL:https://bratislavskykraj.sk/podujatie/letna-vlna-fantazie-kulturne-leto-v-petrzalke-2022/
LOCATION:VEĽKÝ DRAŽDIAK\, Bratislava - Petržalka\, 85105
CATEGORIES:Aktívne trávenie voľného času,Koncert,Prehliadka,Športové podujatie,Súťaž,Workshop
ATTACH;FMTTYPE=image/jpeg:https://bratislavskykraj.sk/wp-content/uploads/2022/08/letna-vlna.jpg
ORGANIZER;CN="Kult%C3%BArne zariadenia Petr%C5%BEalky":MAILTO:kzp@kzp.sk
END:VEVENT
BEGIN:VEVENT
DTSTART;TZID=Europe/Bratislava:20220806T090000
DTEND;TZID=Europe/Bratislava:20220806T150000
DTSTAMP:20260424T032334
CREATED:20220802T123442Z
LAST-MODIFIED:20220802T124349Z
UID:103103-1659776400-1659798000@bratislavskykraj.sk
SUMMARY:PETRŽALSKÝ ULIČNÝ BASKET 2022
DESCRIPTION:PETRŽALSKÝ ULIČNÝ BASKET 2022 \nStreetballové ihriská v klube Matchball – Kurty na Smolenickej 20 \ntermíny malých turnajov: 6.8\, 7.8\, 27.8\, 28.8. 2022 – vždy malý turnaj v Matchballe pre 2 ročníky \n– sobota 6. august od 09:00\, kategórie ročníkov 2012 a mladší \n– nedeľa 7.august od 09:00\, kategórie ročníkov 2010 a 2011 a mladší \n– sobota 27. august od 09:00\, kategórie ročníkov 2006 až 2009 a mladší \n– nedeľa 28 . august od 09:00\, kategórie ročníkov 2005 a mladší \n \nFormát jednotlivých turnajov závisí od počtu prihlásených družstiev\, pričom môžu byť aj zmiešané (dievčatá + chlapci). \nHrá sa streetball vonku vo formáte 3 na 3. \nOrganizátori z BSC Bratislava s podporou Kultúrných zariadení Petržalka. \n  \nPrihlasovanie je možné priamo na mieste v deň  turnaja od 9:00 do 9:30\, cez facebook BSC Bratislava alebo na e-mailovej adrese bsc@bscbratislava.sk. \n  \nStreetballové ihriská v klube Matchball – Kurty na Smolenickej 20 sú verejnosti k dispozícii ZADARMO. Počas celého leta na nich priatelia z BSC Bratislava vždy v pondelok\, stredu a piatok od 10:00 do 11:30 organizujú aj tréningy pre nových záujemcov o basketbal z ročníkov narodenia 2008 a mladších.
URL:https://bratislavskykraj.sk/podujatie/petrzalsky-ulicny-basket-2022/
LOCATION:Bratislava-Petržalka\, Slovenská republika
CATEGORIES:Aktívne trávenie voľného času,Športové podujatie,Súťaž
ATTACH;FMTTYPE=image/jpeg:https://bratislavskykraj.sk/wp-content/uploads/2022/08/petrzalsky-ulicny-basketbal-6-8-2022-1-1.jpg
ORGANIZER;CN="Kult%C3%BArne zariadenia Petr%C5%BEalky":MAILTO:kzp@kzp.sk
END:VEVENT
BEGIN:VEVENT
DTSTART;VALUE=DATE:20220701
DTEND;VALUE=DATE:20220704
DTSTAMP:20260424T032334
CREATED:20220615T094947Z
LAST-MODIFIED:20220615T114348Z
UID:100189-1656633600-1656892799@bratislavskykraj.sk
SUMMARY:OTVORENIE KULTÚRNEHO LETA V PETRŽALKE 2022
DESCRIPTION:Pozývame Vás na otvorenie Kultúrneho leta v Petržalke 2022:\nPIATOK | 1.7. | exteriér DKZH\n18:00 | Spolok Dychová hudba SPOJÁR / Mažoretky Alba Bratislava  \n18:00 | otvorenie Petržalského infocentra / otvorenie Galérie medzi zrkadlami \n19:00 | DJ Faktor\ntanečná zábava s karaoke \nDENNE | 10:00 – 21:30 | DK Zrkadlový háj\nLITERÁRNA KAVIAREŇ večerné čítanie/raňajky \nDENNE | 10:00 – 21:30 | DK Zrkadlový háj\nLETNÁ GALÉRIA MEDZI ZRKADLAMI\nvernisáž výstavy fotografií /René Miko\, Martin Kleibl\, Filip Bielek/\nkurátorka Barbara Brathová \nRETROVÍKEND\n\nPIATOK | 1.7.\n21:00 | LETNÉ KINO DK LÚKY | FONTÁNA PRE ZUZANU\nr. D. Rapoš\, ČSSR\, 1985\, originálna verzia\, 81 min. \nSOBOTA | 2.7. | Sad Janka Kráľa\n10:00 | TANCUJEME POD STROMAMI\nlatino-rozcvička s tanečnou školou LA PORTELLA \n10:00 | PETRŽALSKÍ PÁTRAČI\ninformácie o obľúbenej exteriérovej hre Petržalčanov \n11:00 | PETANGOVÝ RODINNÝ TURNAJ\ns profesionálnym rozhodcom\nrodinné družstvo v počte minimálne traja členovia\, sa môže prihlásiť na adrese: ccc@kzp.sk \n15:00 – 18:00 | RODINNY PIKNIK V TRÁVE\nsúťaž o najkrajší a najoriginálnejší piknikový košík\, piknikové miesto\, súťaž o najchutnejšiu bábovku \n15:00 – 16:00 | NIE SME DOMA\, MAĽUJEME\nrodinné tvorivé dielne na tému rodostromy a rodinné portréty \n16:00 – 17:00 | TANEČNÝ WORKSHOP PRE DETI\nso športových klubom JUVENTA \n16:00 – 18:00 | Z BABIČIKINEJ TRUHLICE\nukážky paličkovania a predstavenie tvorby Klubu paličkovanej čipky OKOLOK z Petržalky \n16:00 – 18:00 | MÓDA ČIAS MINULÝCH\nprezentácia historických kostýmov v priereze 20. storočia\, v spolupráci s Divadlom Nová scéna \n16:30 – 18:00 | ÚČESY\, ÚČESY\ndámsky a pánsky retro-salón na zelenej tráve\, v spolupráci so Strednou odbornou školou kaderníctva a vizážistiky \n18:00 | PAPER MOON TRIO\nkoncert dámskeho vokálno-inštrumentálneho zoskupenia vám hudobne priblíži 20. a 40. roky minulého storočia \n19:30 | LA JANA & HER SWING BOYS\nkoncert v štýle swingu 30. a 50. rokov\, príležitostné zoskupenie famóznej speváčky Janky Dekánkovej \nNEDEĽA | 3.7. | Sad Janka Kráľa\n10:00 | POSLEDNÝ DINOSAURUS\nDivadlo na hojdačke – Rozprávková nedeľa \n11:00 – 12:30 | RETROHERŇA\nhráme sa na tráve s hračkami našich rodičov a starých rodičov\, výtvarná dielnička na tému MOJA NAJ HRAČKA\nDajte hračkám druhú šancu! – nepotrebné hračky môžete priniesť do CC Centra\, urobia radosť iným deťom \n14:30 | ROZPRAVKÁREŇ\nštudenti Konzervatória v Bratislave čítajú deťom z detských knižiek\, tvorivé dielne na tému MOJA NAJ ROZPRÁVKA \n17:00 | POSLEDNÝ DINOSAURUS\nDivadlo na hojdačke – Rozprávková nedeľa \n19:00 | NEDEĽNÝ KONCERT alebo CESTUJEME V ČASE\nkoncert študentov KONZERVATÓRIA\, Tolstého 11 \n 
URL:https://bratislavskykraj.sk/podujatie/otvorenie-kulturneho-leta-2022/
LOCATION:Bratislava-Petržalka\, Slovenská republika
CATEGORIES:Aktívne trávenie voľného času,Detské herne a čítačky,Divadlo,Film,Koncert,Predstavenie,Športové podujatie,Súťaž,Výstava,Workshop
ATTACH;FMTTYPE=image/jpeg:https://bratislavskykraj.sk/wp-content/uploads/2022/06/800x800-kulturne-leto-2022-s-logami2.jpg
ORGANIZER;CN="Kult%C3%BArne zariadenia Petr%C5%BEalky":MAILTO:kzp@kzp.sk
END:VEVENT
BEGIN:VEVENT
DTSTART;TZID=Europe/Bratislava:20200926T080000
DTEND;TZID=Europe/Bratislava:20200926T170000
DTSTAMP:20260424T032334
CREATED:20200916T135336Z
LAST-MODIFIED:20200916T142724Z
UID:48325-1601107200-1601139600@bratislavskykraj.sk
SUMMARY:Malodunajský vodácky maratón
DESCRIPTION:Malodunajský vodácky maratón je podujatie organizované za účelom stretnutia vodákov a kamarátov\, ktorí si každoročne zmerajú sily vo viacerých kategóriách. \nŠtartuje sa v Novej Dedinke pri priehrade v areáli táboriska a v cieli\, ktorým je Vodný mlyn v Jelke\, je pre účastníkov pripravený chutný guláš a posedenie pri živej hudbe. \nProgram\, podmienky účasti a ďalšie kontakty nájdete na: klubmalydunaj.sk/maraton \nNa podujatie je potrebné vopred sa registrovať na tomto linku: klubmalydunaj.sk/formular \n 
URL:https://bratislavskykraj.sk/podujatie/malodunajsky-vodacky-maraton/
LOCATION:Táborisko Nová Dedinka\, Osada 1\, Nová Dedinka\, Bratislavský kraj\, 90029\, Slovenská republika
CATEGORIES:Aktívne trávenie voľného času,Športové podujatie
ATTACH;FMTTYPE=image/jpeg:https://bratislavskykraj.sk/wp-content/uploads/2020/09/img_9766_upr-scaled.jpg
END:VEVENT
BEGIN:VEVENT
DTSTART;TZID=Europe/Bratislava:20200912T083000
DTEND;TZID=Europe/Bratislava:20200912T150000
DTSTAMP:20260424T032334
CREATED:20200903T134816Z
LAST-MODIFIED:20200903T142306Z
UID:47010-1599899400-1599922800@bratislavskykraj.sk
SUMMARY:Veľké čistenie Malého Dunaja
DESCRIPTION:VEĽKÉ ČISTENIE MALÉHO DUNAJA \nPridajte sa k nám a pomôžte nám vyčistiť Malý Dunaj od odpadu\, ktorý do rieky a okolia nepatrí. \n12.9. 2020 v sobotu\, so začiatkom 8.30 v Jelke pri mlyne! \nRozdelíme vás na jednotlivé úseky\, kam vás zavezie autobus a po skončení čistenia vás odvezie späť do Jelky. \nVrecia\, guláš\, dobrú hudbu a kompletnú výstroj (kanoe\, pádla\, vesty) zabezpečíme my\, k dispozícii budú aj jednorazové tenké rukavice. \nNa akciu je potrebné sa vopred prihlásiť: \n\nprostredníctvom FB (poslaním správy)\nna mail info@klubmalydunaj.sk\nak ste skupina\, dohodnite sa a prihláste sa spolu\n\nAkcia je vhodná len pre tých\, ktorí už na vode boli – veľká časť odpadu je pod stromami\, v konároch a my potrebujeme vedieť\, že to bezpečne zvládnete.\nAhoj na vode!
URL:https://bratislavskykraj.sk/podujatie/velke-cistenie-maleho-dunaja/
LOCATION:Vodný kolový mlyn Jelka\, Vodný kolový mlyn Jelka 925 23 Jelka\, Slovenská republika
CATEGORIES:Aktívne trávenie voľného času,Ochrana životného prostredia,Športové podujatie
ATTACH;FMTTYPE=image/jpeg:https://bratislavskykraj.sk/wp-content/uploads/2020/09/159-kanoe-scaled.jpg
END:VEVENT
END:VCALENDAR