BEGIN:VCALENDAR
VERSION:2.0
PRODID:-//Bratislavskykraj.sk - ECPv6.15.20//NONSGML v1.0//EN
CALSCALE:GREGORIAN
METHOD:PUBLISH
X-ORIGINAL-URL:https://bratislavskykraj.sk
X-WR-CALDESC:Udalosti pre Bratislavskykraj.sk
REFRESH-INTERVAL;VALUE=DURATION:PT1H
X-Robots-Tag:noindex
X-PUBLISHED-TTL:PT1H
BEGIN:VTIMEZONE
TZID:Europe/Bratislava
BEGIN:DAYLIGHT
TZOFFSETFROM:+0100
TZOFFSETTO:+0200
TZNAME:CEST
DTSTART:20230326T010000
END:DAYLIGHT
BEGIN:STANDARD
TZOFFSETFROM:+0200
TZOFFSETTO:+0100
TZNAME:CET
DTSTART:20231029T010000
END:STANDARD
BEGIN:DAYLIGHT
TZOFFSETFROM:+0100
TZOFFSETTO:+0200
TZNAME:CEST
DTSTART:20240331T010000
END:DAYLIGHT
BEGIN:STANDARD
TZOFFSETFROM:+0200
TZOFFSETTO:+0100
TZNAME:CET
DTSTART:20241027T010000
END:STANDARD
BEGIN:DAYLIGHT
TZOFFSETFROM:+0100
TZOFFSETTO:+0200
TZNAME:CEST
DTSTART:20250330T010000
END:DAYLIGHT
BEGIN:STANDARD
TZOFFSETFROM:+0200
TZOFFSETTO:+0100
TZNAME:CET
DTSTART:20251026T010000
END:STANDARD
END:VTIMEZONE
BEGIN:VEVENT
DTSTART;TZID=Europe/Bratislava:20241120T190000
DTEND;TZID=Europe/Bratislava:20241120T190000
DTSTAMP:20260422T181514
CREATED:20241021T101520Z
LAST-MODIFIED:20241021T101520Z
UID:150881-1732129200-1732129200@bratislavskykraj.sk
SUMMARY:MUCHA MUCHACHA (Bratislava v pohybe) - Divadlo Aréna
DESCRIPTION:Mladá generácia tvorkýň v diele Para cuatro jinetes (Pre štyroch jazdcov) odkazuje na folklór\, ktorý je v kultúre krajiny stále dominantne prítomný\, transformuje ho však do formy súčasnej performancie\, nabitej energiou. Pre autorky predstavuje folklór tajomné a mätúce miesto plné legiend\, obradov\, sviatkov a tancov vytvorených v minulosti. \nPara cuatro jinetes je dielo\, ktoré hovorí o tele schopnom zadržať čas. O tele\, ktoré je jazdcom aj koňom\, o tele\, ktoré vie v pokore jazdiť na fikciách našej minulosti\, súčasnosti a budúcnosti a dáva nám šancu lepšie pochopiť\, kto sme a čo robíme. \nMucha Muchacha založili Ana Botía\, Marta Mármol\, Belén Martí Lluch a Marina de Remedios v roku 2019. Ako mladá skupina\, ktorá sa zrodila zo španielskeho tanca\, cítia potrebu vnášať do svojej práce súčasnú perspektívu\, byť v neustálom v dialógu so aktuálnym rámcom živého umenia\, ktorý sa tak stáva súčasťou ich perspektívy a ich jazyka. Mucha Muchacha hľadajú blízky vzťah s publikom a posúvajú hranice scénickej inovácie. \nSkupina vytvorila diela Volumen 1 (2019)\, Mucha Muchacha (2021) a Para cuatro jinetes (2023). S cieľom rozširovať spoločné tvorivé obzory Mucha Muchacha od svojich začiatkov spolupracuje s umelcami z iných odborov\, ako je napríklad choreografická práca Renacimiento od La Tristura (2020) a generuje kontexty tvorby a výskumu ako Fiesta otoñal (2018 ) a Fiesta fin de curso (2019)\, alebo Seré folclore (2023).
URL:https://bratislavskykraj.sk/podujatie/mucha-muchacha-bratislava-v-pohybe-divadlo-arena/
LOCATION:Divadlo Aréna\, Viedenská cesta 10\, Bratislava\, 85101
CATEGORIES:Divadlo,Festival
ATTACH;FMTTYPE=image/jpeg:https://bratislavskykraj.sk/wp-content/uploads/2024/10/mucha-muchacha-da.jpg
ORGANIZER;CN="Divadlo Ar%C3%A9na":MAILTO:pokladna@divadloarena.sk
END:VEVENT
END:VCALENDAR