BEGIN:VCALENDAR
VERSION:2.0
PRODID:-//Bratislavskykraj.sk - ECPv6.15.20//NONSGML v1.0//EN
CALSCALE:GREGORIAN
METHOD:PUBLISH
X-WR-CALNAME:Bratislavskykraj.sk
X-ORIGINAL-URL:https://bratislavskykraj.sk
X-WR-CALDESC:Udalosti pre Bratislavskykraj.sk
REFRESH-INTERVAL;VALUE=DURATION:PT1H
X-Robots-Tag:noindex
X-PUBLISHED-TTL:PT1H
BEGIN:VTIMEZONE
TZID:Europe/Bratislava
BEGIN:DAYLIGHT
TZOFFSETFROM:+0100
TZOFFSETTO:+0200
TZNAME:CEST
DTSTART:20250330T010000
END:DAYLIGHT
BEGIN:STANDARD
TZOFFSETFROM:+0200
TZOFFSETTO:+0100
TZNAME:CET
DTSTART:20251026T010000
END:STANDARD
BEGIN:DAYLIGHT
TZOFFSETFROM:+0100
TZOFFSETTO:+0200
TZNAME:CEST
DTSTART:20260329T010000
END:DAYLIGHT
BEGIN:STANDARD
TZOFFSETFROM:+0200
TZOFFSETTO:+0100
TZNAME:CET
DTSTART:20261025T010000
END:STANDARD
BEGIN:DAYLIGHT
TZOFFSETFROM:+0100
TZOFFSETTO:+0200
TZNAME:CEST
DTSTART:20270328T010000
END:DAYLIGHT
BEGIN:STANDARD
TZOFFSETFROM:+0200
TZOFFSETTO:+0100
TZNAME:CET
DTSTART:20271031T010000
END:STANDARD
END:VTIMEZONE
BEGIN:VEVENT
DTSTART;TZID=Europe/Bratislava:20260421T190000
DTEND;TZID=Europe/Bratislava:20260421T190000
DTSTAMP:20260421T033810
CREATED:20260324T144104Z
LAST-MODIFIED:20260324T144104Z
UID:174042-1776798000-1776798000@bratislavskykraj.sk
SUMMARY:BELLA FIGURA - Divadlo Aréna
DESCRIPTION:Najúspešnejšia francúzska autorka\, držiteľka prestížnej ceny Laurenca Oliviera\, laureátka Tony Award\, Grand Prix Francúzskej akadémie a Molièrovej ceny predstavuje hru napísanú na objednávku Schaubühne Berlin\, v spolupráci  s hviezdou nemeckej réžie Thomasom Ostermeierom. \nNóbl reštaurácia\, v ktorej sa stretávajú piati ľudia. Zdá sa\, že všetko je tak\, ako má byť. Aspoň na prvý pohľad to tak vyzerá. \nVšetko sa poriadne zamotá\, keď Boris\, ktorý vezie v aute svoju nevyrovnanú milenku Andreu\, pri cúvaní na parkovisku zrazí staršiu dámu Yvonne. Nič sa jej nestane\, a tak oboch pozve na svoju narodeninovú oslavu. Na tom by nebolo nič zvláštne\, keby to nebola svokra konzervatívnej Françoise – najlepšej priateľky Borisovej manželky. Keď túto nepríjemnú situáciu začne zachraňovať Eric\, chorobne naviazaný na mierne pomätenú matku so zvláštnym zmyslom pre humor\, stretnutie piatich ľudí pri pohári šampanského a morských ježkoch sa náhle zvrtne na absurdne vyšinutý večer\, plný groteskných momentov\, aké vie priniesť iba sám život. \nHrajú: Peter TRNÍK\, Viktória SPIŠÁKOVÁ\, Lenka BARILÍKOVÁ\, Ján JACKULIAK\, Zuzana KOCÚRIKOVÁ | Réžia: Michal SPIŠÁK \nVstupenky si môžete zakúpiť online prostredníctvom stránky www.divadloarena.sk\, alebo osobne počas otváracích hodín pokladne Divadla Aréna na Viedenskej ceste 10 v Bratislave.
URL:https://bratislavskykraj.sk/podujatie/bella-figura-divadlo-arena-23/
LOCATION:Divadlo Aréna\, Viedenská cesta 10\, Bratislava\, 85101
CATEGORIES:Divadlo,Predstavenie
ATTACH;FMTTYPE=image/jpeg:https://bratislavskykraj.sk/wp-content/uploads/2023/04/bella-figura-da-2023.jpg
ORGANIZER;CN="Divadlo Ar%C3%A9na":MAILTO:pokladna@divadloarena.sk
END:VEVENT
BEGIN:VEVENT
DTSTART;TZID=Europe/Bratislava:20260422T190000
DTEND;TZID=Europe/Bratislava:20260422T190000
DTSTAMP:20260421T033810
CREATED:20260324T144747Z
LAST-MODIFIED:20260324T144747Z
UID:174044-1776884400-1776884400@bratislavskykraj.sk
SUMMARY:JAzyk! - Divadlo Aréna (Tanec v Aréne)
DESCRIPTION:Oceňované hudobno-tanečné predstavenie\, v ktorom prebieha na javisku živý dialóg tradície so súčasnosťou. Originálna multižánrová pohybová fúzia\, nie ako sentimentálny pohľad do minulosti\, ale ako emocionálna potreba postaviť sa tvárou tvár k dedičstvu\, ktoré je neustále živé a žité našim JA.\n\n\n\n\n\n\n\nVšade inakší vtáčik\, kriačik\, chrobáčik\, biotop\, biocenóza. Príroda či Stvoriteľ nemali zámer tvoriť národy\, nebodaj spisovné jazyky\, náboženstvá. Jednoducho všade tvorili inšie a inšie rasy\, typy\, povahy\, nárečia\, zvyky\, spievanie\, odievanie\, spôsoby života\, svojráznosti… Aby bolo všade možné inšie vidieť\, obdivovať\, ctiť. Aby sa človek práve úctou odlišoval od zvieraťa… Ján Lazorík\, 1920-2015 \nFolkLab (Folkórne laboratórium) je nová umelecko-vzdelávacia platforma založená občianskym združením Dragúni v záujme sieťovania umelcov a odborníkov aktívne pôsobiacich v oblasti tradičnej kultúry\, interpretačného\, choreograﬁckého\, divadelného\, performatívneho i vizuálneho umenia\, dizajnu\, hudobnej kompozície\, či umeleckého marketingu\, médií a komunikácie v národnom i medzinárodnom kontexte. \nÚčinkujú: Aron Mitu TESFAYE\, Michal ZÁBRAŽNÝ\, Lukáš ZÁHORÁK\, Barbara RANDUŠKOVÁ\, Verona BUOCIKOVÁ\, Anna DUDÁŠOVÁ\, Daniela ĎURIŠKOVÁ\, Barbora MORONGOVÁ\, Kristína OSRMANOVÁ\, Zuzana PALANOVÁ\, Magdaléna PLANIETOVÁ a ďalší | Réžia: Jozef KOLEJÁK
URL:https://bratislavskykraj.sk/podujatie/jazyk-divadlo-arena-tanec-v-arene/
LOCATION:Divadlo Aréna\, Viedenská cesta 10\, Bratislava\, 85101
CATEGORIES:Divadlo,Tanec
ATTACH;FMTTYPE=image/png:https://bratislavskykraj.sk/wp-content/uploads/2026/03/jazyk-upr.png
ORGANIZER;CN="Divadlo Ar%C3%A9na":MAILTO:pokladna@divadloarena.sk
END:VEVENT
BEGIN:VEVENT
DTSTART;TZID=Europe/Bratislava:20260424T100000
DTEND;TZID=Europe/Bratislava:20260424T100000
DTSTAMP:20260421T033810
CREATED:20260324T145055Z
LAST-MODIFIED:20260324T145055Z
UID:174047-1777024800-1777024800@bratislavskykraj.sk
SUMMARY:TUČNIACI KOLÁČE NEPEČÚ - Divadlo Aréna (organizované)
DESCRIPTION:Rozprávka o dvoch tučniakoch\, jednej sliepke s vysávačom a strašne krátkozrakom krtkovi v dynamickom deji plnom vtipných situácií\, prekvapivých zvratov a pesničiek. \nTučniaci nájdu tvarohový koláč\, no keď ho celý zjedia\, zistia\, že patril krtkovi\, ktorý práve oslavuje narodeniny. Krtko je takmer slepý a tak nezistí\, že koláč už neexistuje a tučniaci túto situáciu využívajú. Tak vzniká množstvo vtipných situácií. V tom prichádza sliepka so svojim domácim miláčikom – vysávačom\, ktorý si všetko značkuje olejovými mláčkami. Sliepka sa tvári\, že upiecť nový koláč je hračka\, no stále sa k tomu nemá\, pretože sa venuje konzumácii hrozienok a snaží sa rozbiť priateľstvo dvoch kamarátov – tučniakov. V pravidelných intervaloch sa vracia na scénu ufrflaný krtko. \nTak ako všetky rozprávky\, aj táto sa končí šťastne – zvíťazí priateľstvo a pravda. Zvieratká sa dohodnú\, že nový koláč upečú všetci spolu. \nRozprávka je určená pre deti vo veku od 5 rokov. \nHrajú: Pavol ŠIMUN\, Tomáš TUREK\, Katarína ŠAFAŘÍKOVÁ\, Daniel RATIMORSKÝ | Réžia: Juraj BIELIK
URL:https://bratislavskykraj.sk/podujatie/tucniaci-kolace-nepecu-divadlo-arena-organizovane-2/
LOCATION:Divadlo Aréna\, Viedenská cesta 10\, Bratislava\, 85101
CATEGORIES:Divadlo,Predstavenie
ATTACH;FMTTYPE=image/jpeg:https://bratislavskykraj.sk/wp-content/uploads/2022/12/tucniaci-kolace-nepecu-da.jpg
ORGANIZER;CN="Divadlo Ar%C3%A9na":MAILTO:pokladna@divadloarena.sk
END:VEVENT
BEGIN:VEVENT
DTSTART;TZID=Europe/Bratislava:20260425T110000
DTEND;TZID=Europe/Bratislava:20260425T110000
DTSTAMP:20260421T033810
CREATED:20260324T145233Z
LAST-MODIFIED:20260324T145233Z
UID:174049-1777114800-1777114800@bratislavskykraj.sk
SUMMARY:TUČNIACI KOLÁČE NEPEČÚ - Divadlo Aréna
DESCRIPTION:Rozprávka o dvoch tučniakoch\, jednej sliepke s vysávačom a strašne krátkozrakom krtkovi v dynamickom deji plnom vtipných situácií\, prekvapivých zvratov a pesničiek. \nTučniaci nájdu tvarohový koláč\, no keď ho celý zjedia\, zistia\, že patril krtkovi\, ktorý práve oslavuje narodeniny. Krtko je takmer slepý a tak nezistí\, že koláč už neexistuje a tučniaci túto situáciu využívajú. Tak vzniká množstvo vtipných situácií. V tom prichádza sliepka so svojim domácim miláčikom – vysávačom\, ktorý si všetko značkuje olejovými mláčkami. Sliepka sa tvári\, že upiecť nový koláč je hračka\, no stále sa k tomu nemá\, pretože sa venuje konzumácii hrozienok a snaží sa rozbiť priateľstvo dvoch kamarátov – tučniakov. V pravidelných intervaloch sa vracia na scénu ufrflaný krtko. \nTak ako všetky rozprávky\, aj táto sa končí šťastne – zvíťazí priateľstvo a pravda. Zvieratká sa dohodnú\, že nový koláč upečú všetci spolu. \nRozprávka je určená pre deti vo veku od 5 rokov. \nHrajú: Pavol ŠIMUN\, Tomáš TUREK\, Katarína ŠAFAŘÍKOVÁ\, Daniel RATIMORSKÝ | Réžia: Juraj BIELIK \nVstupenky si môžete zakúpiť online prostredníctvom stránky www.divadloarena.sk\, alebo osobne počas otváracích hodín pokladne Divadla Aréna na Viedenskej ceste 10 v Bratislave.
URL:https://bratislavskykraj.sk/podujatie/tucniaci-kolace-nepecu-divadlo-arena-15/
LOCATION:Divadlo Aréna\, Viedenská cesta 10\, Bratislava\, 85101
CATEGORIES:Divadlo,Predstavenie
ATTACH;FMTTYPE=image/jpeg:https://bratislavskykraj.sk/wp-content/uploads/2022/12/tucniaci-kolace-nepecu-da.jpg
ORGANIZER;CN="Divadlo Ar%C3%A9na":MAILTO:pokladna@divadloarena.sk
END:VEVENT
BEGIN:VEVENT
DTSTART;TZID=Europe/Bratislava:20260426T190000
DTEND;TZID=Europe/Bratislava:20260426T190000
DTSTAMP:20260421T033810
CREATED:20260324T145500Z
LAST-MODIFIED:20260324T145500Z
UID:174051-1777230000-1777230000@bratislavskykraj.sk
SUMMARY:JÁNOŠÍK - príbeh vraha? - Divadlo Aréna
DESCRIPTION:JÁNOŠÍK – príbeh vraha? Dobrá otázka. A nebude jediná. \nAj ďalšie otázky prináša hra Jakuba Nvotu\, napísaná na objednávku Divadla Aréna\, v spolupráci s Historickým ústavom SAV\, ktorá predstavuje osudy nášho národného hrdinu Juraja Jánošíka v novom svetle\, na základe autentických dobových materiálov. \nAko Jánošíka vnímali štúrovci? Koľko síl ich stálo vytvoriť zo zbojníka legendu? \nText hry bol napísaný na objednávku Divadla Aréna a je súčasťou tzv. Občianskeho cyklu Divadla Aréna. Inscenácia vznikla v spolupráci s Historickým ústavom Slovenskej akadémie vied. Kostýmy do inscenácie zapožičala RTVS. V inscenácii zaznejú verše Jána Kalinčiaka z básne Túženie. \nHrajú: Richard AUTNER\, Ondrej KOVAĽ\, Juraj LOJ\, Kamil MIKULČÍK\, Roman POMAJBO\, Broňa KOVÁČIKOVÁ\, Lenka BARILÍKOVÁ | Réžia: Jakub NVOTA \nVstupenky si môžete zakúpiť online prostredníctvom stránky www.divadloarena.sk\, alebo osobne počas otváracích hodín pokladne Divadla Aréna na Viedenskej ceste 10 v Bratislave.
URL:https://bratislavskykraj.sk/podujatie/janosik-pribeh-vraha-divadlo-arena-16/
LOCATION:Divadlo Aréna\, Viedenská cesta 10\, Bratislava\, 85101
CATEGORIES:Divadlo,Prednáška
ATTACH;FMTTYPE=image/jpeg:https://bratislavskykraj.sk/wp-content/uploads/2020/11/janosik-da.jpg
ORGANIZER;CN="Divadlo Ar%C3%A9na":MAILTO:pokladna@divadloarena.sk
END:VEVENT
BEGIN:VEVENT
DTSTART;TZID=Europe/Bratislava:20260427T190000
DTEND;TZID=Europe/Bratislava:20260427T190000
DTSTAMP:20260421T033810
CREATED:20260324T145658Z
LAST-MODIFIED:20260324T145658Z
UID:174053-1777316400-1777316400@bratislavskykraj.sk
SUMMARY:NAJDÚCH - Divadlo Aréna
DESCRIPTION:Záborského klasické dramatické dielo o politike\, boji o moc\, intrigách\, honbe za majetkom a peniazmi\, je príbehom o nás – Slovákoch. Veselohra\, ktorá nielen kritizuje\, ale aj pobaví. \nPolitika\, boj o moc\, intrigy\, honba za majetkami\, obchody a peniaze – to sú priority jednej slovenskej dedinky\, zvanej Chujava. Vplyvní manželia Kobozyovci\, ich arogantný syn Gejza túžiaci stať sa starostom\, utláčaný Chreňovský a vypočítavá Sajha\, nešťastná vdova Rojkovička a jej mladučká dcéra Maňuša s nemanželským dieťaťom. Všetky tieto postavy nachádzame nielen v chalupách z devätnásteho storočia\, ale aj v kultúrnom dome\, ktorý prežil obdobie socializmu a stojí dodnes. Postavy akoby sa tu znova a znova objavovali už po generácie s rovnakým príbehom. Nedokážu ho prerušiť\, pretože vo svojom vyvrcholení nesie zase len zárodok začiatku – akoby išlo o nezastaviteľné divadelné predstavenie\, ktoré herci hrajú stále\, až do skonania sveta. \nV Chujave sa schyľuje k voľbe starostu. Otec Kobozy – doterajší viacnásobný starosta\, chce\, aby všetko prebral syn a tak sa ututlali jeho sprenevery z minulosti. Chýbajú mu však peniaze na poriadnu kampaň. Pôžičku od majetnej Sajhy komplikuje náhly príchod dievčaťa\, ktoré so sebou prináša aj malé dieťa – Gejzovho nemanželského syna. Taký škandál si nemôže nikto dovoliť a preto treba vymyslieť\, čo s deckom. Obrovský konflikt tlmí farár Kozák\, ktorý o celej veci spíše veselohru a navrhne\, aby si ju dedinčania pre pobavenie zahrali. Ten jediný vidí skutočný obraz našej spoločnosti\, komentuje dianie autentickými vyjadreniami autora Záborského a odhaľuje tak charaktery postáv tohto panoptika. \nZáborského príbeh a Nvotova aktualizácia sú groteskou a smiešnou absurditou\, ktorá je až príliš reálna. \nHrajú: Juraj LOJ\, Anikó VARGOVÁ\, Martin ŠALACHA\, Richard AUTNER\, Peter TRNÍK\, Eva SAKÁLOVÁ\, Kamil MIKULČÍK\, Agáta SPIŠÁKOVÁ\, Eva MORES\nRéžia a úprava: Jakub NVOTA \nVstupenky si môžete zakúpiť online prostredníctvom stránky www.divadloarena.sk\, alebo osobne počas otváracích hodín pokladne Divadla Aréna na Viedenskej ceste 10 v Bratislave.
URL:https://bratislavskykraj.sk/podujatie/najduch-divadlo-arena-8/
LOCATION:Divadlo Aréna\, Viedenská cesta 10\, Bratislava\, 85101
CATEGORIES:Divadlo,Predstavenie
ATTACH;FMTTYPE=image/jpeg:https://bratislavskykraj.sk/wp-content/uploads/2025/07/najduch.jpg
ORGANIZER;CN="Divadlo Ar%C3%A9na":MAILTO:pokladna@divadloarena.sk
END:VEVENT
BEGIN:VEVENT
DTSTART;TZID=Europe/Bratislava:20260428T190000
DTEND;TZID=Europe/Bratislava:20260428T190000
DTSTAMP:20260421T033810
CREATED:20260324T145856Z
LAST-MODIFIED:20260324T145856Z
UID:174056-1777402800-1777402800@bratislavskykraj.sk
SUMMARY:TISO - Divadlo Aréna
DESCRIPTION:Monológ muža\, ktorý je považovaný za najtragickejšiu a najkontroverznejšiu postavu slovenských dejín. Spoveď jediného prezidenta satelitného Slovenského štátu v podaní Mariána Labudu ml. \nDr. Jozef Tiso bol nesporne najtragickejšou postavou slovenských dejín. Kresťan a katolícky kňaz\, ktorý zasvätil svoj život viere\, ideálu\, službe národu a neskôr slovenskej štátnosti. V mene svojho ideálu sa spojil s fašistami\, nechal okradnúť 72 000 slovenských židov\, zbaviť ich občianskych a ľudských práv a deportovať za hranice. Väčšina z nich bola zavraždená v koncentračných táboroch. Pred národným súdom\, ktorý ho odsúdil na trest smrti\, odmietol zodpovednosť\, necítil vinu a neprejavil ľútosť. \nInscenácia je súčasťou Občianskeho cyklu Divadla Aréna. \nHrajú: Marián LABUDA ml.\, L. Dóza\, Elo ROMANČÍK\, Richard LABUDA\, Daniel ZWACH\, Máté KANTÁR\, Tomáš BOGNÁR\, Michal KVAŠŠAY\,\nspevácky zbor Technik pod vedením Petry TORKOŠOVEJ | Réžia: Rastislav BALLEK \nVstupenky si môžete zakúpiť online prostredníctvom stránky www.divadloarena.sk\, alebo osobne počas otváracích hodín pokladne Divadla Aréna na Viedenskej ceste 10 v Bratislave.
URL:https://bratislavskykraj.sk/podujatie/tiso-divadlo-arena-7/
LOCATION:Divadlo Aréna\, Viedenská cesta 10\, Bratislava\, 85101
CATEGORIES:Divadlo,Predstavenie
ATTACH;FMTTYPE=image/jpeg:https://bratislavskykraj.sk/wp-content/uploads/2021/08/tiso-da.jpg
ORGANIZER;CN="Divadlo Ar%C3%A9na":MAILTO:pokladna@divadloarena.sk
END:VEVENT
BEGIN:VEVENT
DTSTART;TZID=Europe/Bratislava:20260430T190000
DTEND;TZID=Europe/Bratislava:20260430T190000
DTSTAMP:20260421T033810
CREATED:20260324T150043Z
LAST-MODIFIED:20260324T150043Z
UID:174058-1777575600-1777575600@bratislavskykraj.sk
SUMMARY:ĽADVINA - Divadlo Aréna
DESCRIPTION:Komédia o krehkosti manželstva\, sile priateľstva a o tom\, že pravda vždy (ne)zvíťazí! \nKatarína potrebuje novú ľadvinu a jej manžel Arnold má rovnakú krvnú skupinu. Je však ochotný svoju ľadvinu darovať? Arnold váha a Katarína sa zmieruje s tým\, že novú ľadvinu nedostane. No ich kamarát Gustáv je okamžite pripravený  zastúpiť ho a darovať svoju ľadvinu. Tým sa rozpúta poriadny boj o tento orgán – ako Gustávova manželka Diana\, tak aj Arnold sa začínajú cítiť nekomfortne. Arnold začne žiarliť a Diana sa cíti byť ako manželka a matka nedocenená. A tak sa ocitne v ohrození nielen dvadsaťročné manželstvo Kataríny a Arnolda\, ale aj pätnásťročný zväzok Diany a Gustáva. Dôvera je v troskách\, a to nielen kvôli jednej ľadvine. \nInscenácia nenechá chladným nikoho – stačí položiť svojmu manželovi alebo manželke jednoduchú otázku – daroval(a) by si mi svoju ľadvinu? \nHrajú: Soňa NORISOVÁ\, Marko IGONDA\, Lenka BARILÍKOVÁ\, Gregor HOLOŠKA | Réžia: Michal SPIŠÁK \nVstupenky si môžete zakúpiť online prostredníctvom stránky www.divadloarena.sk\, alebo osobne počas otváracích hodín pokladne Divadla Aréna na Viedenskej ceste 10 v Bratislave.
URL:https://bratislavskykraj.sk/podujatie/ladvina-divadlo-arena-28/
LOCATION:Divadlo Aréna\, Viedenská cesta 10\, Bratislava\, 85101
CATEGORIES:Divadlo,Predstavenie
ATTACH;FMTTYPE=image/jpeg:https://bratislavskykraj.sk/wp-content/uploads/2021/10/ladvina-da.jpg
ORGANIZER;CN="Divadlo Ar%C3%A9na":MAILTO:pokladna@divadloarena.sk
END:VEVENT
END:VCALENDAR