BEGIN:VCALENDAR
VERSION:2.0
PRODID:-//Bratislavskykraj.sk - ECPv6.15.20//NONSGML v1.0//EN
CALSCALE:GREGORIAN
METHOD:PUBLISH
X-WR-CALNAME:Bratislavskykraj.sk
X-ORIGINAL-URL:https://bratislavskykraj.sk
X-WR-CALDESC:Udalosti pre Bratislavskykraj.sk
REFRESH-INTERVAL;VALUE=DURATION:PT1H
X-Robots-Tag:noindex
X-PUBLISHED-TTL:PT1H
BEGIN:VTIMEZONE
TZID:Europe/Bratislava
BEGIN:DAYLIGHT
TZOFFSETFROM:+0100
TZOFFSETTO:+0200
TZNAME:CEST
DTSTART:20230326T010000
END:DAYLIGHT
BEGIN:STANDARD
TZOFFSETFROM:+0200
TZOFFSETTO:+0100
TZNAME:CET
DTSTART:20231029T010000
END:STANDARD
BEGIN:DAYLIGHT
TZOFFSETFROM:+0100
TZOFFSETTO:+0200
TZNAME:CEST
DTSTART:20240331T010000
END:DAYLIGHT
BEGIN:STANDARD
TZOFFSETFROM:+0200
TZOFFSETTO:+0100
TZNAME:CET
DTSTART:20241027T010000
END:STANDARD
BEGIN:DAYLIGHT
TZOFFSETFROM:+0100
TZOFFSETTO:+0200
TZNAME:CEST
DTSTART:20250330T010000
END:DAYLIGHT
BEGIN:STANDARD
TZOFFSETFROM:+0200
TZOFFSETTO:+0100
TZNAME:CET
DTSTART:20251026T010000
END:STANDARD
END:VTIMEZONE
BEGIN:VEVENT
DTSTART;TZID=Europe/Bratislava:20240219T190000
DTEND;TZID=Europe/Bratislava:20240219T190000
DTSTAMP:20260423T141905
CREATED:20240111T133744Z
LAST-MODIFIED:20240111T133744Z
UID:136474-1708369200-1708369200@bratislavskykraj.sk
SUMMARY:ĽADVINA - Divadlo Aréna
DESCRIPTION:Inscenáciu ĽADVINA pre vás hráme v Dome kultúry Zrkadlový háj. \nVstupenky si môžete zakúpiť online prostredníctvom stránky www.divadloarena.sk\, v sieti Ticketportal\, alebo osobne počas otváracích hodín pokladne Domu kultúry Zrkadlový háj\, Rovniankova 3\, Bratislava – Petržalka. Zľavy je možné uplatniť len pri kúpe vstupeniek osobne v pokladni DKZH. \nTragikomédia o krehkosti manželstva\, sile priateľstva a o tom\, že pravda vždy (ne)zvíťazí! \nKatarína potrebuje novú ľadvinu a jej manžel Arnold má rovnakú krvnú skupinu. Je však ochotný svoju ľadvinu darovať? Arnold váha a Katarína sa zmieruje s tým\, že novú ľadvinu nedostane. No ich kamarát Gustáv je okamžite pripravený  zastúpiť ho a darovať svoju ľadvinu. Tým sa rozpúta poriadny boj o tento orgán – ako Gustávova manželka Diana\, tak aj Arnold sa začínajú cítiť nekomfortne. Arnold začne žiarliť a Diana sa cíti byť ako manželka a matka nedocenená. A tak sa ocitne v ohrození nielen dvadsaťročné manželstvo Kataríny a Arnolda\, ale aj pätnásťročný zväzok Diany a Gustáva. Dôvera je v troskách\, a to nielen kvôli jednej ľadvine. \nInscenácia nenechá chladným nikoho – stačí položiť svojmu manželovi alebo manželke jednoduchú otázku – daroval(a) by si mi svoju ľadvinu? \nHrajú: Soňa NORISOVÁ\, Marko IGONDA\, Lenka BARILÍKOVÁ\, Gregor HOLOŠKA | Réžia: Michal SPIŠÁK
URL:https://bratislavskykraj.sk/podujatie/ladvina-divadlo-arena-16/
LOCATION:Dom kultúry Zrkadlový háj
CATEGORIES:Divadlo
ATTACH;FMTTYPE=image/jpeg:https://bratislavskykraj.sk/wp-content/uploads/2024/01/ladvina-da-dk-zh.jpg
ORGANIZER;CN="Divadlo Ar%C3%A9na":MAILTO:pokladna@divadloarena.sk
END:VEVENT
BEGIN:VEVENT
DTSTART;TZID=Europe/Bratislava:20240213T190000
DTEND;TZID=Europe/Bratislava:20240213T190000
DTSTAMP:20260423T141905
CREATED:20240111T133407Z
LAST-MODIFIED:20240111T133407Z
UID:136471-1707850800-1707850800@bratislavskykraj.sk
SUMMARY:SKLENENÝ ZVERINEC - Divadlo Aréna
DESCRIPTION:Inscenáciu SKLENENÝ ZVERINEC pre vás hráme v Dome kultúry Zrkadlový háj. \nVstupenky si môžete zakúpiť online prostredníctvom stránky www.divadloarena.sk\, v sieti Ticketportal\, alebo osobne počas otváracích hodín pokladne Domu kultúry Zrkadlový háj\, Rovniankova 3\, Bratislava – Petržalka. Zľavy je možné uplatniť len pri kúpe vstupeniek osobne v pokladni DKZH. \nDráma o hľadaní vnútorného pokoja\, slobody\, o snoch a nádejach\, ktoré sa často míňajú s našimi životmi. V ťažkých sociálnych pomeroch preberá finančnú zodpovednosť za celú rodinu syn Tom. Drie v továrni na topánky\, aby zaistil chod domácnosti a každú noc mohol snívať v kine. Matka Amanda sa rozhodne\, že vydaj dcéry Laury im môže zabezpečiť svetlejšiu budúcnosť. Laura však žije vo svojom vlastnom svete\, plnom malých sklenených zvieratiek. Všetci očakávajú veľkú zmenu\, keď príbytok Wingfieldovcov navštívi Jim\, milý mladý muž. \n“SKLENENÝ ZVERINEC uvádzame na základe špeciálnej dohody s University of South\, Sewanee\, Tennessee.” \nHrajú: Emília VÁŠÁRYOVÁ\, Alexander BÁRTA\, Ivana UHLÍŘOVÁ/Tereza MAREČKOVÁ\, Tomáš MAŠTALÍR/Jakub RYBÁRIK | Réžia: Martin ČIČVÁK
URL:https://bratislavskykraj.sk/podujatie/skleneny-zverinec-divadlo-arena-9/
LOCATION:Dom kultúry Zrkadlový háj
CATEGORIES:Divadlo
ATTACH;FMTTYPE=image/jpeg:https://bratislavskykraj.sk/wp-content/uploads/2024/01/skleneny-zverinec-da-dk-zh.jpg
ORGANIZER;CN="Divadlo Ar%C3%A9na":MAILTO:pokladna@divadloarena.sk
END:VEVENT
BEGIN:VEVENT
DTSTART;TZID=Europe/Bratislava:20240207T100000
DTEND;TZID=Europe/Bratislava:20240207T100000
DTSTAMP:20260423T141905
CREATED:20240111T132552Z
LAST-MODIFIED:20240111T132616Z
UID:136465-1707300000-1707300000@bratislavskykraj.sk
SUMMARY:JÁNOŠÍK - príbeh vraha? - Divadlo Aréna (HRÁME PRE ŠKOLY)
DESCRIPTION:Inscenáciu JÁNOŠÍK – príbeh vraha? pre školy hráme v Dome kultúry Zrkadlový háj. \nJÁNOŠÍK – príbeh vraha? Dobrá otázka. A nebude jediná. \nAj ďalšie otázky prináša hra Jakuba Nvotu\, napísaná na objednávku Divadla Aréna\, v spolupráci s Historickým ústavom SAV\, ktorá predstavuje osudy nášho národného hrdinu Juraja Jánošíka v novom svetle\, na základe autentických dobových materiálov. \nAko Jánošíka vnímali štúrovci? Koľko síl ich stálo vytvoriť zo zbojníka legendu? \nText hry bol napísaný na objednávku Divadla Aréna a je súčasťou tzv. Občianskeho cyklu Divadla Aréna. Inscenácia vznikla v spolupráci s Historickým ústavom Slovenskej akadémie vied. Kostýmy do inscenácie zapožičala RTVS. V inscenácii zaznejú verše Jána Kalinčiaka z básne Túženie. \nHrajú: Richard AUTNER\, Ondrej KOVAĽ\, Juraj LOJ\, Kamil MIKULČÍK\, Roman POMAJBO\, Broňa KOVÁČIKOVÁ\, Elena PODZÁMSKA/Lenka BARILÍKOVÁ | Réžia: Jakub NVOTA
URL:https://bratislavskykraj.sk/podujatie/janosik-pribeh-vraha-divadlo-arena-hrame-pre-skoly-2/
LOCATION:Dom kultúry Zrkadlový háj
CATEGORIES:Divadlo
ATTACH;FMTTYPE=image/jpeg:https://bratislavskykraj.sk/wp-content/uploads/2024/01/janosik-da-dk-zh.jpg
ORGANIZER;CN="Divadlo Ar%C3%A9na":MAILTO:pokladna@divadloarena.sk
END:VEVENT
BEGIN:VEVENT
DTSTART;TZID=Europe/Bratislava:20240206T190000
DTEND;TZID=Europe/Bratislava:20240206T190000
DTSTAMP:20260423T141905
CREATED:20240111T132126Z
LAST-MODIFIED:20240111T132126Z
UID:136462-1707246000-1707246000@bratislavskykraj.sk
SUMMARY:JÁNOŠÍK - príbeh vraha? - Divadlo Aréna
DESCRIPTION:Inscenáciu JÁNOŠÍK – príbeh vraha? pre vás hráme v Dome kultúry Zrkadlový háj. \nVstupenky si môžete zakúpiť online prostredníctvom stránky www.divadloarena.sk\, v sieti Ticketportal\, alebo osobne počas otváracích hodín pokladne Domu kultúry Zrkadlový háj\, Rovniankova 3\, Bratislava – Petržalka. Zľavy je možné uplatniť len pri kúpe vstupeniek osobne v pokladni DKZH. \nJÁNOŠÍK – príbeh vraha? Dobrá otázka. A nebude jediná. \nAj ďalšie otázky prináša hra Jakuba Nvotu\, napísaná na objednávku Divadla Aréna\, v spolupráci s Historickým ústavom SAV\, ktorá predstavuje osudy nášho národného hrdinu Juraja Jánošíka v novom svetle\, na základe autentických dobových materiálov. \nAko Jánošíka vnímali štúrovci? Koľko síl ich stálo vytvoriť zo zbojníka legendu? \nText hry bol napísaný na objednávku Divadla Aréna a je súčasťou tzv. Občianskeho cyklu Divadla Aréna. Inscenácia vznikla v spolupráci s Historickým ústavom Slovenskej akadémie vied. Kostýmy do inscenácie zapožičala RTVS. V inscenácii zaznejú verše Jána Kalinčiaka z básne Túženie. \nHrajú: Richard AUTNER\, Ondrej KOVAĽ\, Juraj LOJ\, Kamil MIKULČÍK\, Roman POMAJBO\, Broňa KOVÁČIKOVÁ\, Elena PODZÁMSKA/Lenka BARILÍKOVÁ | Réžia: Jakub NVOTA
URL:https://bratislavskykraj.sk/podujatie/janosik-pribeh-vraha-divadlo-arena-11/
LOCATION:Dom kultúry Zrkadlový háj
CATEGORIES:Divadlo
ATTACH;FMTTYPE=image/jpeg:https://bratislavskykraj.sk/wp-content/uploads/2024/01/janosik-da-dk-zh.jpg
ORGANIZER;CN="Divadlo Ar%C3%A9na":MAILTO:pokladna@divadloarena.sk
END:VEVENT
BEGIN:VEVENT
DTSTART;TZID=Europe/Bratislava:20240122T190000
DTEND;TZID=Europe/Bratislava:20240122T190000
DTSTAMP:20260423T141905
CREATED:20240111T131051Z
LAST-MODIFIED:20240111T131051Z
UID:136456-1705950000-1705950000@bratislavskykraj.sk
SUMMARY:BELLA FIGURA - Divadlo Aréna
DESCRIPTION:Inscenáciu BELLA FIGURA pre vás hráme v Dome kultúry Zrkadlový háj. \nVstupenky si môžete zakúpiť online prostredníctvom stránky www.divadloarena.sk\, v sieti Ticketportal\, alebo osobne počas otváracích hodín pokladne Domu kultúry Zrkadlový háj\, Rovniankova 3\, Bratislava – Petržalka. Zľavy je možné uplatniť len pri kúpe vstupeniek osobne v pokladni DKZH. \nNajúspešnejšia francúzska autorka\, držiteľka prestížnej ceny Laurenca Oliviera\, laureátka Tony Award\, Grand Prix Francúzskej akadémie a Molièrovej ceny predstavuje hru napísanú na objednávku Schaubühne Berlin\, v spolupráci  s hviezdou nemeckej réžie Thomasom Ostermeierom. \nNóbl reštaurácia\, v ktorej sa stretávajú piati ľudia. Zdá sa\, že všetko je tak\, ako má byť. Aspoň na prvý pohľad to tak vyzerá. \nVšetko sa poriadne zamotá\, keď Boris\, ktorý vezie v aute svoju nevyrovnanú milenku Andreu\, pri cúvaní na parkovisku zrazí staršiu dámu Yvonne. Nič sa jej nestane\, a tak oboch pozve na svoju narodeninovú oslavu. Na tom by nebolo nič zvláštne\, keby to nebola svokra konzervatívnej Françoise – najlepšej priateľky Borisovej manželky. Keď túto nepríjemnú situáciu začne zachraňovať Eric\, chorobne naviazaný na mierne pomätenú matku so zvláštnym zmyslom pre humor\, stretnutie piatich ľudí pri pohári šampanského a morských ježkoch sa náhle zvrtne na absurdne vyšinutý večer\, plný groteskných momentov\, aké vie priniesť iba sám život. \nHrajú: Peter TRNÍK\, Zuzana PORUBJAKOVÁ/Alena PAJTINKOVÁ\, Lenka BARILÍKOVÁ\, Ján JACKULIAK\, Zuzana KOCÚRIKOVÁ | Réžia: Michal SPIŠÁK
URL:https://bratislavskykraj.sk/podujatie/bella-figura-divadlo-arena-12/
LOCATION:Dom kultúry Zrkadlový háj
CATEGORIES:Divadlo
ATTACH;FMTTYPE=image/jpeg:https://bratislavskykraj.sk/wp-content/uploads/2024/01/bella-figura-da-dk-zh.jpg
ORGANIZER;CN="Divadlo Ar%C3%A9na":MAILTO:pokladna@divadloarena.sk
END:VEVENT
BEGIN:VEVENT
DTSTART;TZID=Europe/Bratislava:20240115T190000
DTEND;TZID=Europe/Bratislava:20240115T190000
DTSTAMP:20260423T141905
CREATED:20240111T130657Z
LAST-MODIFIED:20240111T130657Z
UID:136452-1705345200-1705345200@bratislavskykraj.sk
SUMMARY:ÍRSKA KLIATBA - Divadlo Aréna
DESCRIPTION:Inscenáciu ÍRSKA KLIATBA pre vás hráme v Dome kultúry Zrkadlový háj. \nVstupenky si môžete zakúpiť online prostredníctvom stránky www.divadloarena.sk\, v sieti Ticketportal\, alebo osobne počas otváracích hodín pokladne Domu kultúry Zrkadlový háj\, Rovniankova 3\, Bratislava – Petržalka. Zľavy je možné uplatniť len pri kúpe vstupeniek osobne v pokladni DKZH. \nJoseph – úspešný právnik a otec dvoch dcér. Stephen – atraktívny\, vtipný a inteligentný policajt. Rick – mladý\, perspektívny študent a aktívny športovec. A otec Kevin – obľúbený a rešpektovaný pastor vo farnosti kdesi na Manhattane. Okolo nich New York – najvzrušujúcejšie miesto sveta. Big Apple. Kde by mohol byť problém? Aký by títo muži mohli vôbec mať problém? Odpoveď na túto otázku je za hranicou vašej predstavivosti. \nUPOZORNENIE: Inscenácia obsahuje výrazy\, ktoré nie sú vhodné pre divákov do 18 rokov. \nHrajú: Braňo DEÁK\, Ján JACKULIAK\, Marek MAJESKÝ\, Martin HRONSKÝ\, Juraj LOJ | Réžia: Juraj BIELIK
URL:https://bratislavskykraj.sk/podujatie/irska-kliatba-divadlo-arena-12/
LOCATION:Dom kultúry Zrkadlový háj
CATEGORIES:Divadlo
ATTACH;FMTTYPE=image/jpeg:https://bratislavskykraj.sk/wp-content/uploads/2024/01/irska-kliatba-da-dk-zh.jpg
ORGANIZER;CN="Divadlo Ar%C3%A9na":MAILTO:pokladna@divadloarena.sk
END:VEVENT
END:VCALENDAR