BEGIN:VCALENDAR
VERSION:2.0
PRODID:-//Bratislavskykraj.sk - ECPv6.15.20//NONSGML v1.0//EN
CALSCALE:GREGORIAN
METHOD:PUBLISH
X-ORIGINAL-URL:https://bratislavskykraj.sk
X-WR-CALDESC:Udalosti pre Bratislavskykraj.sk
REFRESH-INTERVAL;VALUE=DURATION:PT1H
X-Robots-Tag:noindex
X-PUBLISHED-TTL:PT1H
BEGIN:VTIMEZONE
TZID:Europe/Bratislava
BEGIN:DAYLIGHT
TZOFFSETFROM:+0100
TZOFFSETTO:+0200
TZNAME:CEST
DTSTART:20250330T010000
END:DAYLIGHT
BEGIN:STANDARD
TZOFFSETFROM:+0200
TZOFFSETTO:+0100
TZNAME:CET
DTSTART:20251026T010000
END:STANDARD
BEGIN:DAYLIGHT
TZOFFSETFROM:+0100
TZOFFSETTO:+0200
TZNAME:CEST
DTSTART:20260329T010000
END:DAYLIGHT
BEGIN:STANDARD
TZOFFSETFROM:+0200
TZOFFSETTO:+0100
TZNAME:CET
DTSTART:20261025T010000
END:STANDARD
BEGIN:DAYLIGHT
TZOFFSETFROM:+0100
TZOFFSETTO:+0200
TZNAME:CEST
DTSTART:20270328T010000
END:DAYLIGHT
BEGIN:STANDARD
TZOFFSETFROM:+0200
TZOFFSETTO:+0100
TZNAME:CET
DTSTART:20271031T010000
END:STANDARD
END:VTIMEZONE
BEGIN:VEVENT
DTSTART;TZID=Europe/Bratislava:20260421T190000
DTEND;TZID=Europe/Bratislava:20260421T190000
DTSTAMP:20260421T033807
CREATED:20260324T144104Z
LAST-MODIFIED:20260324T144104Z
UID:174042-1776798000-1776798000@bratislavskykraj.sk
SUMMARY:BELLA FIGURA - Divadlo Aréna
DESCRIPTION:Najúspešnejšia francúzska autorka\, držiteľka prestížnej ceny Laurenca Oliviera\, laureátka Tony Award\, Grand Prix Francúzskej akadémie a Molièrovej ceny predstavuje hru napísanú na objednávku Schaubühne Berlin\, v spolupráci  s hviezdou nemeckej réžie Thomasom Ostermeierom. \nNóbl reštaurácia\, v ktorej sa stretávajú piati ľudia. Zdá sa\, že všetko je tak\, ako má byť. Aspoň na prvý pohľad to tak vyzerá. \nVšetko sa poriadne zamotá\, keď Boris\, ktorý vezie v aute svoju nevyrovnanú milenku Andreu\, pri cúvaní na parkovisku zrazí staršiu dámu Yvonne. Nič sa jej nestane\, a tak oboch pozve na svoju narodeninovú oslavu. Na tom by nebolo nič zvláštne\, keby to nebola svokra konzervatívnej Françoise – najlepšej priateľky Borisovej manželky. Keď túto nepríjemnú situáciu začne zachraňovať Eric\, chorobne naviazaný na mierne pomätenú matku so zvláštnym zmyslom pre humor\, stretnutie piatich ľudí pri pohári šampanského a morských ježkoch sa náhle zvrtne na absurdne vyšinutý večer\, plný groteskných momentov\, aké vie priniesť iba sám život. \nHrajú: Peter TRNÍK\, Viktória SPIŠÁKOVÁ\, Lenka BARILÍKOVÁ\, Ján JACKULIAK\, Zuzana KOCÚRIKOVÁ | Réžia: Michal SPIŠÁK \nVstupenky si môžete zakúpiť online prostredníctvom stránky www.divadloarena.sk\, alebo osobne počas otváracích hodín pokladne Divadla Aréna na Viedenskej ceste 10 v Bratislave.
URL:https://bratislavskykraj.sk/podujatie/bella-figura-divadlo-arena-23/
LOCATION:Divadlo Aréna\, Viedenská cesta 10\, Bratislava\, 85101
CATEGORIES:Divadlo,Predstavenie
ATTACH;FMTTYPE=image/jpeg:https://bratislavskykraj.sk/wp-content/uploads/2023/04/bella-figura-da-2023.jpg
ORGANIZER;CN="Divadlo Ar%C3%A9na":MAILTO:pokladna@divadloarena.sk
END:VEVENT
BEGIN:VEVENT
DTSTART;TZID=Europe/Bratislava:20260427T190000
DTEND;TZID=Europe/Bratislava:20260427T190000
DTSTAMP:20260421T033807
CREATED:20260324T145658Z
LAST-MODIFIED:20260324T145658Z
UID:174053-1777316400-1777316400@bratislavskykraj.sk
SUMMARY:NAJDÚCH - Divadlo Aréna
DESCRIPTION:Záborského klasické dramatické dielo o politike\, boji o moc\, intrigách\, honbe za majetkom a peniazmi\, je príbehom o nás – Slovákoch. Veselohra\, ktorá nielen kritizuje\, ale aj pobaví. \nPolitika\, boj o moc\, intrigy\, honba za majetkami\, obchody a peniaze – to sú priority jednej slovenskej dedinky\, zvanej Chujava. Vplyvní manželia Kobozyovci\, ich arogantný syn Gejza túžiaci stať sa starostom\, utláčaný Chreňovský a vypočítavá Sajha\, nešťastná vdova Rojkovička a jej mladučká dcéra Maňuša s nemanželským dieťaťom. Všetky tieto postavy nachádzame nielen v chalupách z devätnásteho storočia\, ale aj v kultúrnom dome\, ktorý prežil obdobie socializmu a stojí dodnes. Postavy akoby sa tu znova a znova objavovali už po generácie s rovnakým príbehom. Nedokážu ho prerušiť\, pretože vo svojom vyvrcholení nesie zase len zárodok začiatku – akoby išlo o nezastaviteľné divadelné predstavenie\, ktoré herci hrajú stále\, až do skonania sveta. \nV Chujave sa schyľuje k voľbe starostu. Otec Kobozy – doterajší viacnásobný starosta\, chce\, aby všetko prebral syn a tak sa ututlali jeho sprenevery z minulosti. Chýbajú mu však peniaze na poriadnu kampaň. Pôžičku od majetnej Sajhy komplikuje náhly príchod dievčaťa\, ktoré so sebou prináša aj malé dieťa – Gejzovho nemanželského syna. Taký škandál si nemôže nikto dovoliť a preto treba vymyslieť\, čo s deckom. Obrovský konflikt tlmí farár Kozák\, ktorý o celej veci spíše veselohru a navrhne\, aby si ju dedinčania pre pobavenie zahrali. Ten jediný vidí skutočný obraz našej spoločnosti\, komentuje dianie autentickými vyjadreniami autora Záborského a odhaľuje tak charaktery postáv tohto panoptika. \nZáborského príbeh a Nvotova aktualizácia sú groteskou a smiešnou absurditou\, ktorá je až príliš reálna. \nHrajú: Juraj LOJ\, Anikó VARGOVÁ\, Martin ŠALACHA\, Richard AUTNER\, Peter TRNÍK\, Eva SAKÁLOVÁ\, Kamil MIKULČÍK\, Agáta SPIŠÁKOVÁ\, Eva MORES\nRéžia a úprava: Jakub NVOTA \nVstupenky si môžete zakúpiť online prostredníctvom stránky www.divadloarena.sk\, alebo osobne počas otváracích hodín pokladne Divadla Aréna na Viedenskej ceste 10 v Bratislave.
URL:https://bratislavskykraj.sk/podujatie/najduch-divadlo-arena-8/
LOCATION:Divadlo Aréna\, Viedenská cesta 10\, Bratislava\, 85101
CATEGORIES:Divadlo,Predstavenie
ATTACH;FMTTYPE=image/jpeg:https://bratislavskykraj.sk/wp-content/uploads/2025/07/najduch.jpg
ORGANIZER;CN="Divadlo Ar%C3%A9na":MAILTO:pokladna@divadloarena.sk
END:VEVENT
BEGIN:VEVENT
DTSTART;TZID=Europe/Bratislava:20260430T190000
DTEND;TZID=Europe/Bratislava:20260430T190000
DTSTAMP:20260421T033807
CREATED:20260324T150043Z
LAST-MODIFIED:20260324T150043Z
UID:174058-1777575600-1777575600@bratislavskykraj.sk
SUMMARY:ĽADVINA - Divadlo Aréna
DESCRIPTION:Komédia o krehkosti manželstva\, sile priateľstva a o tom\, že pravda vždy (ne)zvíťazí! \nKatarína potrebuje novú ľadvinu a jej manžel Arnold má rovnakú krvnú skupinu. Je však ochotný svoju ľadvinu darovať? Arnold váha a Katarína sa zmieruje s tým\, že novú ľadvinu nedostane. No ich kamarát Gustáv je okamžite pripravený  zastúpiť ho a darovať svoju ľadvinu. Tým sa rozpúta poriadny boj o tento orgán – ako Gustávova manželka Diana\, tak aj Arnold sa začínajú cítiť nekomfortne. Arnold začne žiarliť a Diana sa cíti byť ako manželka a matka nedocenená. A tak sa ocitne v ohrození nielen dvadsaťročné manželstvo Kataríny a Arnolda\, ale aj pätnásťročný zväzok Diany a Gustáva. Dôvera je v troskách\, a to nielen kvôli jednej ľadvine. \nInscenácia nenechá chladným nikoho – stačí položiť svojmu manželovi alebo manželke jednoduchú otázku – daroval(a) by si mi svoju ľadvinu? \nHrajú: Soňa NORISOVÁ\, Marko IGONDA\, Lenka BARILÍKOVÁ\, Gregor HOLOŠKA | Réžia: Michal SPIŠÁK \nVstupenky si môžete zakúpiť online prostredníctvom stránky www.divadloarena.sk\, alebo osobne počas otváracích hodín pokladne Divadla Aréna na Viedenskej ceste 10 v Bratislave.
URL:https://bratislavskykraj.sk/podujatie/ladvina-divadlo-arena-28/
LOCATION:Divadlo Aréna\, Viedenská cesta 10\, Bratislava\, 85101
CATEGORIES:Divadlo,Predstavenie
ATTACH;FMTTYPE=image/jpeg:https://bratislavskykraj.sk/wp-content/uploads/2021/10/ladvina-da.jpg
ORGANIZER;CN="Divadlo Ar%C3%A9na":MAILTO:pokladna@divadloarena.sk
END:VEVENT
END:VCALENDAR