BEGIN:VCALENDAR
VERSION:2.0
PRODID:-//Bratislavskykraj.sk - ECPv6.15.20//NONSGML v1.0//EN
CALSCALE:GREGORIAN
METHOD:PUBLISH
X-WR-CALNAME:Bratislavskykraj.sk
X-ORIGINAL-URL:https://bratislavskykraj.sk
X-WR-CALDESC:Udalosti pre Bratislavskykraj.sk
REFRESH-INTERVAL;VALUE=DURATION:PT1H
X-Robots-Tag:noindex
X-PUBLISHED-TTL:PT1H
BEGIN:VTIMEZONE
TZID:Europe/Bratislava
BEGIN:DAYLIGHT
TZOFFSETFROM:+0100
TZOFFSETTO:+0200
TZNAME:CEST
DTSTART:20190331T010000
END:DAYLIGHT
BEGIN:STANDARD
TZOFFSETFROM:+0200
TZOFFSETTO:+0100
TZNAME:CET
DTSTART:20191027T010000
END:STANDARD
BEGIN:DAYLIGHT
TZOFFSETFROM:+0100
TZOFFSETTO:+0200
TZNAME:CEST
DTSTART:20200329T010000
END:DAYLIGHT
BEGIN:STANDARD
TZOFFSETFROM:+0200
TZOFFSETTO:+0100
TZNAME:CET
DTSTART:20201025T010000
END:STANDARD
BEGIN:DAYLIGHT
TZOFFSETFROM:+0100
TZOFFSETTO:+0200
TZNAME:CEST
DTSTART:20210328T010000
END:DAYLIGHT
BEGIN:STANDARD
TZOFFSETFROM:+0200
TZOFFSETTO:+0100
TZNAME:CET
DTSTART:20211031T010000
END:STANDARD
BEGIN:DAYLIGHT
TZOFFSETFROM:+0100
TZOFFSETTO:+0200
TZNAME:CEST
DTSTART:20220327T010000
END:DAYLIGHT
BEGIN:STANDARD
TZOFFSETFROM:+0200
TZOFFSETTO:+0100
TZNAME:CET
DTSTART:20221030T010000
END:STANDARD
BEGIN:DAYLIGHT
TZOFFSETFROM:+0100
TZOFFSETTO:+0200
TZNAME:CEST
DTSTART:20230326T010000
END:DAYLIGHT
BEGIN:STANDARD
TZOFFSETFROM:+0200
TZOFFSETTO:+0100
TZNAME:CET
DTSTART:20231029T010000
END:STANDARD
BEGIN:DAYLIGHT
TZOFFSETFROM:+0100
TZOFFSETTO:+0200
TZNAME:CEST
DTSTART:20240331T010000
END:DAYLIGHT
BEGIN:STANDARD
TZOFFSETFROM:+0200
TZOFFSETTO:+0100
TZNAME:CET
DTSTART:20241027T010000
END:STANDARD
BEGIN:DAYLIGHT
TZOFFSETFROM:+0100
TZOFFSETTO:+0200
TZNAME:CEST
DTSTART:20250330T010000
END:DAYLIGHT
BEGIN:STANDARD
TZOFFSETFROM:+0200
TZOFFSETTO:+0100
TZNAME:CET
DTSTART:20251026T010000
END:STANDARD
BEGIN:DAYLIGHT
TZOFFSETFROM:+0100
TZOFFSETTO:+0200
TZNAME:CEST
DTSTART:20260329T010000
END:DAYLIGHT
BEGIN:STANDARD
TZOFFSETFROM:+0200
TZOFFSETTO:+0100
TZNAME:CET
DTSTART:20261025T010000
END:STANDARD
BEGIN:DAYLIGHT
TZOFFSETFROM:+0100
TZOFFSETTO:+0200
TZNAME:CEST
DTSTART:20270328T010000
END:DAYLIGHT
BEGIN:STANDARD
TZOFFSETFROM:+0200
TZOFFSETTO:+0100
TZNAME:CET
DTSTART:20271031T010000
END:STANDARD
END:VTIMEZONE
BEGIN:VEVENT
DTSTART;TZID=Europe/Bratislava:20260124T190000
DTEND;TZID=Europe/Bratislava:20260124T190000
DTSTAMP:20260421T031719
CREATED:20251218T180533Z
LAST-MODIFIED:20251218T180533Z
UID:169621-1769281200-1769281200@bratislavskykraj.sk
SUMMARY:NOVOROČNÝ KONCERT PETER BREINER - Divadlo Aréna
DESCRIPTION:Novoročný koncert svetovo uznávaného skladateľa a klaviristu Petra Breinera\, spojený so slovenskou premiérou albumu Angry Piano Music for Desperate Times. \nHudba ako umelecká reakcia na svet plný napätia. Zúrivosť\, melanchólia\, meditácia\, ale aj tiché záblesky nádeje – to všetko sa spája v jedinečnom klavírnom projekte svetovo uznávaného skladateľa a klaviristu Petra Breinera. Počas večera zaznejú skladby z jeho najnovšieho albumu v slovenskej premiére\, doplnené o výber z jeho bohatej autorskej tvorby. \nSúčasťou programu bude aj živý rozhovor Petra Breinera so spisovateľom Michalom Hvoreckým. Diskusia ponúkne otvorený pohľad na korene tvorcu\, osobnú skúsenosť s totalitami aj s novodobými digitálnymi autoritárstvami\, na otcovstvo\, seniorské roky a na to\, čo pretrváva aj v časoch otrasov: láska k hudbe\, kráse a umeniu. \nVečer\, v ktorom hudba hovorí o hneve\, strachu\, pamäti – ale aj o nezlomnej nádeji.\nAko sám autor s úsmevom dodáva: „Bude to veselý večierok.“
URL:https://bratislavskykraj.sk/podujatie/novorocny-koncert-peter-breiner-divadlo-arena/
LOCATION:Divadlo Aréna\, Viedenská cesta 10\, Bratislava\, 85101
CATEGORIES:Koncert
ATTACH;FMTTYPE=image/png:https://bratislavskykraj.sk/wp-content/uploads/2025/12/novorocny-koncert-breiner.png
ORGANIZER;CN="Divadlo Ar%C3%A9na":MAILTO:pokladna@divadloarena.sk
END:VEVENT
BEGIN:VEVENT
DTSTART;TZID=Europe/Bratislava:20250915T190000
DTEND;TZID=Europe/Bratislava:20250915T190000
DTSTAMP:20260421T031719
CREATED:20250704T082908Z
LAST-MODIFIED:20250704T082908Z
UID:163380-1757962800-1757962800@bratislavskykraj.sk
SUMMARY:SVETLO POROZUMENIA - Shalom Chaverim 2025 | Divadlo Aréna
DESCRIPTION:Záverečný koncert Festivalu židovskej kultúry Shalom Chaverim 2025. \nSvetlo Porozumenia sa opäť vracia do Bratislavy. Ocenený projekt Petra Györiho bude záverečným koncertom festivalu židovskej kultúry Shalom Chaverim 2025. \nVo večeri nabitom emóciami sa na pódiu stretnú umelci reprezentujúci rôzne hudobné žánre\, od klasickej hudby\, cez alternatívu a jazz až po folklór. \nJednotliví účinkujúci vystúpia samostatne i v rôznych zoskupeniach. Program vyvrcholí finálnou záverečnou skladbou\, skomponovanou špeciálne pre túto udalosť za účasti všetkých umelcov. \nÚčinkujú: Peter Györi\, Annamária d’Almeida\, Peter Tomko\, Robert Fischmann\, Miroslav Jankech\, Slovenské kvarteto\, Morenito De Triana\, Jozef Zima\, Zuzana Fujacová\, Iveta Rivero\, Spevácky zbor mesta Bratislavy\, Sirenčatá\, a ďalší.
URL:https://bratislavskykraj.sk/podujatie/svetlo-porozumenia-shalom-chaverim-2025-divadlo-arena/
LOCATION:Divadlo Aréna\, Viedenská cesta 10\, Bratislava\, 85101
CATEGORIES:Festival,Koncert
ATTACH;FMTTYPE=image/png:https://bratislavskykraj.sk/wp-content/uploads/2025/07/svetlo-porozumenia.png
ORGANIZER;CN="Divadlo Ar%C3%A9na":MAILTO:pokladna@divadloarena.sk
END:VEVENT
BEGIN:VEVENT
DTSTART;TZID=Europe/Bratislava:20250911T190000
DTEND;TZID=Europe/Bratislava:20250911T190000
DTSTAMP:20260421T031719
CREATED:20250704T075558Z
LAST-MODIFIED:20250704T075558Z
UID:163371-1757617200-1757617200@bratislavskykraj.sk
SUMMARY:30 ROKOV PREßBURGER KLEZMER BAND - Shalom Chaverim 2025 | Divadlo Aréna
DESCRIPTION:Festival židovskej kultúry Shalom Chaverim 2025 prináša jedinečný hudobný zážitok v podobe nezabudnuteľného dvojkoncertu pri príležitosti 30. výročia skupiny Preßburger Klezmer Band. \nNenechajte si ujsť jedinečný koncert skupiny PREßBURGER KLEZMER BIG BAND\, ktorá zároveň uvedie do života svoje nové CD „Preßburger Klezmer Big Band LIVE“! \nŠpeciálnym hosťom večera bude Running Through The Woods z Veľkej Británie. V tomto unikátnom spojení zaznejú dve výrazné britské duá – Merlin & Polina Shepherd (improvizácia\, sloboda\, spontánnosť a prepojenie kultúr) a Fran & Flora (originálna zmes folku\, avantgardy a populárnej hudby). \nPríďte osláviť 30 rokov výnimočnej hudby\, energie a radosti zo spoločného tvorenia! Nezmeškajte koncert\, ktorý sa stane hudobnou udalosťou roka a spojí špičkových umelcov z domova aj zo zahraničia. \n„Polina and Merlin Shepherd – Led Zeppelin súčasnej jidiš hudby.“ – Seth Rogovoy\, autor knihy „The Essential Klezmer“ \nDuo Merlin a Polina Shepherd (klarinety\, spev\, klavír) vystupuje spoločne spôsobom\, s akým sa stretávame len zriedka. Hrajú hudbu z niekoľkých prepojených kultúr s improvizáciou\, slobodou a spontánnosťou. Hravý prístup dua k ich koreňovým tradíciám – klezmeru\, slovanským\, východoeurópskym a juhostredomorským – je plný poznania a úcty. Vytvára jedinečný zvuk\, ktorý v sebe zahŕňa pretrvávajúceho ducha folklóru a poslucháča posúva do nových dimenzií. \nMerlin & Polina vystupujú ako duo od roku 2004. Okrem vlastných koncertov medzinárodne spolupracujú s interpretmi rôznych odborov: barokovým orchestrom\, punkovou kapelou\, súčasnými tanečníkmi\, DJ-mi\, divadelnými produkciami… \nFran & Flora \nKritikou oceňované nahrávky a strhujúce živé vystúpenia Fran & Flora viedli k ich rýchlemu vzostupu v oblasti folku\, avantgardy a populárnej hudby. Druhý album Precious Collection (Hidden Notes Records’24\, Guardian Folk Album of the Year) predstavuje unikátne prepracovaný jidiš materiál a pôvodné kompozície pre violončelo\, husle\, elektroniku\, hlasy a bicie\, ktoré vytvárajú intímnu\, sugestívnu a „hranice prekračujúcu“ (Mojo) estetiku. \nDuo čerpá materiál priamo z archívnych nahrávok\, nájdených rukopisov a štúdia s majstrami tradičnej hudby od hôr Maramureșu až po Berlín a New York. Fran & Flora zďaleka nereprodukujú hudbu z minulej éry\, ich zložito vymodelovaný súčasný a virtuózny zvuk bol opísaný ako „rovnako experimentálny ako prístupný“ (The Guardian). \nFran & Flora\, uznávaní ako poprední umelci vo svojom odbore\, očarili publikum od Londýna až po Montreal a vystupovali pred vypredaným publikom na prestížnych festivaloch a miestach.
URL:https://bratislavskykraj.sk/podujatie/30-rokov-presburger-klezmer-band-shalom-chaverim-2025-divadlo-arena/
LOCATION:Divadlo Aréna\, Viedenská cesta 10\, Bratislava\, 85101
CATEGORIES:Festival,Koncert
ATTACH;FMTTYPE=image/png:https://bratislavskykraj.sk/wp-content/uploads/2025/07/dvojkoncert30.png
ORGANIZER;CN="Divadlo Ar%C3%A9na":MAILTO:pokladna@divadloarena.sk
END:VEVENT
BEGIN:VEVENT
DTSTART;TZID=Europe/Bratislava:20250909T190000
DTEND;TZID=Europe/Bratislava:20250909T190000
DTSTAMP:20260421T031719
CREATED:20250704T074815Z
LAST-MODIFIED:20250704T075729Z
UID:163367-1757444400-1757444400@bratislavskykraj.sk
SUMMARY:OTVÁRACÍ KONCERT SHALOM CHAVERIM – Shalom Chaverim 2025 | Divadlo Aréna
DESCRIPTION:Otvárací koncert Festivalu židovskej kultúry Shalom Chaverim 2025. \nNa slávnostnom pódiu v Divadle Aréna sa predstaví výnimočné hudobné teleso Hilaris Chamber Orchestra pod taktovkou renomovaného dirigenta Petra Breinera. Hosťujúcou hviezdou večera bude uznávaná maďarská huslistka Orsolya Korcsolan\, známa svojim citlivým prejavom a bohatými medzinárodnými úspechmi. \nĎalším sólistom je slovenský klarinetista Albín Blaho\, ktorý kladie dôraz na technickú vyspelosť\, výrazovú pestrosť a komornú spoluprácu. Podľa vlastných slov je preňho dôležité\, aby interpret udržiaval kondíciu a rozvíjal sa nielen v sólovej\, ale aj v komornej hre\, kde klarinet často zastáva sólovú funkciu. \nTešte sa na jedinečný zážitok\, kde sa stretne majstrovská interpretácia s nezabudnuteľnou atmosférou festivalu!\nPríďte si vychutnať hudbu\, ktorá spája ľudí.
URL:https://bratislavskykraj.sk/podujatie/otvaraci-koncert-shalom-chaverim-divadlo-arena/
LOCATION:Divadlo Aréna\, Viedenská cesta 10\, Bratislava\, 85101
CATEGORIES:Festival,Koncert
ATTACH;FMTTYPE=image/png:https://bratislavskykraj.sk/wp-content/uploads/2025/07/otvaraci-koncert.png
ORGANIZER;CN="Divadlo Ar%C3%A9na":MAILTO:pokladna@divadloarena.sk
END:VEVENT
BEGIN:VEVENT
DTSTART;TZID=Europe/Bratislava:20250509T190000
DTEND;TZID=Europe/Bratislava:20250509T190000
DTSTAMP:20260421T031719
CREATED:20250430T111907Z
LAST-MODIFIED:20250430T111907Z
UID:159878-1746817200-1746817200@bratislavskykraj.sk
SUMMARY:POČUŤ SRDCOM - benefičný koncert nadácie Vlada Kulíška
DESCRIPTION:Jubilejný 30. ročník benefičného koncertu nadácie Vlada Kulíška Počuť srdcom pod záštitou Juraja Drobu\, predsedu Bratislavského samosprávneho kraja. \nNadácia Vlada Kulíška Počuť srdcom organizuje jubilejný 30. ročník veľkého benefičného koncertu Počuť srdcom\, ktorý je zostavený z vystúpení popredných slovenských umelcov\, ktorí sa zaoberajú prevažne neverbálnymi druhmi umenia (pantomíma\, spev\, tanec\, akrobacia a pod.). Benefičný koncert je súčasťou festivalu záujmovo-umeleckej činnosti sluchovo postihnutých detí a mládeže z celého Slovenska. \nDoterajšie ročníky podujatia dokázali životaschopnosť projektu\, pretože stiera bariéry medzi počujúcimi a nepočujúcimi\, medzi deťmi aj dospelými. Výťažok z neho je venovaný na pomoc pri výchove a vzdelávaní sluchovo postihnutých detí na celom Slovensku. \nJubilejný 30. ročník benefičného koncertu sa tohto roku uskutoční pod záštitou Juraja Drobu\, predsedu Bratislavského samosprávneho kraja. \nScenár a réžia: Vlado Kulíšek | Účinkujú: herec a spevák Juraj Bača\, kúzelník Peter Šesták\, klaun Adrián Ohrádka\, akrobatická skupina Vertigo\, tanečná skupina Souljam by RDS\, tanečný súbor Halo Halo \nDo posunkového jazyka tlmočí Dávid Marko. \nVstupenky si môžete zakúpiť online prostredníctvom stránky www.divadloarena.sk\, alebo osobne počas otváracích hodín pokladne Divadla Aréna na Viedenskej ceste 10 v Bratislave.
URL:https://bratislavskykraj.sk/podujatie/pocut-srdcom-beneficny-koncert-nadacie-vlada-kuliska/
LOCATION:Divadlo Aréna\, Viedenská cesta 10\, Bratislava\, 85101
CATEGORIES:Koncert
ATTACH;FMTTYPE=image/jpeg:https://bratislavskykraj.sk/wp-content/uploads/2025/04/pocut-srdcom.jpg
ORGANIZER;CN="Divadlo Ar%C3%A9na":MAILTO:pokladna@divadloarena.sk
END:VEVENT
BEGIN:VEVENT
DTSTART;TZID=Europe/Bratislava:20241211T200000
DTEND;TZID=Europe/Bratislava:20241211T200000
DTSTAMP:20260421T031719
CREATED:20241127T145749Z
LAST-MODIFIED:20241127T145749Z
UID:152818-1733947200-1733947200@bratislavskykraj.sk
SUMMARY:MONONEON - Divadlo Aréna (koncert)
DESCRIPTION:One Day Jazz Festival 2024 na záver svojho 16. ročníka\, prichádza s posledným koncertom do Bratislavy. \nV novozrekonštruovanom Divadle Arena vystúpi dnes už svetoznámy umelec a basový fenomén s umeleckým menom MonoNeon. Zažijete autentický Funk & Soul so strhujúcimi groovmi a prepracovanými aranžmánmi jeho vlastnej tvorby zaujímavých aj pre hudobných fajnšmekrov. \nCelé podujatie je venované fanúšikom festivalu ako aj muzikantskej komunite\, ktorí si budú môcť po koncerte zajamovať na hlavnom pódiu. Čaká vás poriadna Christmas Jazz/Funk párty. \nMonoNeon je americký basgitarista a experimentálny hudobník z Memphisu v Tennessee. Je známy svojou prítomnosťou na YouTube hraním na basgitaru a jedným z posledných ľudí\, ktorí spolupracovali s Princeom. MonoNeon je umelcom oceneným cenou Grammy za účasť na albume King’s Disease z roku 2020. Flea zo skupiny Red Hot Chili Peppers označil MonoNeona za „najväčšieho elektrického basgitaristu“. \nMonoNeon spolupracoval s umelcami ako Mavis Staples\, George Clinton\, Pete Rock\, Ne-Yo\, Mac Miller\, Georgia Anne Muldrow\, Ghost-Note a ďalšími. MonoNeon\, známy svojou živou show z iného sveta\, hral na Newport Jazz Festivale\, Montreal Jazz Festivale\, Summer Camp Music Festivale\, Melbourne International Jazz Festivale a mnohých ďalších. \nVstupenky si môžete zakúpiť online prostredníctvom stránky www.divadloarena.sk\, alebo osobne počas otváracích hodín pokladne Divadla Aréna na Viedenskej ceste 10 v Bratislave.
URL:https://bratislavskykraj.sk/podujatie/mononeon-divadlo-arena-koncert/
LOCATION:Divadlo Aréna\, Viedenská cesta 10\, Bratislava\, 85101
CATEGORIES:Koncert
ATTACH;FMTTYPE=image/jpeg:https://bratislavskykraj.sk/wp-content/uploads/2024/11/odjf-mononeon-ba-arena-1000x1000-01.jpg
ORGANIZER;CN="Divadlo Ar%C3%A9na":MAILTO:pokladna@divadloarena.sk
END:VEVENT
BEGIN:VEVENT
DTSTART;TZID=Europe/Bratislava:20230825T200000
DTEND;TZID=Europe/Bratislava:20230825T220000
DTSTAMP:20260421T031719
CREATED:20230714T090942Z
LAST-MODIFIED:20230717T062050Z
UID:128276-1692993600-1693000800@bratislavskykraj.sk
SUMMARY:The Best of Pavol Hammel - koncert a výstava
DESCRIPTION:Pavol Hammel sa opäť vracia na obľúbené koncerty po kaštieľoch\, hradoch a zámkoch. Sprevádzať ho bude klavírista Peter Preložník. Slovenská spevácka a gitarová legenda odohrá svoje veľké hity na nádvorí modranského kaštieľa. \nKoncert bude zároveň krásnou finisážou výstavy výtvarných diel\, ktorých autorom je Pavol Hammel. Viac informácií k výstave\, ktorú si budete môcť počas tohto magického večera pozrieť nájdete na : Výstava Pavol Hammel – kaštieľ Modra \nMiesto a čas:\nKaštieľ Modra – 25.08.2023 (piatok) o 20:00 hod. \nVstupné:\npredpredaj 20\,- € /  na mieste 25\,- €  /  voľné sedenie\,státie \nVstupenky je možné zakúpiť v kaštieli počas týždňa od 8\,00 do 15\,30 hod.\,\nalebo online : PREDPREDAJ VSTUPENIEK
URL:https://bratislavskykraj.sk/podujatie/the-best-of-pavol-hammel-koncert-a-vystava/
LOCATION:Malokarpatské osvetové stredisko v Modre\, modranský kaštieľ\, Horná 22\, Modra 900 01\, Bratislavský kraj\, Slovenská republika
CATEGORIES:Koncert,Výstava
ATTACH;FMTTYPE=image/jpeg:https://bratislavskykraj.sk/wp-content/uploads/2023/07/fb-event-hammel-koncert-scaled.jpg
ORGANIZER;CN="Malokarpatsk%C3%A9 osvetov%C3%A9 stredisko v Modre":MAILTO:moska@moska.sk
END:VEVENT
BEGIN:VEVENT
DTSTART;TZID=Europe/Bratislava:20230513T130000
DTEND;TZID=Europe/Bratislava:20230513T200000
DTSTAMP:20260421T031719
CREATED:20230503T130133Z
LAST-MODIFIED:20230503T130133Z
UID:123751-1683982800-1684008000@bratislavskykraj.sk
SUMMARY:Malokarpatské osvetové stredisko v Modre Vás pozýva - MALOKARPATSKÝ SLÁVIK 2023
DESCRIPTION:Niektorí z nás dostanú do života obrovský dar v podobe krásneho hlasu.\nTí\, ktorí tento dar pri narodení získali\, občas vystúpia pred nás ostatných a predvedú nám svoj talent\, ktorý dokáže nasýtiť dušu bažiacu po krásnom speve. \nMalokarpatské osvetové stredisko Vás srdečne pozýva dňa 13.5.2023 o 13\,00 hod.\ndo krásneho areálu Budmerického kaštieľa na finálové kolo súťaže MALOKARPATSKÝ SLÁVIK 2023\, ktorá bude súčasťou podujatia Budmerická fazuľovica. Speváci\, ktorí prešli neverejným výberovým kolom\, sa tu budú snažiť získať titul absolútneho Slávika 2023 a cenu diváka\, ktorá bude udelená na základe Vášho hlasovania. \nCieľom súťaže je podporovať záujmovo-umeleckú činnosť\, vyhľadávať nádejné talenty a dať možnosť talentovaným spevákom prezentovať sa na verejnosti.\nVstup na finálový koncert pre verejnosť je voľný. \nTešíme sa na Vás.\nPodujatie z verejných zdrojov podporil Fond na podporu umenia.
URL:https://bratislavskykraj.sk/podujatie/malokarpatske-osvetove-stredisko-v-modre-vas-pozyva-malokarpatsky-slavik-2023/
LOCATION:Budmerice
CATEGORIES:Aktívne trávenie voľného času,Koncert,Súťaž
ATTACH;FMTTYPE=image/jpeg:https://bratislavskykraj.sk/wp-content/uploads/2023/05/dsc-1241-upr-scaled.jpg
ORGANIZER;CN="Malokarpatsk%C3%A9 osvetov%C3%A9 stredisko v Modre":MAILTO:moska@moska.sk
END:VEVENT
BEGIN:VEVENT
DTSTART;TZID=Europe/Bratislava:20230222T190000
DTEND;TZID=Europe/Bratislava:20230222T190000
DTSTAMP:20260421T031719
CREATED:20230209T123252Z
LAST-MODIFIED:20230209T123252Z
UID:118490-1677092400-1677092400@bratislavskykraj.sk
SUMMARY:BALET GALA - Divadlo Aréna
DESCRIPTION:Koncert majstrovských klasických a moderných choreografických diel v podaní sólistov a tanečníkov baletu Charkivského národného divadla opery a baletu Mykoly Lysenka / Schid Opera.\n\nHistória baletného súboru SCHID OPERA má takmer sto rokov. Vznikol v roku 1925. Keď sa 3. októbra v Charkove\, vtedajšom hlavnom meste Ukrajiny\, otvorilo prvé ukrajinské divadlo opery a baletu\, hneď v prvých dňoch uviedlo choreografické predstavenia. Mnoho rokov bola skupina považovaná za jednu z najsilnejších v krajine.\n\nPosledné desaťročie bolo obdobím rýchleho rastu baletného súboru\, čo umožnilo vznik veľkolepých a technicky zložitých inscenácií v jeho repertoári. Tanečníci sa museli naučiť tancovať vo vode a zvládnuť techniky\, ktoré hraničili s kaskadérskymi kúskami. To všetko prispelo k rozvoju fyzickej formy umelcov a umožnilo im stanoviť si nové ciele. Umeleckou riaditeľkou súboru je v súčasnosti zaslúžilá umelkyňa Ukrajiny\, Antonina Vasylieva. Práve ona vytvorila efektný program Galakoncertu. Striedajú sa v ňom lyrické epizódy s ohnivými\, žiarivými číslami\, ktoré neustále udržiavajú pozornosť publika. Sólové choreografické kompozície\, technicky dokonalé a emóciami nasýtené ansámble\, či pôsobivé masové scény vyvolávajú u publika búrlivé emócie.\n\nOd apríla 2022 je baletný súbor SCHID OPERA na humanitárnom turné Európska cesta\, ktorého cieľom je vyzývať občanov EÚ k jednote a podpore Ukrajiny počas vojenskej agresie Ruskej federácie.\nNa Ukrajine aj v zahraničí sa umelci snažia svojim umením pozdvihnúť duch armády\, povzbudiť krajanov a hovoriť pravdu o vojne Ruska proti Ukrajine.\nUkrajinské hudobné skupiny\, speváci a iní umelci organizujú charitatívne koncerty na podporu ukrajinských ozbrojených síl a vojnou zasiahnutých Ukrajincov po celom svete. Zahraničné hviezdy\, herci\, hudobníci\, speváci či básnici sa spájajú s ukrajinskými umelcami.\nVýťažok z týchto vystúpení ide na pomoc Ukrajine a na podporu samotných ukrajinských umelcov.\n\nPodrobný program koncertu BALET GALA nájdete na stránke www.divadloarena.sk\n\nDôležitá informácia:\nPri kúpe vstupenky v pokladni DPOH\, získajú ukrajinskí diváci 50% zľavu z ceny vstupenky. Ukrajinské deti do 6 rokov získajú vstupenku ZADARMO.
URL:https://bratislavskykraj.sk/podujatie/balet-gala-divadlo-arena/
LOCATION:DPOH\, Laurinská 20\, Bratislava\, 81101
ATTACH;FMTTYPE=image/jpeg:https://bratislavskykraj.sk/wp-content/uploads/2023/02/balet-gala-da.jpg
ORGANIZER;CN="Divadlo Ar%C3%A9na":MAILTO:pokladna@divadloarena.sk
END:VEVENT
BEGIN:VEVENT
DTSTART;TZID=Europe/Bratislava:20201212T163000
DTEND;TZID=Europe/Bratislava:20201212T193000
DTSTAMP:20260421T031719
CREATED:20201209T122858Z
LAST-MODIFIED:20201209T122949Z
UID:56425-1607790600-1607801400@bratislavskykraj.sk
SUMMARY:Kto sa nehrá\, z kola von - Vianočný koncert + krst CD kapely Funny Fellows
DESCRIPTION:Najveselšie hudobné teleso\, ktoré vás pobaví a rozosmeje aj v dnešných časoch. Námorníci\, Hasiči\, Policajti\, Horári ale aj Golfisti\, to všetko obsahuje repertoár hosťujúcej kapely Funny Fellows-\nPríďte si do nášho divadla vychutnať vianočný koncert s pesničkami zo zbierky Tomáša Janovica.eerteÚčinkujú: Funny Fellows\, Csongor Kassai\, Helena Krajčiová\, Juraj Kemka\, Katarína Aulitisová\, Anka Šišková \, Bibiana Ondrejková\, Roman Féder.\nVeselé ale aj dôvtipné texty\, ktoré si môžete zaspievať a zároveň si odniesť domov na pokrstenom CD nosiči priamo s podpisom účinkujúcich.\n\nhttps://www.facebook.com/funfell\nhttps://www.funnyfellows.eu/\nVstupné: 6 €/osoba je možné zakúpiť elektronicky tu https://babkovedivadlo.maxiticket.sk/kto-sa-nehra-z-kola… alebo priamo v pokladni na Škultétyho 5.\nZ dôvodu epidemiologickej situácie a aktuálnych nariadení je počet miest v sále limitovaný na 50% a obsadzujeme miesta iba s voľným sedením. Prosíme návštevníkov o rešpektovanie opatrení a v hľadisku obsadzovali miesta tak\, aby medzi jednotlivými sedadlami boli zachované dostatočné rozostupy.
URL:https://bratislavskykraj.sk/podujatie/kto-sa-nehra-z-kola-von-vianocny-koncert-krst-cd-kapely-funny-fellows/
LOCATION:Bratislavské bábkové divadlo\, Dunajská 36\, Bratislava\, 81108
CATEGORIES:Koncert
ATTACH;FMTTYPE=image/jpeg:https://bratislavskykraj.sk/wp-content/uploads/2020/12/funny-fellows.jpg
ORGANIZER;CN="Bratislavsk%C3%A9 b%C3%A1bkov%C3%A9 divadlo":MAILTO:prevadzka@babkovedivadlo.sk
END:VEVENT
BEGIN:VEVENT
DTSTART;TZID=Europe/Bratislava:20201211T180000
DTEND;TZID=Europe/Bratislava:20201211T180000
DTSTAMP:20260421T031719
CREATED:20201201T121044Z
LAST-MODIFIED:20201201T121044Z
UID:55572-1607709600-1607709600@bratislavskykraj.sk
SUMMARY:GYPSY JAZZ FESTIVAL 2020 - Divadlo Aréna
DESCRIPTION:Deviaty ročník podujatia Gypsy Jazz Festival\, ktorého organizátorom je popredný slovenský saxofonista Milo Suchomel\, prinesie opäť veľa kvalitného jazzu\, nielen v „gypsy“ štýle. \nNa festivale tohto roku vystúpia: \nNový slovenský Jazz 2020\nLaura Jašková\, Alan Bartuš\, Andrej Farkaš\, Ján Rigó\, Ernest Vizváry\, Zsolt Farkas\nsupported by: Štefan Pišta Bartuš & David Hodek \nMilo Suchomel & ŠALEFUKY \nVanessa Šarközi & Miloš Biháry Gipsy Jazz Project \nAltar All Star Group\nNikolaj Nikitin & Ľuboš Šrámek feat. Kornél Fekete-Kovács\, Robert Balzar\, Martin Valihora\nspecial guest: Sisa Michalidesová \nErik Rothenstein & Babele Beat Band\nDominika Debnárová\, Michal Motýľ\, Ludovít Kotlár\, Pavol Bereza\, Matej Štubniak\, Marián Ševčík\nspecial guest: Balász Szokolay Dongó
URL:https://bratislavskykraj.sk/podujatie/gypsy-jazz-festival-2020-divadlo-arena/
LOCATION:Divadlo Aréna\, Viedenská cesta 10\, Bratislava\, 85101
CATEGORIES:Divadlo,Festival,Koncert
ATTACH;FMTTYPE=image/jpeg:https://bratislavskykraj.sk/wp-content/uploads/2020/12/gypsy-jazz-2020-da.jpg
ORGANIZER;CN="Divadlo Ar%C3%A9na":MAILTO:pokladna@divadloarena.sk
END:VEVENT
BEGIN:VEVENT
DTSTART;TZID=Europe/Bratislava:20200917T200000
DTEND;TZID=Europe/Bratislava:20200917T200000
DTSTAMP:20260421T031719
CREATED:20200910T073701Z
LAST-MODIFIED:20200910T073701Z
UID:47590-1600372800-1600372800@bratislavskykraj.sk
SUMMARY:ĽUBO ŠRÁMEK & HIS NANOSYMPHONY (Jazz v Aréne) - Divadlo Aréna
DESCRIPTION:Jazzový koncert medzinárodne uznávaného klaviristu\, skladateľa a hudobného producenta Ľuboša Šrámka a jeho projektu Nanosymphony. \nNanosymphony je originálny vokálno-inštrumentálny projekt\, pozostávajúci z mixtúry viacerých hudobných žánrov: R&B\, jazzu a súdobej vážnej hudby. Samotný názov prezrádza\, že ide o netradičné hudobné teleso\, akúsi „zmenšeninu“ symfonického orchestra za účasti R&B a soulovo-jazzovej rytmickej zložky. \nTeleso je zložené zo špičkových interpretov z oblasti jazzu aj vážnej hudby. Frontline-u tvoria dvaja až traja renomovaní speváci/speváčky. Autorom a zároveň lídrom projektu je medzinárodne uznávaný klavírista\, skladateľ a hudobný producent Ľuboš Šrámek.\nSúčasťou koncertu je krst autorovho posledného albumu Performances. \nÚčinkujú: Ľuboš Šrámek\, Pavol Bereza\, Juraj Griglák\, Martin Valihora\, Eugen Vizváry\, Nikolaj Nikitin\, Ondrej Juraši\, Barbora Kolářová\, Róbert Holota\, Branislav Dugovič\, Richard Karnok\, Karol Nitran\, Mucha Quartet\, Anita Soul
URL:https://bratislavskykraj.sk/podujatie/lubo-sramek-his-nanosymphony-jazz-v-arene-divadlo-arena/
LOCATION:Divadlo Aréna\, Viedenská cesta 10\, Bratislava\, 85101
CATEGORIES:Divadlo,Koncert
ATTACH;FMTTYPE=image/jpeg:https://bratislavskykraj.sk/wp-content/uploads/2020/09/jazz-v-arene-092020-da.jpg
ORGANIZER;CN="Divadlo Ar%C3%A9na":MAILTO:pokladna@divadloarena.sk
END:VEVENT
END:VCALENDAR