BEGIN:VCALENDAR
VERSION:2.0
PRODID:-//Bratislavskykraj.sk - ECPv6.15.20//NONSGML v1.0//EN
CALSCALE:GREGORIAN
METHOD:PUBLISH
X-WR-CALNAME:Bratislavskykraj.sk
X-ORIGINAL-URL:https://bratislavskykraj.sk
X-WR-CALDESC:Udalosti pre Bratislavskykraj.sk
REFRESH-INTERVAL;VALUE=DURATION:PT1H
X-Robots-Tag:noindex
X-PUBLISHED-TTL:PT1H
BEGIN:VTIMEZONE
TZID:Europe/Bratislava
BEGIN:DAYLIGHT
TZOFFSETFROM:+0100
TZOFFSETTO:+0200
TZNAME:CEST
DTSTART:20190331T010000
END:DAYLIGHT
BEGIN:STANDARD
TZOFFSETFROM:+0200
TZOFFSETTO:+0100
TZNAME:CET
DTSTART:20191027T010000
END:STANDARD
BEGIN:DAYLIGHT
TZOFFSETFROM:+0100
TZOFFSETTO:+0200
TZNAME:CEST
DTSTART:20200329T010000
END:DAYLIGHT
BEGIN:STANDARD
TZOFFSETFROM:+0200
TZOFFSETTO:+0100
TZNAME:CET
DTSTART:20201025T010000
END:STANDARD
BEGIN:DAYLIGHT
TZOFFSETFROM:+0100
TZOFFSETTO:+0200
TZNAME:CEST
DTSTART:20210328T010000
END:DAYLIGHT
BEGIN:STANDARD
TZOFFSETFROM:+0200
TZOFFSETTO:+0100
TZNAME:CET
DTSTART:20211031T010000
END:STANDARD
END:VTIMEZONE
BEGIN:VEVENT
DTSTART;TZID=Europe/Bratislava:20201028T100000
DTEND;TZID=Europe/Bratislava:20201028T100000
DTSTAMP:20260422T214323
CREATED:20200917T092408Z
LAST-MODIFIED:20200917T092408Z
UID:48367-1603879200-1603879200@bratislavskykraj.sk
SUMMARY:Naše šaty! - Divadlo Ludus
DESCRIPTION:Klára má 16 alebo 17 rokov. Býva v Berlíne alebo v Bratislave\, proste v Európskej Únii.\nPrvý krát býva sama\, a chcela by so susedmi v dome dobre vychádzať. Chcela by so všetkými dobre vychádzať. Bude mať vlastný vlog o móde\, a chcela by\, aby mal veľa lajkov. Tento deň je však od začiatku čudný. Všetko to mala v hlave ako tak upratané\, ale v tento deň spravila dvojité salto. \nKlára: „Intenzívne cítim\, ako môj mozog vďaka premýšľaniu za posledných pár hodín zosilnel.\nAko sval\, ktorý sa musí používať.\nBudem trénovať\, lebo ho potrebujem!\nNie žeby som doteraz o veciach nepremýšľala.\nLen som sa bála.\nBála som sa myslieť sama za seba.“
URL:https://bratislavskykraj.sk/podujatie/nase-saty-divadlo-ludus/
LOCATION:Divadlo Ludus – hráme v Štúdiu L+S\, Nám. 1. mája 5\, Štúdio L+S\, Bratislava\, Slovensko\, 811 06\, Slovenská republika
CATEGORIES:Divadlo
ATTACH;FMTTYPE=image/jpeg:https://bratislavskykraj.sk/wp-content/uploads/2020/09/untitled-design-2.jpg
ORGANIZER;CN="Divadlo Ludus":MAILTO:karinhronska@ludusdivadlo.sk
END:VEVENT
BEGIN:VEVENT
DTSTART;TZID=Europe/Bratislava:20201021T100000
DTEND;TZID=Europe/Bratislava:20201021T100000
DTSTAMP:20260422T214323
CREATED:20200917T092923Z
LAST-MODIFIED:20200917T092923Z
UID:48379-1603274400-1603274400@bratislavskykraj.sk
SUMMARY:Labyrint prísloví - Divadlo Ludus
DESCRIPTION:Pôvodná rozprávková hra pre deti od 8 rokov\, inšpirovaná zbierkou Petra Adolfa Zátureckého „Slovenské príslovia\, porekadlá a úslovia“. \nUčiteľ povedal: „Nikto učený z neba nespadol. Tak je to! Viete\, nespím už sedemsto rokov\, pretože som si nevedel na nič spomenúť. A už si spomínam: všetko musím robiť od srdca…“ „Čo nejde od srdca\, to nejde do srdca“\, utrúsil Gregor. Učiteľ dodal: „Správne. A keď to tak bude\, všetci sa ku mne vrátia naspäť a budú ma poslúchať.  Najprv písmenká\, a potom aj lavice. A keď sa vrátia aj lavice\, neskôr aj žiaci. Ďakujem\, že ste ma to naučili. Každý sa musí učiť\, aj učiteľ… lebo: Nikto učený z neba nespadol. A čo sa za mladi naučíš\, to v starobe…“Agáta dokončila: „…nepochopíš.“  – „pretože lepšie znať…“\, pridal učiteľ-  „Ako mať\, dokončila veselo Agáta.-  „Ale zapamätajte si: nie je učený ten\, ktorý veľa vie\, ale kto vie…“„….čo mu treba. V knihe je už všetko na svojom mieste“\,  povedala Agáta.„ Ozaj vzácna kniha. Dám vám za ňu celú moju knižnicu\, „ povedal učiteľ. \n 
URL:https://bratislavskykraj.sk/podujatie/labyrint-prislovi-divadlo-ludus/
LOCATION:Divadlo Ludus – hráme v Štúdiu L+S\, Nám. 1. mája 5\, Štúdio L+S\, Bratislava\, Slovensko\, 811 06\, Slovenská republika
CATEGORIES:Divadlo
ATTACH;FMTTYPE=image/jpeg:https://bratislavskykraj.sk/wp-content/uploads/2020/09/labyrint-1-min.jpg
ORGANIZER;CN="Divadlo Ludus":MAILTO:karinhronska@ludusdivadlo.sk
END:VEVENT
BEGIN:VEVENT
DTSTART;TZID=Europe/Bratislava:20201014T100000
DTEND;TZID=Europe/Bratislava:20201014T100000
DTSTAMP:20260422T214323
CREATED:20200917T092653Z
LAST-MODIFIED:20200917T092653Z
UID:48376-1602669600-1602669600@bratislavskykraj.sk
SUMMARY:Tajný denník Adriana Mola - Divadlo Ludus
DESCRIPTION:Adrian Mole je obyčajný chlapec v neobyčajnom veku. Na prahu puberty zisťuje\, že má hneď niekoľko problémov. Je jedináčik\, dostáva nemožné darčeky a pravidelné akné. Za problematickú pleť môže matkina strava a za ostatné asi sám život. Preto si každodenné trápenia aj radosti Adrian zaznamenáva do prísne tajného denníka. Musí sa starať o mrzutého dôchodcu Berta\, znášať hádky rodičov aj konflikty v škole. Ešteže je čerstvo zamilovaný do Pandory\, veľmi svojráznej slečny\, ktorá Adrianovi zamotá hlavu hneď niekoľkokrát. Veci ani zďaleka neplynú podľa Adrianových predstáv\, ale to už je osud nepochopeného intelektuála. Pri rozvode rodičov\, školskej vzbure a trampotách s láskou by hocikto stratil hlavu. Adrian má však dar trefne a vtipne okomentovať akékoľvek dianie a nájsť vo všetkom niečo pozitívne. Pozoruje svet okolo seba s odstupom a láskavou iróniou. Prostredníctvom Adriana vidíme komplikovanosť života a dospelých vzťahov z inej perspektívy. Tento humorný a odľahčujúci pohľad pomáha nielen Adrianovi.
URL:https://bratislavskykraj.sk/podujatie/tajny-dennik-adriana-mola-divadlo-ludus/
LOCATION:Divadlo Ludus – hráme v Štúdiu L+S\, Nám. 1. mája 5\, Štúdio L+S\, Bratislava\, Slovensko\, 811 06\, Slovenská republika
CATEGORIES:Divadlo
ATTACH;FMTTYPE=image/jpeg:https://bratislavskykraj.sk/wp-content/uploads/2020/09/poster-mole-na-fb-min-scaled.jpg
ORGANIZER;CN="Divadlo Ludus":MAILTO:karinhronska@ludusdivadlo.sk
END:VEVENT
BEGIN:VEVENT
DTSTART;TZID=Europe/Bratislava:20201008T100000
DTEND;TZID=Europe/Bratislava:20201008T100000
DTSTAMP:20260422T214323
CREATED:20200917T093304Z
LAST-MODIFIED:20200917T093304Z
UID:48382-1602151200-1602151200@bratislavskykraj.sk
SUMMARY:Plešivá speváčka - Divadlo Ludus
DESCRIPTION:Vyprázdnenosť medziľudských vzťahov. Pózy a klišé. Život v nezmyselných schémach. Uviaznutie v stereotypoch správania. Konzum. Potreba spotrebovávať. Lákadlá mediálneho sveta. Klamstvá sociálnych sietí. To\, čo sa zdalo byť absurdné a nezmyselné v minulom storočí\, stáva sa realitou v 21. storočí. Žijeme teda absurditu? A sú naše životy nezmyselné? Na to si musí odpovedať zaiste každý sám.  Priepasť medzi obsahom života a jeho vonkajšími prejavmi sa stále viac prehlbuje. Vo svete\, kde si mnohí\, otázky o podstate a zmysle našich životov už ani nekladú\, a kde slová strácajú svoj význam\, sa tak chtiac\, či nechtiac\, stávame postavami absurdnej hry\, ktorú akoby Eugene Ionesco napísal práve dnes a práve pre nás. Preto ju môžeme nazvať okrem nadčasovej aj vizionárskou hrou.
URL:https://bratislavskykraj.sk/podujatie/plesiva-spevacka-divadlo-ludus/
LOCATION:Divadlo Ludus – hráme v Štúdiu L+S\, Nám. 1. mája 5\, Štúdio L+S\, Bratislava\, Slovensko\, 811 06\, Slovenská republika
CATEGORIES:Divadlo
ATTACH;FMTTYPE=image/jpeg:https://bratislavskykraj.sk/wp-content/uploads/2020/09/plesiva-3-min.jpg
ORGANIZER;CN="Divadlo Ludus":MAILTO:karinhronska@ludusdivadlo.sk
END:VEVENT
BEGIN:VEVENT
DTSTART;TZID=Europe/Bratislava:20200813T180000
DTEND;TZID=Europe/Bratislava:20200813T190000
DTSTAMP:20260422T214323
CREATED:20200812T075541Z
LAST-MODIFIED:20200812T075541Z
UID:45129-1597341600-1597345200@bratislavskykraj.sk
SUMMARY:LETODIVY - Opice z našej police
DESCRIPTION:Leto a divadlo idú dokopy. V Bratislavskom bábkovom divadle vás pozývame vo štvrtok  o 18:00 do chládku našej divadelnej záhrady na Škultétyho 5. Tešiť sa môžete na predstavenie\, ktoré si vychutnáte v tieni stromov s osviežujúcim nápojom v ruke. \nDIVADELNÉ PREDSTAVENIE OPICE Z NAŠEJ POLICE ODOHRÁME V SÚLADE S DODRŽANÍM VŠETKÝCH BEZPEČNOSTNÝCH OPATRENÍ V PRIESTORE DIVADELNEJ ZÁHRADY NA ŠKULTÉTYHO 5. V PRÍPADE NEPRIAZNIVÉHO POČASIA SA PREDSTAVENIE PRESÚVA DO VEĽKEJ SÁLY DIVADLA
URL:https://bratislavskykraj.sk/podujatie/letodivy-opice-z-nasej-police/
LOCATION:Bratislavské bábkové divadlo\, Dunajská 36\, Bratislava\, 81108
CATEGORIES:Divadlo,Predstavenie
ATTACH;FMTTYPE=image/jpeg:https://bratislavskykraj.sk/wp-content/uploads/2020/08/bbd_opice-z-nasej-police.jpg
ORGANIZER;CN="Bratislavsk%C3%A9 b%C3%A1bkov%C3%A9 divadlo":MAILTO:prevadzka@babkovedivadlo.sk
END:VEVENT
BEGIN:VEVENT
DTSTART;TZID=Europe/Bratislava:20200803T190000
DTEND;TZID=Europe/Bratislava:20200803T190000
DTSTAMP:20260422T214323
CREATED:20200724T111457Z
LAST-MODIFIED:20200727T091426Z
UID:43756-1596481200-1596481200@bratislavskykraj.sk
SUMMARY:Literatúra v Radnici: Anasoft litera
DESCRIPTION:Malokarpatská knižnica v Pezinku a café and wine bar Radnica pozývajú na tradičné posedenie v Radnici. S finalistami Anasoft litera sa porozprávame o literatúre a o živote v príjemnom prostredí\, pri pohári vína alebo domácej limonády. \nhostia: finalisti Anasoft litera Katarína Kucbelová a Silvester Lavrík \nmoderuje: Veronika Šikulová \n \n 
URL:https://bratislavskykraj.sk/podujatie/literatura-v-radnici-anasoft-litera/
LOCATION:Radnica\, café and wine bar Pezinok\, Štefánikova 1\, Pezinok\, 902 01\, Slovenská republika
CATEGORIES:Beseda
ATTACH;FMTTYPE=image/jpeg:https://bratislavskykraj.sk/wp-content/uploads/2020/07/radnica.jpg
END:VEVENT
BEGIN:VEVENT
DTSTART;TZID=Europe/Bratislava:20200730T180000
DTEND;TZID=Europe/Bratislava:20200730T190000
DTSTAMP:20260422T214323
CREATED:20200728T103952Z
LAST-MODIFIED:20200728T103952Z
UID:44010-1596132000-1596135600@bratislavskykraj.sk
SUMMARY:Deduško
DESCRIPTION:Leto a divadlo idú dokopy. V Bratislavskom bábkovom divadle vás pozývame vo štvrtok  o 18:00 do chládku našej divadelnej záhrady na Škultétyho 5. Tešiť sa môžete na predstavenie\, ktoré si vychutnáte v tieni stromov s osviežujúcim nápojom v ruke. \nDIVADELNÉ PREDSTAVENIE DEDUŠKO ODOHRÁME V SÚLADE S DODRŽANÍM VŠETKÝCH BEZPEČNOSTNÝCH OPATRENÍ V PRIESTORE DIVADELNEJ ZÁHRADY NA ŠKULTÉTYHO 5. V PRÍPADE NEPRIAZNIVÉHO POČASIA SA PREDSTAVENIE PRESÚVA DO VEĽKEJ SÁLY DIVADLA.
URL:https://bratislavskykraj.sk/podujatie/dedusko/
LOCATION:Bratislavské bábkové divadlo\, Dunajská 36\, Bratislava\, 81108
CATEGORIES:Divadlo,Predstavenie
ATTACH;FMTTYPE=image/jpeg:https://bratislavskykraj.sk/wp-content/uploads/2020/07/bbd_dedusko.jpg
ORGANIZER;CN="Bratislavsk%C3%A9 b%C3%A1bkov%C3%A9 divadlo":MAILTO:prevadzka@babkovedivadlo.sk
END:VEVENT
END:VCALENDAR