BEGIN:VCALENDAR
VERSION:2.0
PRODID:-//Bratislavskykraj.sk - ECPv6.15.20//NONSGML v1.0//EN
CALSCALE:GREGORIAN
METHOD:PUBLISH
X-ORIGINAL-URL:https://bratislavskykraj.sk
X-WR-CALDESC:Udalosti pre Bratislavskykraj.sk
REFRESH-INTERVAL;VALUE=DURATION:PT1H
X-Robots-Tag:noindex
X-PUBLISHED-TTL:PT1H
BEGIN:VTIMEZONE
TZID:Europe/Bratislava
BEGIN:DAYLIGHT
TZOFFSETFROM:+0100
TZOFFSETTO:+0200
TZNAME:CEST
DTSTART:20190331T010000
END:DAYLIGHT
BEGIN:STANDARD
TZOFFSETFROM:+0200
TZOFFSETTO:+0100
TZNAME:CET
DTSTART:20191027T010000
END:STANDARD
BEGIN:DAYLIGHT
TZOFFSETFROM:+0100
TZOFFSETTO:+0200
TZNAME:CEST
DTSTART:20200329T010000
END:DAYLIGHT
BEGIN:STANDARD
TZOFFSETFROM:+0200
TZOFFSETTO:+0100
TZNAME:CET
DTSTART:20201025T010000
END:STANDARD
BEGIN:DAYLIGHT
TZOFFSETFROM:+0100
TZOFFSETTO:+0200
TZNAME:CEST
DTSTART:20210328T010000
END:DAYLIGHT
BEGIN:STANDARD
TZOFFSETFROM:+0200
TZOFFSETTO:+0100
TZNAME:CET
DTSTART:20211031T010000
END:STANDARD
END:VTIMEZONE
BEGIN:VEVENT
DTSTART;TZID=Europe/Bratislava:20200902T193000
DTEND;TZID=Europe/Bratislava:20200902T213000
DTSTAMP:20260424T155843
CREATED:20200902T082639Z
LAST-MODIFIED:20200902T083041Z
UID:46879-1599075000-1599082200@bratislavskykraj.sk
SUMMARY:Splnová cintorínska prehliadka
DESCRIPTION:Máte radi nezvyčajné zážitky? \nZažili ste už prehliadku cintorína? \nChcete byť inšpirovaný a zároveň sa dozvedieť niečo nové? \nPozývame Vás na nočnú prehliadku modranského cintorína počas splnu mesiaca. Dozviete sa prečo je tento cintorín považovaný za národný\, kde leží Štefánikova sestra\, ilustrátor knižky O dvanástich mesiačikoch či Prázdniny so strýcom Rafaelom\, autor Martinskej deklarácie a samozrejme neobídeme ani kodifikátora spisovnej slovenčiny a vynálezcu Viney. \nVSTUPENKY:\nDospelý 13 Eur\nDeti 2-12 r. v sprievode rodičov 2 Eur\nNa udalosť sa treba vopred prihlásiť na:\ninfo@modratours.com\, 0903 50 51 52\nMinimálny počet účastníkov:4\nMaximálny počet účastníkov:15
URL:https://bratislavskykraj.sk/podujatie/splnova-cintorinska-prehliadka/
LOCATION:Modranský cintorín\, Dolná ulica\, Modra\, Bratislavský kraj\, 900 01\, Slovenská republika
CATEGORIES:Prednáška
ATTACH;FMTTYPE=image/jpeg:https://bratislavskykraj.sk/wp-content/uploads/2020/09/118649448_597569317589055_8707813237037594437_o.jpg
END:VEVENT
END:VCALENDAR