BEGIN:VCALENDAR
VERSION:2.0
PRODID:-//Bratislavskykraj.sk - ECPv6.15.20//NONSGML v1.0//EN
CALSCALE:GREGORIAN
METHOD:PUBLISH
X-WR-CALNAME:Bratislavskykraj.sk
X-ORIGINAL-URL:https://bratislavskykraj.sk
X-WR-CALDESC:Udalosti pre Bratislavskykraj.sk
REFRESH-INTERVAL;VALUE=DURATION:PT1H
X-Robots-Tag:noindex
X-PUBLISHED-TTL:PT1H
BEGIN:VTIMEZONE
TZID:Europe/Bratislava
BEGIN:DAYLIGHT
TZOFFSETFROM:+0100
TZOFFSETTO:+0200
TZNAME:CEST
DTSTART:20250330T010000
END:DAYLIGHT
BEGIN:STANDARD
TZOFFSETFROM:+0200
TZOFFSETTO:+0100
TZNAME:CET
DTSTART:20251026T010000
END:STANDARD
BEGIN:DAYLIGHT
TZOFFSETFROM:+0100
TZOFFSETTO:+0200
TZNAME:CEST
DTSTART:20260329T010000
END:DAYLIGHT
BEGIN:STANDARD
TZOFFSETFROM:+0200
TZOFFSETTO:+0100
TZNAME:CET
DTSTART:20261025T010000
END:STANDARD
BEGIN:DAYLIGHT
TZOFFSETFROM:+0100
TZOFFSETTO:+0200
TZNAME:CEST
DTSTART:20270328T010000
END:DAYLIGHT
BEGIN:STANDARD
TZOFFSETFROM:+0200
TZOFFSETTO:+0100
TZNAME:CET
DTSTART:20271031T010000
END:STANDARD
END:VTIMEZONE
BEGIN:VEVENT
DTSTART;TZID=Europe/Bratislava:20260402T090000
DTEND;TZID=Europe/Bratislava:20260502T190000
DTSTAMP:20260421T114927
CREATED:20260401T165744Z
LAST-MODIFIED:20260401T165929Z
UID:174458-1775120400-1777748400@bratislavskykraj.sk
SUMMARY:Poznanie / Knowing. Výstava Milady Ďurečkovej
DESCRIPTION:Malokarpatské osvetové stredisko Vás pozýva do kaštieľa v Modre na výstavu POZNANIE / KNOWING\, ktorá predstaví výber z abstraktnej maliarskej tvorby slovenskej výtvarníčky Milady Ďurečkovej. Kurátorom výstavy je akad. mal. Robert Němeček. Výstava je pre verejnosť prístupná od 2. apríla do 2. mája 2026 počas návštevných hodín kaštieľa.  \nMilada Ďurečková sa vo svojej tvorbe venuje predovšetkým abstraktnej maľbe\, v ktorej farba\, gestická stopa a vrstvenie štruktúr vytvárajú dynamický priestor emócie a energie. Jej maliarsky jazyk je založený na intuitívnom tvorivom procese\, v ktorom sa spontánne maliarske gesto prelína s citlivým vrstvením farebných plôch a kompozície. Výstava ponúka divákom priestor na zastavenie\, vnímanie energie farby a osobnú interpretáciu obrazov. \nObrazy autorky nevznikajú ako presne plánované kompozície\, ale ako živý proces\, v ktorom sa postupne odhaľuje ich vnútorná dynamika. Abstrakcia jej umožňuje vyjadriť to\, čo často nemožno pomenovať slovami – pohyb emócie\, napätie aj harmóniu. Samotný názov výstavy POZNANIE odkazuje na myšlienku\, že poznanie často predchádza našim skúsenostiam a stáva sa vnútorným impulzom\, ktorý nás vedie k objavovaniu sveta aj samých seba. Milada Ďurečková pochádza z Ostravy\, kde získala svoje prvé maliarske skúsenosti. K intenzívnej tvorbe sa naplno vrátila v dospelosti a postupne sa jej tvorba vyvinula od realistických východísk k slobodnému abstraktnému vyjadreniu. \nVýstava je pre verejnosť prístupná od 2. apríla do 2. mája 2026 počas návštevných hodín od pondelka do štvrtka od 8.00 do 15.00 h\, v piatok od 8.00 do 19.00 h a v sobotu od 10.00 do 19.00 h. Okrem vernisáže sa s autorkou môžete osobne stretnúť aj počas podujatia Deň modranského vína 18. apríla 2026\, keď bude prítomná v galérii od 12.00 do 18.00 h a návštevníci budú mať možnosť stretnúť sa s autorkou a porozprávať sa o jej tvorbe.
URL:https://bratislavskykraj.sk/podujatie/174458/
LOCATION:Slovensko
CATEGORIES:Výstava
ATTACH;FMTTYPE=image/png:https://bratislavskykraj.sk/wp-content/uploads/2026/03/titulky-na-web-poznanie.png
ORGANIZER;CN="Malokarpatsk%C3%A9 osvetov%C3%A9 stredisko v Modre":MAILTO:moska@moska.sk
END:VEVENT
BEGIN:VEVENT
DTSTART;TZID=Europe/Bratislava:20260417T120000
DTEND;TZID=Europe/Bratislava:20260514T190000
DTSTAMP:20260421T114927
CREATED:20260402T131610Z
LAST-MODIFIED:20260402T131610Z
UID:174513-1776427200-1778785200@bratislavskykraj.sk
SUMMARY:VÝSTAVA – AMFO 2026 krajská súťaž a výstava  amatérskej fotografickej tvorby Bratislavský kraj 54. ročník
DESCRIPTION:Výstava bratislavského krajského kola celoštátnej postupovej súťaže amatérskej fotografickej tvorby AMFO 2026 bude verejnosti prístupná od 17. apríla do 14. mája 2026 v Dome umenia\, na 1. poschodí budovy Národného osvetového centra na Námestí SNP 12 v Bratislave – Starom Meste. \nPredstaví sa na nej 212 diel od 61 autorov\, ktoré odborná porota vybrala spomedzi 439 prác od 73 prihlásených fotografov. Návštevníci môžu vidieť samostatné fotografie\, diptychy\, cykly\, experimenty\, fotografické knihy aziny \nExpozícia ponúka pohľad na to najzaujímavejšie\, čo za posledný rok vzniklo. Výstava zároveň poskytuje priestor pre ich dôstojnú prezentáciu a vzájomné obohatenie. \nZaujímavým spestrením je aj široká kolekcia výtvarných diel z krajského kola súťaže neprofesionálnej výtvarnej tvorby Výtvarné spektrum 2026\, ktorá dopĺňa výstavu o ďalší vizuálny rozmer a umocňuje celkový umelecký zážitok. \nVstup na výstavu je voľný a priestory sú otvorené od utorka do nedele\, v čase od 12:00 do 19:00 h\, vrátane štátnych sviatkov. \nVernisáž výstavy a vyhlásenie výsledkov súťaže sa uskutočnia 29. apríla 2026 o 18:00. Program doplní odborný seminár pre vystavujúcich autorov a kultúrny program\, ktorý spríjemní tento slávnostný večer. \nHlavný partner\, vyhlasovateľ a odborný garant Národné osvetové centrum\nOrganizátor Malokarpatské osvetové stredisko v Modre príspevková organizácia Bratislavského samosprávneho kraja \nKurátorka výstavy  Mgr. art. Lenka L. Lukačovičová\, ArtD.\nArchitekt výstavy  Mgr. art. Jakub Tóth
URL:https://bratislavskykraj.sk/podujatie/vystava-amfo-2026-krajska-sutaz-a-vystava-amaterskej-fotografickej-tvorby-bratislavsky-kraj-54-rocnik/
LOCATION:Dom umenia Bratislava\, Námestie SNP 12\, Bratislava\, 812 34\, Slovakia (Slovak Republic)
CATEGORIES:Výstava
ATTACH;FMTTYPE=image/jpeg:https://bratislavskykraj.sk/wp-content/uploads/2026/04/web-baner-scaled.jpg
ORGANIZER;CN="Malokarpatsk%C3%A9 osvetov%C3%A9 stredisko v Modre":MAILTO:moska@moska.sk
END:VEVENT
BEGIN:VEVENT
DTSTART;TZID=Europe/Bratislava:20260417T120000
DTEND;TZID=Europe/Bratislava:20260514T190000
DTSTAMP:20260421T114927
CREATED:20260402T132039Z
LAST-MODIFIED:20260402T132039Z
UID:174519-1776427200-1778785200@bratislavskykraj.sk
SUMMARY:VÝSTAVA –  VÝTVARNÉ SPEKTRUM 2026 krajská súťaž a výstava  neprofesionálnej výtvarnej tvorby pre Bratislavský kraj
DESCRIPTION:Výstava bratislavského krajského kola celoštátnej postupovej súťaže neprofesionálnej výtvarnej tvorby Výtvarné spektrum 2026 bude verejnosti prístupná od 17. apríla do 14. mája 2026 v Dome umenia na 1. poschodí budovy Národného osvetového centra\, Námestie SNP 12 v Bratislave – Starom Meste. \nPredstaví sa na nej 217 diel od 129 autorov\, ktoré odborná porota vybrala spomedzi 399 prác od 131 prihlásených výtvarníkov. Návštevníci môžu zhliadnuť diela rôzneho tematického zamerania a technického spracovania – maľbu\, kresbu\, grafiku\, plastiku\, priestorové objekty\, insitnú a digitálnu tvorbu\, ako aj umelecké experimenty. \nExpozícia ponúka pohľad na to najzaujímavejšie\, čo za posledný rok vzniklo v ateliéroch a dielňach neprofesionálnych výtvarníkov Bratislavského kraja. Výstava zároveň poskytuje priestor na ich dôstojnú prezentáciu a vzájomnú inšpiráciu. \nZaujímavým spestrením je aj široká kolekcia fotografických diel z krajského kola súťaže amatérskej fotografickej tvorby AMFO 2026\, ktorá dopĺňa výstavu o ďalší vizuálny rozmer a umocňuje celkový umelecký zážitok. \nVstup na výstavu je voľný. Priestory sú otvorené od utorka do nedele v čase od 12.00 do 19.00\, vrátane štátnych sviatkov. \nVernisáž výstavy a vyhlásenie výsledkov súťaže sa uskutočnia 22. apríla 2026 o 18.00. Program doplní odborný seminár pre vystavujúcich autorov a kultúrny program\, ktorý spríjemní tento slávnostný večer. \nHlavný partner\, vyhlasovateľ a odborný garant Národné osvetové centrum \nOrganizátor Malokarpatské osvetové stredisko v Modre príspevková organizácia Bratislavského samosprávneho kraja \nKurátorka výstavy  Mgr. art. Lenka L. Lukačovičová\, ArtD.\nArchitekt výstavy  Mgr. art. Jakub Tóth
URL:https://bratislavskykraj.sk/podujatie/vystava-vytvarne-spektrum-2026-krajska-sutaz-a-vystava-neprofesionalnej-vytvarnej-tvorby-pre-bratislavsky-kraj/
LOCATION:Dom umenia Bratislava\, Námestie SNP 12\, Bratislava\, 812 34\, Slovakia (Slovak Republic)
CATEGORIES:Výstava
ATTACH;FMTTYPE=image/jpeg:https://bratislavskykraj.sk/wp-content/uploads/2026/04/vystava-fb-1-scaled.jpg
ORGANIZER;CN="Malokarpatsk%C3%A9 osvetov%C3%A9 stredisko v Modre":MAILTO:moska@moska.sk
END:VEVENT
BEGIN:VEVENT
DTSTART;TZID=Europe/Bratislava:20260426T170000
DTEND;TZID=Europe/Bratislava:20260426T190000
DTSTAMP:20260421T114927
CREATED:20260403T161245Z
LAST-MODIFIED:20260413T181229Z
UID:174549-1777222800-1777230000@bratislavskykraj.sk
SUMMARY:Oddychovka
DESCRIPTION:Oddychovka je celoštátna postupová súťaž a prehliadka dychových hudieb\, ktorá sa koná na Slovensku a je jedným z vrcholných podujatí dychovej hudby v krajine. Podujatie vzniklo zlúčením dvoch tradičných súťaží — Lednické Rovne a FestMlaDych od roku 2021 (do roku 2023 pod názvom OdDYCHpoDYCH). Od svojho vzniku vytvára možnosť konfrontácie tvorivých prístupov dychových telies a zároveň rozvíjanie kontaktov medzi priaznivcami dychovej hudby. \nVyhlasovateľom a hlavným finančným partnerom je Národné osvetové centrum z poverenia Ministerstva kultúry SR a odbornými garantmi sú Národné osvetové centrum a Združenie dychových hudieb Slovenska. V roku 2026 sa uskutoční  28. ročník celoštátnej súťaže a prehliadky dychovej hudby. Krajské kolo súťaže pre Bratislavský samosprávny kraj organizačne zabezpečuje Malokarpatské osvetové stredisko v Modre. \nOddychovka má charakter verejného predstavenia a je určená pre detské\, mládežnícke a malé dychové hudby. Jej význam spočíva predovšetkým: \n\numožniť jednotlivým kolektívom vystupovať pred odborníkmi i širokou verejnosťou\nvytvárať dychovým hudobným telesám priestor\, kde sa učia svojou hrou vnímať krásu hudby\, pestovať a uchovávať si melodickosť (resp. spevnosť)\nvytvárať priestor pre pedagógov základných umeleckých škôl a kapelníkov dychových telies na napĺňanie vlastných pedagogicko-výchovných cieľov\npozdvihnúť a odborne usmerniť túto oblasť záujmovej umeleckej činnosti\, ktorá si vyžaduje systematickú prácu s hudobne talentovanými interpretmi v jednotlivých regiónoch Slovenska\n\nSúťaž poskytuje a vytvára priestor na konfrontáciu a metodickú pomoc kolektívom ich zbormajstrom\, kapelníkom a zároveň poskytuje rozvíjanie kontaktov medzi priaznivcami dychovej hudby. \nVekové kategórie\nDo 28.ročníka sa môžu zapojiť dychové telesá v týchto súťažných kategóriách: \n\nDetské dychové hudby s priemerným vekom do 17 rokov (maximálny vek jednotlivca  je 20 rokov)\nVeľké dychové orchestre bez vekového obmedzenia\nMalé dychové hudby bez vekového obmedzenia\n\nOddychovka 2026 predstavuje významnú príležitosť na prezentáciu systematickej pedagogickej práce s kolektívom a jednotlivcami v oblasti dychovej hudby\, na umelecký rast a ďalší rozvoj dychových telies v Bratislavskom kraji. \nTermín konania: 26. apríl 2026\nMiesto konania: Filozofická Fakulta UK\, Bratislava – Moyzesova sieň \nRealizácia krajského kola v koncertnom priestore vytvára adekvátne akustické a technické podmienky pre prezentáciu dychových nástrojov a zároveň poskytuje účastníkom autentickú skúsenosť s koncertným prostredím.
URL:https://bratislavskykraj.sk/podujatie/oddychovka/
LOCATION:Filozofická Fakulta UK\, Bratislava – Moyzesova sieň\, Gondova 2\, Bratislava\, 81102
CATEGORIES:Koncert,Prehliadka
ATTACH;FMTTYPE=image/png:https://bratislavskykraj.sk/wp-content/uploads/2026/04/oddychovka-web.png
ORGANIZER;CN="Malokarpatsk%C3%A9 osvetov%C3%A9 stredisko v Modre":MAILTO:moska@moska.sk
END:VEVENT
BEGIN:VEVENT
DTSTART;TZID=Europe/Bratislava:20260428T170000
DTEND;TZID=Europe/Bratislava:20260428T183000
DTSTAMP:20260421T114927
CREATED:20260403T121430Z
LAST-MODIFIED:20260403T121430Z
UID:174528-1777395600-1777401000@bratislavskykraj.sk
SUMMARY:Keramický workshop s Ilur
DESCRIPTION:V priestoroch kaštieľa v Modre uskutoční obľúbený keramický workshop ILUR\, ktorý láka všetkých milovníkov tvorby\, prírodných materiálov a pokojného oddychu. Keramický workshop sa uskutoční v utorok\, 28. apríla\, v čase od 17.00 do 18.30 h a ponúkne účastníkom príležitosť na chvíľu spomaliť\, odísť od každodenného zhonu a ponoriť sa do sveta tradičného remesla. \nWorkshop ILUR je viac než len tvorivé stretnutie. Predstavuje návrat k prírode\, k práci s hlinou ako jedným z najstarších a najprirodzenejších materiálov\, ktorý človek používa. Práve vďaka tomuto spojeniu vznikajú originálne diela\, ktoré nesú osobný dotyk každého účastníka. Hlina tu pod rukami ožíva a postupne získava svoj jedinečný tvar aj „dušu“. \nPod vedením skúsených lektoriek si účastníci vyskúšajú základné techniky práce s hlinou a vytvoria si vlastný keramický výrobok. Nezáleží na tom\, či ste začiatočník alebo už máte s tvorbou skúsenosti – workshop je otvorený pre všetkých\, ktorí chcú objavovať\, tvoriť a oddýchnuť si v príjemnej atmosfére. \nPodujatie je vhodné aj pre rodiny s deťmi\, ktoré si môžu spoločne užiť kreatívny čas a odniesť si domov vlastný handmade výrobok ako spomienku na spoločný zážitok. \nPoplatok za workshop:\n\ndospelý: 25 €\ndieťa: 20 €\nrodič a dieťa: 42 €\n\nRegistrácia:\nilurtvorba@gmail.com \nNeváhajte a príďte si vyskúšať tvorbu\, ktorá spája kreativitu\, tradíciu a pokoj prírody v jedinečnom prostredí kaštieľa. \nFoto: archív ILUR a Lucia Mandincová
URL:https://bratislavskykraj.sk/podujatie/keramicky-workshop-s-ilur-2/
LOCATION:Malokarpatské osvetové stredisko v Modre\, modranský kaštieľ\, Horná 22\, Modra 900 01\, Bratislavský kraj\, Slovenská republika
CATEGORIES:Workshop
ATTACH;FMTTYPE=image/png:https://bratislavskykraj.sk/wp-content/uploads/2026/04/ilur-1.png
ORGANIZER;CN="Malokarpatsk%C3%A9 osvetov%C3%A9 stredisko v Modre":MAILTO:moska@moska.sk
END:VEVENT
BEGIN:VEVENT
DTSTART;TZID=Europe/Bratislava:20260430T173000
DTEND;TZID=Europe/Bratislava:20260430T193000
DTSTAMP:20260421T114928
CREATED:20260403T122147Z
LAST-MODIFIED:20260403T124911Z
UID:174530-1777570200-1777577400@bratislavskykraj.sk
SUMMARY:Otvorený ateliér s Michaelou Syrovou: Francis Bacon - Svet bolí
DESCRIPTION:Malokarpatské osvetové stredisko v Modre otvára dvere do sveta výtvarného umenia. Pozývame vás na ďalšie stretnutie zo vzdelávacieho cyklu Otvorený ateliér. Tento cyklus spája dejiny umenia s vlastnou tvorivou skúsenosťou a ponúka priestor na objavovanie významných umeleckých osobností prostredníctvom rozprávania\, pozorovania aj praktického výtvarného experimentovania. Stretnutia sa konajú v inšpiratívnom prostredí kaštieľa v Modre. Otvorený ateliér inšpirovaný Francisom Baconom sa uskutoční 30. apríla 2026 od 17.30 do 19.30 h. \nOtvorený ateliér je určený dospelým a deťom od 10 rokov. Nezáleží na tom\, či ste skúsený výtvarník alebo úplný začiatočník – dôležitá je chuť tvoriť\, objavovať a vnímať umenie z nových uhlov. Prísť môžete aj bez ambície tvoriť\, len počúvať a nechať sa inšpirovať. \nO umelkyni\nStretnutím Vás bude sprevádzať Michaela Syrová\, výtvarníčka\, teoretička umenia a pedagogička\, ktorá sa dlhodobo venuje prepájaniu teórie umenia s vlastnou tvorbou. Vo svojej lektorskej praxi kladie dôraz na citlivé pozorovanie\, porozumenie historickému kontextu a hľadanie osobného výtvarného výrazu. Účastníkov vedie k vnímaniu umenia ako otvoreného procesu\, v ktorom nejde o dokonalý výsledok\, ale o skúsenosť\, objavovanie a radosť z tvorby. \nCena: 10 €\nPrihlasovanie: pevalova@moska.sk\nPočet miest je obmedzený.
URL:https://bratislavskykraj.sk/podujatie/otvoreny-atelier-s-michaelou-syrovou-francis-bacon-svet-boli/
LOCATION:Malokarpatské osvetové stredisko v Modre\, modranský kaštieľ\, Horná 22\, Modra 900 01\, Bratislavský kraj\, Slovenská republika
CATEGORIES:Workshop
ATTACH;FMTTYPE=image/png:https://bratislavskykraj.sk/wp-content/uploads/2026/01/otvoreny-atelier-ms-januar-fb-udalost.png
ORGANIZER;CN="Malokarpatsk%C3%A9 osvetov%C3%A9 stredisko v Modre":MAILTO:moska@moska.sk
END:VEVENT
BEGIN:VEVENT
DTSTART;TZID=Europe/Bratislava:20260502T100000
DTEND;TZID=Europe/Bratislava:20260502T173000
DTSTAMP:20260421T114928
CREATED:20260420T113027Z
LAST-MODIFIED:20260420T113136Z
UID:175283-1777716000-1777743000@bratislavskykraj.sk
SUMMARY:RISOWORKSHOP
DESCRIPTION:AMFO a Výtvarné spektrum 2026: Tvorivý workshop risografie priamo v galérii Domu umenia v Bratislave\n\n\n\nMalokarpatské osvetové stredisko v Modre pozýva v rámci spojenej krajskej výstavy AMFO a Výtvarné spektrum 2026 praktický workshop risografie\, ktorý je určený nielen pre fotografov a výtvarníkov zapojených do súťaží\, ale aj pre širokú verejnosť. Príďte objaviť čaro risografie a odneste si vlastnú autorskú grafik.  \n\n\n\nRisografia je výnimočná tlačová technika pochádzajúca z Japonska\, ktorá si získala obľubu medzi ilustrátormi\, grafickými dizajnérmi aj autormi umeleckých printov. Dnes sa s obľubou využíva na tvorbu autorských grafík\, plagátov a tlačovín v menších\, často limitovaných nákladoch. Spája prvky sieťotlače a grafického experimentu a je charakteristická výraznými farbami\, vrstvením\, jemnými posunmi a originálnou vizuálnou estetikou. \n\n\n\nWorkshop je zameraný na základné oboznámenie sa s princípmi risografie a na praktickú tvorbu vlastných tlačových výstupov. Počas trojhodinového stretnutia sa účastníci zoznámia s charakterom tejto techniky\, s prípravou podkladov pre tlač\, vrstvením farieb aj s tým\, ako sa dá pracovať s nedokonalosťou\, posunom a prekvapením ako prirodzenou súčasťou výsledku. \n\n\n\nSúčasťou programu budú ukážky a inštrukcie lektorov\, príprava vlastného návrhu formou koláže\, individuálne konzultácie počas práce aj samotná tlač risografík. Každý účastník si odnesie 10 až 20 výtlačkov vlastnej risografiky\, ktoré si sám navrhne. Na workshop si netreba priniesť nič\, všetok materiál aj technické vybavenie budú zabezpečené. \n\n\n\nWorkshop povedú grafickí dizajnéri Jakub Tóth a Robert Szegeny. \n\n\n\nWorkshop sa uskutoční 2. mája 2026 v galérii na 1. poschodí Domu umenia\, SNP 12\, Bratislava\, v dvoch turnusoch: \n\n\n\n\nturnus: 10:00 – 13:00\n\n\n\nturnus: 14:30 – 17:30\n\n\n\n\nKapacita jedného turnusu je 10 účastníkov. Cena workshopu je 40 €. \n\n\n\nPrihlasovanie a bližšie informácie: \n\n\n\nKatarína Pevalová pevalova@moska.sk 0917 200 075
URL:https://bratislavskykraj.sk/podujatie/risoworkshop/
LOCATION:Domu umenia\, SNP 12\, Bratislava\, Námestie SNP 12\, Bratislava\, Slovensko\, 811 01
CATEGORIES:Workshop
ATTACH;FMTTYPE=image/jpeg:https://bratislavskykraj.sk/wp-content/uploads/2026/04/a-cover-scaled.jpg
ORGANIZER;CN="Malokarpatsk%C3%A9 osvetov%C3%A9 stredisko v Modre":MAILTO:moska@moska.sk
END:VEVENT
BEGIN:VEVENT
DTSTART;TZID=Europe/Bratislava:20260706T080000
DTEND;TZID=Europe/Bratislava:20260828T170000
DTSTAMP:20260421T114928
CREATED:20260420T055006Z
LAST-MODIFIED:20260420T055057Z
UID:175277-1783324800-1787936400@bratislavskykraj.sk
SUMMARY:Denné tábory v kaštieli v Modre
DESCRIPTION:Pozývame všetky deti a mladších tínedžerov\, ktorí radi tvoria\, skúšajú nové veci a chcú rozvíjať svoj záujem o umenie v inšpiratívnom prostredí\, na letné denné tábory v kaštieli. Tábory sú vhodné pre deti vo veku 7 – 15 rokov. Cena za jeden tábor 200 €. Obedy pre deti sú zabezpečené\, desiata a olovrant nie sú zahrnuté. Pitný režim je k dispozícií v priebehu celého dňa. \nKeramika s Ilur\, 6. – 10. júl 2026\nKúzlenie z hliny\nNa čo sa môžete tešiť? \n– Deti sa zoznámia s rôznymi technikami modelovania\n– Svoje diela si budú aj maľovať a glazovať podľa vlastnej fantázie\n– Môžu sa tešiť na kopu zábavy\, hier a súťazí v krásnom parku kaštieľa\n– Čakajú na nich nezabudnuteľné zážitky s kamarátmi a kopec vlastných\nvýrobkov \nRegistrácia: pevalova@moska.sk \n\nLeto v kaštieli\, 20. – 24. júl 2026\nTýždeň plný zábavy\nNa čo sa môžete tešiť? \nTýždeň plný zábavy\, hier\, fantázie. \nRegistrácia: sivackova@moska.sk \n\nKeramika s Ilur\, 3. – 7. august 2026\nKúzlenie z hliny\nNa čo sa môžete tešiť? \n– Deti sa zoznámia s rôznymi technikami modelovania\n– Svoje diela si budú aj maľovať a glazovať podľa vlastnej fantázie\n– Môžu sa tešiť na kopu zábavy\, hier a súťazí v krásnom parku kaštieľa\n– Čakajú na nich nezabudnuteľné zážitky s kamarátmi a kopec vlastných\nvýrobkov \nRegistrácia: pevalova@moska.sk \nVýtvarný tábor\, 10. – 14. august\nTýždeň plný farieb a fantázie!\nNa čo sa môžete tešiť? \nTýždeň plný farieb\, štetcov a fantázie! Deti sa hravou formou zoznámia so základmi rôznych výtvarných techník – od kresby\, maľby až po prácu s netradičnými materiálmi. Každý deň ich čakajú nové dielne\, tvorivé úlohy a aktivity\, ktoré podporujú ich estetické vnímanie a rozvoj výtvarného cítenia. \nRegistrácia: pevalova@moska.sk \n\nDivadelný tábor\, 24. – 28. august 2026\nTýždeň plný dramatických hier a improvizácie\nNa čo sa môžete tešiť? \nDramatické hry\, improvizácia\, pohybové cvičenia a príprava spoločného predstavenia – to všetko čaká deti počas týždňa plného divadelnej tvorby. Deti si rozvíjajú schopnosť vyjadrovať emócie\, pracovať s hlasom a pohybom\, ale aj spolupracovať v kolektíve. Výsledkom bude premiéra krátkeho predstavenia v piatok 15. augusta pre rodičov a priateľov. \nRegistrácia: pavlackova@moska.sk \nFoto: Martina Mlčúchová a Lucia Mandincová
URL:https://bratislavskykraj.sk/podujatie/175277/
LOCATION:Malokarpatské osvetové stredisko v Modre\, modranský kaštieľ\, Horná 22\, Modra 900 01\, Bratislavský kraj\, Slovenská republika
CATEGORIES:Aktívne trávenie voľného času,Workshop
ATTACH;FMTTYPE=image/jpeg:https://bratislavskykraj.sk/wp-content/uploads/2026/04/zhrada-katiea-v-modre-otvorenie-862024-53780598297-o-2048x1363-1.jpg
ORGANIZER;CN="Malokarpatsk%C3%A9 osvetov%C3%A9 stredisko v Modre":MAILTO:moska@moska.sk
END:VEVENT
END:VCALENDAR