BEGIN:VCALENDAR
VERSION:2.0
PRODID:-//Bratislavskykraj.sk - ECPv6.15.20//NONSGML v1.0//EN
CALSCALE:GREGORIAN
METHOD:PUBLISH
X-WR-CALNAME:Bratislavskykraj.sk
X-ORIGINAL-URL:https://bratislavskykraj.sk
X-WR-CALDESC:Udalosti pre Bratislavskykraj.sk
REFRESH-INTERVAL;VALUE=DURATION:PT1H
X-Robots-Tag:noindex
X-PUBLISHED-TTL:PT1H
BEGIN:VTIMEZONE
TZID:Europe/Bratislava
BEGIN:DAYLIGHT
TZOFFSETFROM:+0100
TZOFFSETTO:+0200
TZNAME:CEST
DTSTART:20190331T010000
END:DAYLIGHT
BEGIN:STANDARD
TZOFFSETFROM:+0200
TZOFFSETTO:+0100
TZNAME:CET
DTSTART:20191027T010000
END:STANDARD
BEGIN:DAYLIGHT
TZOFFSETFROM:+0100
TZOFFSETTO:+0200
TZNAME:CEST
DTSTART:20200329T010000
END:DAYLIGHT
BEGIN:STANDARD
TZOFFSETFROM:+0200
TZOFFSETTO:+0100
TZNAME:CET
DTSTART:20201025T010000
END:STANDARD
BEGIN:DAYLIGHT
TZOFFSETFROM:+0100
TZOFFSETTO:+0200
TZNAME:CEST
DTSTART:20210328T010000
END:DAYLIGHT
BEGIN:STANDARD
TZOFFSETFROM:+0200
TZOFFSETTO:+0100
TZNAME:CET
DTSTART:20211031T010000
END:STANDARD
END:VTIMEZONE
BEGIN:VEVENT
DTSTART;TZID=Europe/Bratislava:20201120T190000
DTEND;TZID=Europe/Bratislava:20201120T190000
DTSTAMP:20260424T211447
CREATED:20201116T091210Z
LAST-MODIFIED:20201116T091210Z
UID:53949-1605898800-1605898800@bratislavskykraj.sk
SUMMARY:NA MOL - Divadlo Aréna
DESCRIPTION:Čo robia udržiavané a perfektne nalíčené dámy v pokročilom veku\, ktorým zomreli či utiekli manželia a deti sú dávno z domu?\nOddávajú sa predovšetkým alkoholu – rozprávajú sa\, zabávajú\, tancujú\, spievajú až kým do bytu nevtrhne syn jednej z nich\, ktorý dá svojej matke podmienku – buď prestane piť alebo nikdy viac neuvidí jeho ani svoje vnúčatá. \nHorká komédia o štyroch starších dámach a byte\, v ktorom sa všetko točí. \nHrajú: Gregor\, Hološka\, Peter Trník\, Ján Jackuliak\, Ondrej Antálek\, Matúš Kvietik\nRéžia: Juraj Bielik
URL:https://bratislavskykraj.sk/podujatie/na-mol-divadlo-arena/
LOCATION:Divadlo Aréna\, Viedenská cesta 10\, Bratislava\, 85101
CATEGORIES:Divadlo,Predstavenie
ATTACH;FMTTYPE=image/jpeg:https://bratislavskykraj.sk/wp-content/uploads/2020/11/na-mol-da.jpg
ORGANIZER;CN="Divadlo Ar%C3%A9na":MAILTO:pokladna@divadloarena.sk
END:VEVENT
BEGIN:VEVENT
DTSTART;TZID=Europe/Bratislava:20201116T190000
DTEND;TZID=Europe/Bratislava:20201116T190000
DTSTAMP:20260424T211447
CREATED:20201116T090023Z
LAST-MODIFIED:20201116T090244Z
UID:53942-1605553200-1605553200@bratislavskykraj.sk
SUMMARY:JÁNOŠÍK (verejná generálka) - Divadlo Aréna
DESCRIPTION:Divadlo Aréna pripravilo v divadelnej sezóne 2020/2021 premiéru inscenácie JÁNOŠÍK\, ktorá sa mala uskutočniť dňa 9.10.2020. Vzhľadom na vtedajšiu zlú pandemickú situáciu sa premiéra v plánovanom termíne neuskutočnila. Po uvoľnení opatrení si ju po prvýkrát výnimočne budú môcť pozrieť návštevníci nášho divadla v rámci verejnej generálky\, ktorá sa bude konať v pondelok 16.11.2020 o 19:00 hodine. \nCena vstupenky je 5\,- EUR. Vstupenky na verejnú generálku bude možné zakúpiť len v pokladni Divadla Aréna v deň predstavenia\, a teda 16.11.2020 v čase od 14:00 do 19:00 hodiny. \nO termíne slávnostnej premiéry a ďalších repríz inscenácie vás budeme priebežne informovať. \nJÁNOŠÍK – príbeh vraha? Dobrá otázka. A nebude jediná. \nAj ďalšie otázky prináša hra Jakuba Nvotu\, napísaná na objednávku Divadla Aréna\, v spolupráci s Historickým ústavom SAV\, ktorá predstavuje osudy nášho národného hrdinu Juraja Jánošíka v novom svetle\, na základe autentických dobových materiálov. \nAko Jánošíka vnímali štúrovci? Koľko síl ich stálo vytvoriť zo zbojníka legendu? \nInscenácia je súčasťou tzv. Občianskeho cyklu Divadla Aréna. \nHrajú: Richard Autner\, Ondrej Kovaľ\, Juraj Loj\, Kamil Mikulčík\, Roman Pomajbo\, Broňa Kováčiková\, Elena Podzámska\nRéžia: Jakub Nvota
URL:https://bratislavskykraj.sk/podujatie/janosik-verejna-generalka-divadlo-arena/
LOCATION:Divadlo Aréna\, Viedenská cesta 10\, Bratislava\, 85101
CATEGORIES:Divadlo,Predstavenie
ATTACH;FMTTYPE=image/jpeg:https://bratislavskykraj.sk/wp-content/uploads/2020/11/janosik-da.jpg
ORGANIZER;CN="Divadlo Ar%C3%A9na":MAILTO:pokladna@divadloarena.sk
END:VEVENT
BEGIN:VEVENT
DTSTART;TZID=Europe/Bratislava:20200929T190000
DTEND;TZID=Europe/Bratislava:20200929T190000
DTSTAMP:20260424T211447
CREATED:20200910T091907Z
LAST-MODIFIED:20200910T091907Z
UID:47670-1601406000-1601406000@bratislavskykraj.sk
SUMMARY:BIBLIA - Divadlo Aréna
DESCRIPTION:Výnimočná hudobno-dramatická báseň\, dejiny človeka od stvorenia sveta až po vzkriesenie. Vybrané príbehy zo Starého a Nového zákona\, ktoré kladú nadčasové otázky o morálke\, svedomí\, viere a sile duchovna v dobe\, kedy sa základné piliere ľudstva zmietajú v pochybnostiach. \nProjekt vzniká v koprodukcii so Slovenskou filharmóniou a je súčasťou tzv. Občianskeho cyklu Divadla Aréna.“ \nHrajú: Juraj KUKURA\, SLOVENSKÝ KOMORNÝ ORCHESTER pod vedením Ewalda DANELA | Réžia: Rastislav BALLEK
URL:https://bratislavskykraj.sk/podujatie/biblia-divadlo-arena/
LOCATION:Divadlo Aréna\, Viedenská cesta 10\, Bratislava\, 85101
CATEGORIES:Divadlo,Predstavenie
ATTACH;FMTTYPE=image/jpeg:https://bratislavskykraj.sk/wp-content/uploads/2020/09/biblia-da.jpg
ORGANIZER;CN="Divadlo Ar%C3%A9na":MAILTO:pokladna@divadloarena.sk
END:VEVENT
BEGIN:VEVENT
DTSTART;TZID=Europe/Bratislava:20200928T190000
DTEND;TZID=Europe/Bratislava:20200928T190000
DTSTAMP:20260424T211447
CREATED:20200910T091304Z
LAST-MODIFIED:20200910T091304Z
UID:47661-1601319600-1601319600@bratislavskykraj.sk
SUMMARY:HOLOKAUST - Divadlo Aréna
DESCRIPTION:Holokaust vychádza zo spomienok Hildy Hraboveckej\, ktorá prežila prvý dievčenský transport z územia fašistickej Slovenskej republiky do Osvienčimu (1942). Kontroverzným a moderným spôsobom zobrazuje obdobie formovania novodobej slovenskej spoločnosti. V popredí je príbeh Anny Králikovej\, ktorá sa vracia do vlasti a chce reštituovať svoj majetok\, až kým nezistí\, že jej rodina ho v skutočnosti arizovala. Inscenácia je súčasťou tzv. Občianskeho cyklu Divadla Aréna. \nUPOZORNENIE: Po prestávke nastane zmena sedenia. \nV predstavení Holokaust sú použité vycvičené nemecké ovčiaky. Zvieratá sú vycvičené odborne spôsobilými osobami a starostlivosť o ich výcvik\, životné podmienky a zdravie prebieha v súlade so zákonom č. 39/2007 Z. z. o veterinárnej starostlivosti a o zmene niektorých zákonov. Vycvičené živé zvieratá budú sprevádzané odborne spôsobilými osobami a budú mať náhubky. \nHrajú: Polina NIKOLAEVSKAYA\, Eva MATEJKOVÁ\, Anežka PETROVÁ\, Matej MARUŠIN\, Milan ONDRÍK\, Katarína ŠAFAŘÍKOVÁ\, Edita KOPRIVČEVIĆ BORSOVÁ\, Barbora ANDREŠIČOVÁ\, Gregor HOLOŠKA\, Martin HRONSKÝ | Réžia: Rastislav BALLEK
URL:https://bratislavskykraj.sk/podujatie/holokaust-divadlo-arena/
LOCATION:Divadlo Aréna\, Viedenská cesta 10\, Bratislava\, 85101
CATEGORIES:Divadlo,Predstavenie
ATTACH;FMTTYPE=image/jpeg:https://bratislavskykraj.sk/wp-content/uploads/2020/09/holokaust-da.jpg
ORGANIZER;CN="Divadlo Ar%C3%A9na":MAILTO:pokladna@divadloarena.sk
END:VEVENT
BEGIN:VEVENT
DTSTART;TZID=Europe/Bratislava:20200924T170000
DTEND;TZID=Europe/Bratislava:20200924T170000
DTSTAMP:20260424T211447
CREATED:20200910T084008Z
LAST-MODIFIED:20200910T084008Z
UID:47630-1600966800-1600966800@bratislavskykraj.sk
SUMMARY:POLNOČNÁ VEČERA (Kino Aréna) - Divadlo Aréna
DESCRIPTION:Adaptácia humoristickej poviedky Ema Bohúňa\, ktorej dej sa odohráva v dobe posledných rokov pred 1. svetovou vojnou\, počas vojny a v prvých rokoch Československej republiky. Trochu sentimentálna\, duchársky strašidelná a trochu i fantastická príhoda mladého poručíka Jána Gabaru\, ktorý sa po ťažkom zranení hlavy vracia z frontu domov na dovolenku. Cestou karpatskými horami naďabí na osamelý kaštieľ a strávi v ňom neuveriteľný večer so šľachtickým manželským párom. \nPripomíname si životné jubileum IVANA PALÚCHA\, ktorý by 20. júna 2020 oslávil 80. narodeniny. \nHrajú: Ivan PALÚCH\, Libuša TRUTZOVÁ-BALKOVÁ\, Mária MARKOVIČOVÁ\, Ľudovít GREŠŠO\, Karol MACHATA\, Eva POLÁKOVÁ | Réžia: Jozef ZACHAR | Dĺžka filmu: 43 minút\, Československo (1970)
URL:https://bratislavskykraj.sk/podujatie/polnocna-vecera-kino-arena-divadlo-arena/
LOCATION:Divadlo Aréna\, Viedenská cesta 10\, Bratislava\, 85101
CATEGORIES:Divadlo,Film
ATTACH;FMTTYPE=image/jpeg:https://bratislavskykraj.sk/wp-content/uploads/2020/09/polnocna-vecera-da.jpg
ORGANIZER;CN="Divadlo Ar%C3%A9na":MAILTO:pokladna@divadloarena.sk
END:VEVENT
BEGIN:VEVENT
DTSTART;TZID=Europe/Bratislava:20200921T190000
DTEND;TZID=Europe/Bratislava:20200921T190000
DTSTAMP:20260424T211447
CREATED:20200910T083027Z
LAST-MODIFIED:20200910T083027Z
UID:47623-1600714800-1600714800@bratislavskykraj.sk
SUMMARY:JOSEF ŠVEJK - Divadlo Aréna
DESCRIPTION:Skvelý humoristický román „Osudy dobrého vojaka Švejka“ po prvýkrát na slovenskej divadelnej scéne! Švejk\, predajca psov\, sa zapletie do kolotoča príprav na veľkú vojnu. Na svojej ceste stretáva zástupy groteskných postavičiek a zažíva neuveriteľné príhody\, ktoré sú nielen správou o rozpade Rakúsko–Uhorska\, ale aj metaforou rozkladu našej spoločnosti. Josef Švejk je jeden z nás. Všetci si myslia\, že je slabomyseľný\, ale on len úprimne pomenúva blbosť ľudskú v jej čírej podobe. Práve dnes je čas priniesť príbeh o takomto človeku – hrdinovi\, ktorý môže slobodne vyjadriť svoj názor iba v blázinci. \nHrajú: Marián LABUDA ml.\, Juraj LOJ\, Kamil MIKULČÍK\, Peter BRAJERČÍK\, Juraj HRČKA\, Edita KOPRIVČEVIĆ BORSOVÁ\, Zuzana KONEČNÁ/Kristína TÓTHOVÁ | Réžia: Jakub NVOTA
URL:https://bratislavskykraj.sk/podujatie/josef-svejk-divadlo-arena/
LOCATION:Divadlo Aréna\, Viedenská cesta 10\, Bratislava\, 85101
CATEGORIES:Divadlo,Predstavenie
ATTACH;FMTTYPE=image/jpeg:https://bratislavskykraj.sk/wp-content/uploads/2020/09/josef-svejk-da.jpg
ORGANIZER;CN="Divadlo Ar%C3%A9na":MAILTO:pokladna@divadloarena.sk
END:VEVENT
BEGIN:VEVENT
DTSTART;TZID=Europe/Bratislava:20200919T190000
DTEND;TZID=Europe/Bratislava:20200919T190000
DTSTAMP:20260424T211447
CREATED:20200910T080042Z
LAST-MODIFIED:20200910T084816Z
UID:47598-1600542000-1600542000@bratislavskykraj.sk
SUMMARY:SKLENENÝ ZVERINEC - Divadlo Aréna
DESCRIPTION:Dráma o hľadaní vnútorného pokoja\, slobody\, o snoch a nádejach\, ktoré sa často míňajú s našimi životmi. V ťažkých sociálnych pomeroch preberá finančnú zodpovednosť za celú rodinu syn Tom. Drie v továrni na topánky\, aby zaistil chod domácnosti a každú noc mohol snívať v kine. Matka Amanda sa rozhodne\, že vydaj dcéry Laury im môže zabezpečiť svetlejšiu budúcnosť. Laura však žije vo svojom vlastnom svete\, plnom malých sklenených zvieratiek. Všetci očakávajú veľkú zmenu\, keď príbytok Wingfieldovcov navštívi Jim\, milý mladý muž. \n“SKLENENÝ ZVERINEC uvádzame na základe špeciálnej dohody s University of South\, Sewanee\, Tennessee.” \nHrajú: Emília VÁŠÁRYOVÁ\, Alexander BÁRTA\, Ivana UHLÍŘOVÁ/Tereza MAREČKOVÁ\, Tomáš MAŠTALÍR/Adam VACULA | Réžia: Martin ČIČVÁK
URL:https://bratislavskykraj.sk/podujatie/skleneny-zverinec-divadlo-arena/
LOCATION:Divadlo Aréna\, Viedenská cesta 10\, Bratislava\, 85101
CATEGORIES:Divadlo,Predstavenie
ATTACH;FMTTYPE=image/jpeg:https://bratislavskykraj.sk/wp-content/uploads/2020/09/skleneny-zverinec-da.jpg
ORGANIZER;CN="Divadlo Ar%C3%A9na":MAILTO:pokladna@divadloarena.sk
END:VEVENT
END:VCALENDAR