BEGIN:VCALENDAR
VERSION:2.0
PRODID:-//Bratislavskykraj.sk - ECPv6.15.20//NONSGML v1.0//EN
CALSCALE:GREGORIAN
METHOD:PUBLISH
X-ORIGINAL-URL:https://bratislavskykraj.sk
X-WR-CALDESC:Udalosti pre Bratislavskykraj.sk
REFRESH-INTERVAL;VALUE=DURATION:PT1H
X-Robots-Tag:noindex
X-PUBLISHED-TTL:PT1H
BEGIN:VTIMEZONE
TZID:Europe/Bratislava
BEGIN:DAYLIGHT
TZOFFSETFROM:+0100
TZOFFSETTO:+0200
TZNAME:CEST
DTSTART:20200329T010000
END:DAYLIGHT
BEGIN:STANDARD
TZOFFSETFROM:+0200
TZOFFSETTO:+0100
TZNAME:CET
DTSTART:20201025T010000
END:STANDARD
BEGIN:DAYLIGHT
TZOFFSETFROM:+0100
TZOFFSETTO:+0200
TZNAME:CEST
DTSTART:20210328T010000
END:DAYLIGHT
BEGIN:STANDARD
TZOFFSETFROM:+0200
TZOFFSETTO:+0100
TZNAME:CET
DTSTART:20211031T010000
END:STANDARD
BEGIN:DAYLIGHT
TZOFFSETFROM:+0100
TZOFFSETTO:+0200
TZNAME:CEST
DTSTART:20220327T010000
END:DAYLIGHT
BEGIN:STANDARD
TZOFFSETFROM:+0200
TZOFFSETTO:+0100
TZNAME:CET
DTSTART:20221030T010000
END:STANDARD
BEGIN:DAYLIGHT
TZOFFSETFROM:+0100
TZOFFSETTO:+0200
TZNAME:CEST
DTSTART:20230326T010000
END:DAYLIGHT
BEGIN:STANDARD
TZOFFSETFROM:+0200
TZOFFSETTO:+0100
TZNAME:CET
DTSTART:20231029T010000
END:STANDARD
BEGIN:DAYLIGHT
TZOFFSETFROM:+0100
TZOFFSETTO:+0200
TZNAME:CEST
DTSTART:20240331T010000
END:DAYLIGHT
BEGIN:STANDARD
TZOFFSETFROM:+0200
TZOFFSETTO:+0100
TZNAME:CET
DTSTART:20241027T010000
END:STANDARD
END:VTIMEZONE
BEGIN:VEVENT
DTSTART;TZID=Europe/Bratislava:20230111T090000
DTEND;TZID=Europe/Bratislava:20230111T100000
DTSTAMP:20260423T024719
CREATED:20230106T091420Z
LAST-MODIFIED:20230106T190035Z
UID:115721-1673427600-1673431200@bratislavskykraj.sk
SUMMARY:Plešivá speváčka / Divadlo LUDUS / VYPREDANÉ
DESCRIPTION:Vyprázdnenosť medziľudských vzťahov. Pózy a klišé. Život v nezmyselných schémach. Uviaznutie v stereotypoch správania. Konzum. Potreba spotrebovávať. Lákadlá mediálneho sveta. Klamstvá sociálnych sietí. To\, čo sa zdalo byť absurdné a nezmyselné v minulom storočí\, stáva sa realitou v 21. storočí. Žijeme teda absurditu? A sú naše životy nezmyselné? Na to si musí odpovedať zaiste každý sám.  Priepasť medzi obsahom života a jeho vonkajšími prejavmi sa stále viac prehlbuje. Vo svete\, kde si mnohí\, otázky o podstate a zmysle našich životov už ani nekladú\, a kde slová strácajú svoj význam\, sa tak chtiac\, či nechtiac\, stávame postavami absurdnej hry\, ktorú akoby Eugene Ionesco napísal práve dnes a práve pre nás. Preto ju môžeme nazvať okrem nadčasovej aj vizionárskou hrou. \nOSOBY A OBSADENIE\nPÁN SMITH: Kamil Kollárik\nPANI SMITHOVÁ: Edita Borsová\nPÁN MARTIN: Jakub Růžička\nPANI MARTINOVÁ: Katarína Baranová\nMARY\, au pair: Kristína Tothová\nKAPITÁN POŽIARNIKOV: Michal Rovňák \nDramaturgia: Peter Janků\nSvetelný dizajn: Peter Stránsky\nScénografia: Peter Janků\nKostýmy: Daniela Kytková\nÚprava a réžia: Peter Kuba \nPREMIÉRA 12.5.2017\nčas: 70 minút\nvek: 15+ (vhodné pre posledné ročníky ZŠ a stredné školy)
URL:https://bratislavskykraj.sk/podujatie/plesiva-spevacka-divadlo-ludus-2/
LOCATION:Divadlo Ludus – hráme v Štúdiu L+S\, Nám. 1. mája 5\, Štúdio L+S\, Bratislava\, Slovensko\, 811 06\, Slovenská republika
CATEGORIES:Divadlo
ATTACH;FMTTYPE=image/jpeg:https://bratislavskykraj.sk/wp-content/uploads/2023/01/20170510-534-scaled.jpg
ORGANIZER;CN="Divadlo Ludus":MAILTO:karinhronska@ludusdivadlo.sk
END:VEVENT
BEGIN:VEVENT
DTSTART;TZID=Europe/Bratislava:20211027T100000
DTEND;TZID=Europe/Bratislava:20211027T100000
DTSTAMP:20260423T024719
CREATED:20210911T142905Z
LAST-MODIFIED:20210911T142905Z
UID:80010-1635328800-1635328800@bratislavskykraj.sk
SUMMARY:Na Západe nič nové - Divadlo LUDUS
DESCRIPTION:Nová inscenácia divadla LUDUS\, podľa svetoznámeho románu E. M. Remarqua.\nZa normálnych okolností by štyria chalani Bäumer\, Kropp\, Müller a Leer pomaly ukončovali svoje štúdiá a začínali by hľadať uplatnenie v spoločnosti. Po vypuknutí ozbrojeného konfliktu sa ich jediným možným uplatnením stala vojna.\nNapriek tvrdej drezúre na cvičisku prichádzajú na front celkom nepripravení\, neschopní čeliť vojnovej hrôze. Pod vedením skúsenejšieho veliteľa Katczinskeho v boji zažívajú situácie\, ktoré sa výrazne podpisujú na ich telách i psychike. \n„Nikto nás ale v škole nenaučil\, ako v daždi a víchrici zapáliť cigaretu\, ako urobiť oheň z mokrého dreva – alebo\, že je najlepšie vraziť bodák do brucha\, lebo tam nezostane trčať ako v rebrách.“
URL:https://bratislavskykraj.sk/podujatie/na-zapade-nic-nove-divadlo-ludus-5/
LOCATION:Divadlo Ludus – hráme v Štúdiu L+S\, Nám. 1. mája 5\, Štúdio L+S\, Bratislava\, Slovensko\, 811 06\, Slovenská republika
CATEGORIES:Divadlo
ATTACH;FMTTYPE=image/jpeg:https://bratislavskykraj.sk/wp-content/uploads/2021/09/nazapade154.jpg
ORGANIZER;CN="Divadlo Ludus":MAILTO:karinhronska@ludusdivadlo.sk
END:VEVENT
BEGIN:VEVENT
DTSTART;TZID=Europe/Bratislava:20211026T100000
DTEND;TZID=Europe/Bratislava:20211026T100000
DTSTAMP:20260423T024719
CREATED:20210911T142730Z
LAST-MODIFIED:20210911T142730Z
UID:80008-1635242400-1635242400@bratislavskykraj.sk
SUMMARY:Na Západe nič nové - Divadlo LUDUS
DESCRIPTION:Nová inscenácia divadla LUDUS\, podľa svetoznámeho románu E. M. Remarqua.\nZa normálnych okolností by štyria chalani Bäumer\, Kropp\, Müller a Leer pomaly ukončovali svoje štúdiá a začínali by hľadať uplatnenie v spoločnosti. Po vypuknutí ozbrojeného konfliktu sa ich jediným možným uplatnením stala vojna.\nNapriek tvrdej drezúre na cvičisku prichádzajú na front celkom nepripravení\, neschopní čeliť vojnovej hrôze. Pod vedením skúsenejšieho veliteľa Katczinskeho v boji zažívajú situácie\, ktoré sa výrazne podpisujú na ich telách i psychike. \n„Nikto nás ale v škole nenaučil\, ako v daždi a víchrici zapáliť cigaretu\, ako urobiť oheň z mokrého dreva – alebo\, že je najlepšie vraziť bodák do brucha\, lebo tam nezostane trčať ako v rebrách.“
URL:https://bratislavskykraj.sk/podujatie/na-zapade-nic-nove-divadlo-ludus-4/
LOCATION:Divadlo Ludus – hráme v Štúdiu L+S\, Nám. 1. mája 5\, Štúdio L+S\, Bratislava\, Slovensko\, 811 06\, Slovenská republika
CATEGORIES:Divadlo
ATTACH;FMTTYPE=image/jpeg:https://bratislavskykraj.sk/wp-content/uploads/2021/09/nazapade154.jpg
ORGANIZER;CN="Divadlo Ludus":MAILTO:karinhronska@ludusdivadlo.sk
END:VEVENT
BEGIN:VEVENT
DTSTART;TZID=Europe/Bratislava:20211019T100000
DTEND;TZID=Europe/Bratislava:20211019T100000
DTSTAMP:20260423T024719
CREATED:20210913T103055Z
LAST-MODIFIED:20210913T103055Z
UID:80123-1634637600-1634637600@bratislavskykraj.sk
SUMMARY:Tajný denník Adriana Mola
DESCRIPTION:Adrian Mole je obyčajný chlapec v neobyčajnom veku. Na prahu puberty zisťuje\, že má hneď niekoľko problémov. Je jedináčik\, dostáva nemožné darčeky a pravidelné akné. Za problematickú pleť môže matkina strava a za ostatné asi sám život. Preto si každodenné trápenia aj radosti Adrian zaznamenáva do prísne tajného denníka. Musí sa starať o mrzutého dôchodcu Berta\, znášať hádky rodičov aj konflikty v škole. Ešteže je čerstvo zamilovaný do Pandory\, veľmi svojráznej slečny\, ktorá Adrianovi zamotá hlavu hneď niekoľkokrát. Veci ani zďaleka neplynú podľa Adrianových predstáv\, ale to už je osud nepochopeného intelektuála.
URL:https://bratislavskykraj.sk/podujatie/tajny-dennik-adriana-mola-2/
LOCATION:Divadlo Ludus – hráme v Štúdiu L+S\, Nám. 1. mája 5\, Štúdio L+S\, Bratislava\, Slovensko\, 811 06\, Slovenská republika
CATEGORIES:Divadlo
ATTACH;FMTTYPE=image/jpeg:https://bratislavskykraj.sk/wp-content/uploads/2021/09/adrian-mole-4.jpg
ORGANIZER;CN="Divadlo Ludus":MAILTO:karinhronska@ludusdivadlo.sk
END:VEVENT
BEGIN:VEVENT
DTSTART;TZID=Europe/Bratislava:20211018T100000
DTEND;TZID=Europe/Bratislava:20211018T100000
DTSTAMP:20260423T024719
CREATED:20210913T102931Z
LAST-MODIFIED:20210913T102931Z
UID:80120-1634551200-1634551200@bratislavskykraj.sk
SUMMARY:Tajný denník Adriana Mola
DESCRIPTION:Adrian Mole je obyčajný chlapec v neobyčajnom veku. Na prahu puberty zisťuje\, že má hneď niekoľko problémov. Je jedináčik\, dostáva nemožné darčeky a pravidelné akné. Za problematickú pleť môže matkina strava a za ostatné asi sám život. Preto si každodenné trápenia aj radosti Adrian zaznamenáva do prísne tajného denníka. Musí sa starať o mrzutého dôchodcu Berta\, znášať hádky rodičov aj konflikty v škole. Ešteže je čerstvo zamilovaný do Pandory\, veľmi svojráznej slečny\, ktorá Adrianovi zamotá hlavu hneď niekoľkokrát. Veci ani zďaleka neplynú podľa Adrianových predstáv\, ale to už je osud nepochopeného intelektuála.
URL:https://bratislavskykraj.sk/podujatie/tajny-dennik-adriana-mola/
LOCATION:Divadlo Ludus – hráme v Štúdiu L+S\, Nám. 1. mája 5\, Štúdio L+S\, Bratislava\, Slovensko\, 811 06\, Slovenská republika
CATEGORIES:Divadlo
ATTACH;FMTTYPE=image/jpeg:https://bratislavskykraj.sk/wp-content/uploads/2021/09/adrian-mole-4.jpg
ORGANIZER;CN="Divadlo Ludus":MAILTO:karinhronska@ludusdivadlo.sk
END:VEVENT
BEGIN:VEVENT
DTSTART;TZID=Europe/Bratislava:20211013T100000
DTEND;TZID=Europe/Bratislava:20211013T100000
DTSTAMP:20260423T024719
CREATED:20210913T103411Z
LAST-MODIFIED:20210913T103411Z
UID:80125-1634119200-1634119200@bratislavskykraj.sk
SUMMARY:Pozor\, double stress!
DESCRIPTION:Hroziaci rozchod rodičov\, problémy v škole\, výchovné záchvaty dospelých\, ctižiadostivá najlepšia kamarátka\, psi\, čo pomáhajú svojim rodinám. Čo s tým\, keď život pripomína komiks? Sledujeme ho očami trinásťročnej Lucie\, ešteže má možnosť  hrať divadlo\, aj v živote…\nVoľné pokračovanie inscenácie Pozor\, dobrý pes! uvádza na scénu oboch hlavných hrdinov: Luciu i Tomáša a ich chápavých psov. Môžu Gismo a Žofka aj za nový vzťah? \n„Divadelný komix pre tínedžerov a ich poľutovaniahodných rodičov. \nPodľa románu Juraja Šebestu Venussha (Ťažký týždeň)“ \n 
URL:https://bratislavskykraj.sk/podujatie/pozor-double-stress/
LOCATION:Divadlo Ludus – hráme v Štúdiu L+S\, Nám. 1. mája 5\, Štúdio L+S\, Bratislava\, Slovensko\, 811 06\, Slovenská republika
CATEGORIES:Divadlo
ATTACH;FMTTYPE=image/jpeg:https://bratislavskykraj.sk/wp-content/uploads/2021/09/stress-9.jpg
ORGANIZER;CN="Divadlo Ludus":MAILTO:karinhronska@ludusdivadlo.sk
END:VEVENT
BEGIN:VEVENT
DTSTART;TZID=Europe/Bratislava:20211004T190000
DTEND;TZID=Europe/Bratislava:20211004T190000
DTSTAMP:20260423T024719
CREATED:20210911T143725Z
LAST-MODIFIED:20210911T143725Z
UID:80020-1633374000-1633374000@bratislavskykraj.sk
SUMMARY:Konvália - Divadlo LUDUS
DESCRIPTION:Podľa biografického románu Denisy Fulmekovej – Konvália. Zakázaná láska Rudolfa Dilonga.\nPríbeh Vali Reiszovej\, mladej poetky zo židovskej rodiny\, ktorá sa zblíži s františkánskym mníchom a exponovaným slovenským básnikom Rudolfom Dilongom. Svoju spoločnú umeleckú tvorbu\, svoj ľúbostný vzťah a neskôr rodinný život museli po celú dobu skrývať. Najskôr pre spoločenskú neprípustnosť\, potom aj z politických a existenčných dôvodov. Napriek všetkým prekážkam však Vali počas vojnového slovenského štátu vydala dve zbierky básní\, porodila Dilongovi dcéru a prežila besnenie holokaustu. Pred deportáciou ju zachránilo Dilongove spoločenské postavenie\, no práve preň musel Dilong po vojne emigrovať. \n“ Prepáčte\, slečna\, môžem na okamih? Máte záujem o poéziu? „
URL:https://bratislavskykraj.sk/podujatie/konvalia-divadlo-ludus-3/
LOCATION:Divadlo Ludus – hráme v Štúdiu L+S\, Nám. 1. mája 5\, Štúdio L+S\, Bratislava\, Slovensko\, 811 06\, Slovenská republika
CATEGORIES:Divadlo
ATTACH;FMTTYPE=image/jpeg:https://bratislavskykraj.sk/wp-content/uploads/2021/09/konvaliaresized100.jpg
ORGANIZER;CN="Divadlo Ludus":MAILTO:karinhronska@ludusdivadlo.sk
END:VEVENT
BEGIN:VEVENT
DTSTART;TZID=Europe/Bratislava:20211004T100000
DTEND;TZID=Europe/Bratislava:20211004T100000
DTSTAMP:20260423T024719
CREATED:20210911T143617Z
LAST-MODIFIED:20210911T143617Z
UID:80017-1633341600-1633341600@bratislavskykraj.sk
SUMMARY:Konvália - Divadlo LUDUS
DESCRIPTION:Podľa biografického románu Denisy Fulmekovej – Konvália. Zakázaná láska Rudolfa Dilonga.\nPríbeh Vali Reiszovej\, mladej poetky zo židovskej rodiny\, ktorá sa zblíži s františkánskym mníchom a exponovaným slovenským básnikom Rudolfom Dilongom. Svoju spoločnú umeleckú tvorbu\, svoj ľúbostný vzťah a neskôr rodinný život museli po celú dobu skrývať. Najskôr pre spoločenskú neprípustnosť\, potom aj z politických a existenčných dôvodov. Napriek všetkým prekážkam však Vali počas vojnového slovenského štátu vydala dve zbierky básní\, porodila Dilongovi dcéru a prežila besnenie holokaustu. Pred deportáciou ju zachránilo Dilongove spoločenské postavenie\, no práve preň musel Dilong po vojne emigrovať. \n“ Prepáčte\, slečna\, môžem na okamih? Máte záujem o poéziu? „
URL:https://bratislavskykraj.sk/podujatie/konvalia-divadlo-ludus-2/
LOCATION:Divadlo Ludus – hráme v Štúdiu L+S\, Nám. 1. mája 5\, Štúdio L+S\, Bratislava\, Slovensko\, 811 06\, Slovenská republika
CATEGORIES:Divadlo
ATTACH;FMTTYPE=image/jpeg:https://bratislavskykraj.sk/wp-content/uploads/2021/09/konvaliaresized100.jpg
ORGANIZER;CN="Divadlo Ludus":MAILTO:karinhronska@ludusdivadlo.sk
END:VEVENT
BEGIN:VEVENT
DTSTART;TZID=Europe/Bratislava:20211003T190000
DTEND;TZID=Europe/Bratislava:20211003T190000
DTSTAMP:20260423T024719
CREATED:20210911T143413Z
LAST-MODIFIED:20210913T105350Z
UID:80015-1633287600-1633287600@bratislavskykraj.sk
SUMMARY:Konvália - Divadlo LUDUS - PREMIÉRA
DESCRIPTION:Podľa biografického románu Denisy Fulmekovej – Konvália. Zakázaná láska Rudolfa Dilonga.\nPríbeh Vali Reiszovej\, mladej poetky zo židovskej rodiny\, ktorá sa zblíži s františkánskym mníchom a exponovaným slovenským básnikom Rudolfom Dilongom. Svoju spoločnú umeleckú tvorbu\, svoj ľúbostný vzťah a neskôr rodinný život museli po celú dobu skrývať. Najskôr pre spoločenskú neprípustnosť\, potom aj z politických a existenčných dôvodov. Napriek všetkým prekážkam však Vali počas vojnového slovenského štátu vydala dve zbierky básní\, porodila Dilongovi dcéru a prežila besnenie holokaustu. Pred deportáciou ju zachránilo Dilongove spoločenské postavenie\, no práve preň musel Dilong po vojne emigrovať. \n“ Prepáčte\, slečna\, môžem na okamih? Máte záujem o poéziu? „
URL:https://bratislavskykraj.sk/podujatie/konvalia-divadlo-ludus/
LOCATION:Divadlo Ludus – hráme v Štúdiu L+S\, Nám. 1. mája 5\, Štúdio L+S\, Bratislava\, Slovensko\, 811 06\, Slovenská republika
CATEGORIES:Divadlo
ATTACH;FMTTYPE=image/png:https://bratislavskykraj.sk/wp-content/uploads/2021/09/snimka-obrazovky-2021-09-09-o-121837.png
ORGANIZER;CN="Divadlo Ludus":MAILTO:karinhronska@ludusdivadlo.sk
END:VEVENT
BEGIN:VEVENT
DTSTART;TZID=Europe/Bratislava:20211003T100000
DTEND;TZID=Europe/Bratislava:20211003T100000
DTSTAMP:20260423T024719
CREATED:20210911T143259Z
LAST-MODIFIED:20210911T143259Z
UID:80012-1633255200-1633255200@bratislavskykraj.sk
SUMMARY:Konvália - Divadlo LUDUS (generálna skúška)
DESCRIPTION:Podľa biografického románu Denisy Fulmekovej – Konvália. Zakázaná láska Rudolfa Dilonga.\nPríbeh Vali Reiszovej\, mladej poetky zo židovskej rodiny\, ktorá sa zblíži s františkánskym mníchom a exponovaným slovenským básnikom Rudolfom Dilongom. Svoju spoločnú umeleckú tvorbu\, svoj ľúbostný vzťah a neskôr rodinný život museli po celú dobu skrývať. Najskôr pre spoločenskú neprípustnosť\, potom aj z politických a existenčných dôvodov. Napriek všetkým prekážkam však Vali počas vojnového slovenského štátu vydala dve zbierky básní\, porodila Dilongovi dcéru a prežila besnenie holokaustu. Pred deportáciou ju zachránilo Dilongove spoločenské postavenie\, no práve preň musel Dilong po vojne emigrovať. \n“ Prepáčte\, slečna\, môžem na okamih? Máte záujem o poéziu? „
URL:https://bratislavskykraj.sk/podujatie/konvalia-divadlo-ludus-generalna-skuska/
LOCATION:Divadlo Ludus – hráme v Štúdiu L+S\, Nám. 1. mája 5\, Štúdio L+S\, Bratislava\, Slovensko\, 811 06\, Slovenská republika
CATEGORIES:Divadlo
ATTACH;FMTTYPE=image/png:https://bratislavskykraj.sk/wp-content/uploads/2021/09/snimka-obrazovky-2021-09-09-o-121837.png
ORGANIZER;CN="Divadlo Ludus":MAILTO:karinhronska@ludusdivadlo.sk
END:VEVENT
BEGIN:VEVENT
DTSTART;TZID=Europe/Bratislava:20210929T100000
DTEND;TZID=Europe/Bratislava:20210929T100000
DTSTAMP:20260423T024719
CREATED:20210911T142548Z
LAST-MODIFIED:20210911T142548Z
UID:80006-1632909600-1632909600@bratislavskykraj.sk
SUMMARY:Na Západe nič nové - Divadlo LUDUS
DESCRIPTION:Nová inscenácia divadla LUDUS\, podľa svetoznámeho románu E. M. Remarqua.\nZa normálnych okolností by štyria chalani Bäumer\, Kropp\, Müller a Leer pomaly ukončovali svoje štúdiá a začínali by hľadať uplatnenie v spoločnosti. Po vypuknutí ozbrojeného konfliktu sa ich jediným možným uplatnením stala vojna.\nNapriek tvrdej drezúre na cvičisku prichádzajú na front celkom nepripravení\, neschopní čeliť vojnovej hrôze. Pod vedením skúsenejšieho veliteľa Katczinskeho v boji zažívajú situácie\, ktoré sa výrazne podpisujú na ich telách i psychike. \n„Nikto nás ale v škole nenaučil\, ako v daždi a víchrici zapáliť cigaretu\, ako urobiť oheň z mokrého dreva – alebo\, že je najlepšie vraziť bodák do brucha\, lebo tam nezostane trčať ako v rebrách.“
URL:https://bratislavskykraj.sk/podujatie/na-zapade-nic-nove-divadlo-ludus-3/
LOCATION:Divadlo Ludus – hráme v Štúdiu L+S\, Nám. 1. mája 5\, Štúdio L+S\, Bratislava\, Slovensko\, 811 06\, Slovenská republika
CATEGORIES:Divadlo
ATTACH;FMTTYPE=image/jpeg:https://bratislavskykraj.sk/wp-content/uploads/2021/09/nazapade154.jpg
ORGANIZER;CN="Divadlo Ludus":MAILTO:karinhronska@ludusdivadlo.sk
END:VEVENT
BEGIN:VEVENT
DTSTART;TZID=Europe/Bratislava:20210927T100000
DTEND;TZID=Europe/Bratislava:20210927T100000
DTSTAMP:20260423T024719
CREATED:20210911T142359Z
LAST-MODIFIED:20210911T142359Z
UID:80003-1632736800-1632736800@bratislavskykraj.sk
SUMMARY:Na Západe nič nové - Divadlo LUDUS
DESCRIPTION:Nová inscenácia divadla LUDUS\, podľa svetoznámeho románu E. M. Remarqua.\nZa normálnych okolností by štyria chalani Bäumer\, Kropp\, Müller a Leer pomaly ukončovali svoje štúdiá a začínali by hľadať uplatnenie v spoločnosti. Po vypuknutí ozbrojeného konfliktu sa ich jediným možným uplatnením stala vojna.\nNapriek tvrdej drezúre na cvičisku prichádzajú na front celkom nepripravení\, neschopní čeliť vojnovej hrôze. Pod vedením skúsenejšieho veliteľa Katczinskeho v boji zažívajú situácie\, ktoré sa výrazne podpisujú na ich telách i psychike. \n„Nikto nás ale v škole nenaučil\, ako v daždi a víchrici zapáliť cigaretu\, ako urobiť oheň z mokrého dreva – alebo\, že je najlepšie vraziť bodák do brucha\, lebo tam nezostane trčať ako v rebrách.“
URL:https://bratislavskykraj.sk/podujatie/na-zapade-nic-nove-divadlo-ludus-2/
LOCATION:Divadlo Ludus – hráme v Štúdiu L+S\, Nám. 1. mája 5\, Štúdio L+S\, Bratislava\, Slovensko\, 811 06\, Slovenská republika
CATEGORIES:Divadlo
ATTACH;FMTTYPE=image/jpeg:https://bratislavskykraj.sk/wp-content/uploads/2021/09/nazapade154.jpg
ORGANIZER;CN="Divadlo Ludus":MAILTO:karinhronska@ludusdivadlo.sk
END:VEVENT
BEGIN:VEVENT
DTSTART;TZID=Europe/Bratislava:20210922T100000
DTEND;TZID=Europe/Bratislava:20210922T100000
DTSTAMP:20260423T024719
CREATED:20210913T102617Z
LAST-MODIFIED:20210913T105103Z
UID:80117-1632304800-1632304800@bratislavskykraj.sk
SUMMARY:Pozor\, dobrý pes! Hráme v DK Pezinok
DESCRIPTION:Čo všetko musí tínedžer Tomáš riešiť? Chlapec zo vzdelanej rodiny\, rebel a zároveň plachý puberťák s nadpriemerným IQ. Počítačovo zbehlý\, bezočivý ale aj romantik. Život mu komplikujú vážne problémy rodičov. Musí zvládnuť skraty v komunikácii s otcom i mamou\, ale aj školu\, prvé lásky a sklamania. Tomáš by to neprežil\, keby nemal zmysel pre humor\, ale hlavne malého jazvečíka Žofiu – najdôležitejšieho člena rodiny. Je pre Tomáša kamoškou i psychologičku zároveň. Príbeh zo súčasnosti\, ktorý približuje životné osudy troch generácií. \nRodinná komédia o dospievaní nielen tínedžerov\,\npodľa románu Juraja Šebestu „Keď sa pes smeje“
URL:https://bratislavskykraj.sk/podujatie/pozor-dobry-pes-hrame-v-dk-pezinok/
LOCATION:Dom kultúry Pezinok\, Holubyho 42\, Pezinok
CATEGORIES:Divadlo
ATTACH;FMTTYPE=image/jpeg:https://bratislavskykraj.sk/wp-content/uploads/2021/09/pes-9-1280x899-1.jpg
ORGANIZER;CN="Divadlo Ludus":MAILTO:karinhronska@ludusdivadlo.sk
END:VEVENT
BEGIN:VEVENT
DTSTART;TZID=Europe/Bratislava:20210917T190000
DTEND;TZID=Europe/Bratislava:20210917T190000
DTSTAMP:20260423T024719
CREATED:20210911T140250Z
LAST-MODIFIED:20210913T105317Z
UID:79995-1631905200-1631905200@bratislavskykraj.sk
SUMMARY:Na Západe nič nové - Divadlo LUDUS - PREMIÉRA
DESCRIPTION:Nová inscenácia divadla LUDUS\, podľa svetoznámeho románu E. M. Remarqua.\nZa normálnych okolností by štyria chalani Bäumer\, Kropp\, Müller a Leer pomaly ukončovali svoje štúdiá a začínali by hľadať uplatnenie v spoločnosti. Po vypuknutí ozbrojeného konfliktu sa ich jediným možným uplatnením stala vojna.\nNapriek tvrdej drezúre na cvičisku prichádzajú na front celkom nepripravení\, neschopní čeliť vojnovej hrôze. Pod vedením skúsenejšieho veliteľa Katczinskeho v boji zažívajú situácie\, ktoré sa výrazne podpisujú na ich telách i psychike. \n„Nikto nás ale v škole nenaučil\, ako v daždi a víchrici zapáliť cigaretu\, ako urobiť oheň z mokrého dreva – alebo\, že je najlepšie vraziť bodák do brucha\, lebo tam nezostane trčať ako v rebrách.“
URL:https://bratislavskykraj.sk/podujatie/na-zapade-nic-nove-divadlo-ludus/
LOCATION:Divadlo Ludus – hráme v Štúdiu L+S\, Nám. 1. mája 5\, Štúdio L+S\, Bratislava\, Slovensko\, 811 06\, Slovenská republika
CATEGORIES:Divadlo
ATTACH;FMTTYPE=image/png:https://bratislavskykraj.sk/wp-content/uploads/2021/09/fb-head-nazapade.png
ORGANIZER;CN="Divadlo Ludus":MAILTO:karinhronska@ludusdivadlo.sk
END:VEVENT
BEGIN:VEVENT
DTSTART;TZID=Europe/Bratislava:20210917T100000
DTEND;TZID=Europe/Bratislava:20210917T100000
DTSTAMP:20260423T024719
CREATED:20210911T142133Z
LAST-MODIFIED:20210911T142133Z
UID:80001-1631872800-1631872800@bratislavskykraj.sk
SUMMARY:Na Západe nič nové - Divadlo LUDUS (generálna skúška)
DESCRIPTION:Nová inscenácia divadla LUDUS\, podľa svetoznámeho románu E. M. Remarqua.\nZa normálnych okolností by štyria chalani Bäumer\, Kropp\, Müller a Leer pomaly ukončovali svoje štúdiá a začínali by hľadať uplatnenie v spoločnosti. Po vypuknutí ozbrojeného konfliktu sa ich jediným možným uplatnením stala vojna.\nNapriek tvrdej drezúre na cvičisku prichádzajú na front celkom nepripravení\, neschopní čeliť vojnovej hrôze. Pod vedením skúsenejšieho veliteľa Katczinskeho v boji zažívajú situácie\, ktoré sa výrazne podpisujú na ich telách i psychike. \n„Nikto nás ale v škole nenaučil\, ako v daždi a víchrici zapáliť cigaretu\, ako urobiť oheň z mokrého dreva – alebo\, že je najlepšie vraziť bodák do brucha\, lebo tam nezostane trčať ako v rebrách.“
URL:https://bratislavskykraj.sk/podujatie/na-zapade-nic-nove-divadlo-ludus-generalna-skuska/
LOCATION:Divadlo Ludus – hráme v Štúdiu L+S\, Nám. 1. mája 5\, Štúdio L+S\, Bratislava\, Slovensko\, 811 06\, Slovenská republika
CATEGORIES:Divadlo
ATTACH;FMTTYPE=image/png:https://bratislavskykraj.sk/wp-content/uploads/2021/09/fb-head-nazapade.png
ORGANIZER;CN="Divadlo Ludus":MAILTO:karinhronska@ludusdivadlo.sk
END:VEVENT
END:VCALENDAR