BEGIN:VCALENDAR
VERSION:2.0
PRODID:-//Bratislavskykraj.sk - ECPv6.15.20//NONSGML v1.0//EN
CALSCALE:GREGORIAN
METHOD:PUBLISH
X-ORIGINAL-URL:https://bratislavskykraj.sk
X-WR-CALDESC:Udalosti pre Bratislavskykraj.sk
REFRESH-INTERVAL;VALUE=DURATION:PT1H
X-Robots-Tag:noindex
X-PUBLISHED-TTL:PT1H
BEGIN:VTIMEZONE
TZID:Europe/Bratislava
BEGIN:DAYLIGHT
TZOFFSETFROM:+0100
TZOFFSETTO:+0200
TZNAME:CEST
DTSTART:20220327T010000
END:DAYLIGHT
BEGIN:STANDARD
TZOFFSETFROM:+0200
TZOFFSETTO:+0100
TZNAME:CET
DTSTART:20221030T010000
END:STANDARD
BEGIN:DAYLIGHT
TZOFFSETFROM:+0100
TZOFFSETTO:+0200
TZNAME:CEST
DTSTART:20230326T010000
END:DAYLIGHT
BEGIN:STANDARD
TZOFFSETFROM:+0200
TZOFFSETTO:+0100
TZNAME:CET
DTSTART:20231029T010000
END:STANDARD
BEGIN:DAYLIGHT
TZOFFSETFROM:+0100
TZOFFSETTO:+0200
TZNAME:CEST
DTSTART:20240331T010000
END:DAYLIGHT
BEGIN:STANDARD
TZOFFSETFROM:+0200
TZOFFSETTO:+0100
TZNAME:CET
DTSTART:20241027T010000
END:STANDARD
BEGIN:DAYLIGHT
TZOFFSETFROM:+0100
TZOFFSETTO:+0200
TZNAME:CEST
DTSTART:20250330T010000
END:DAYLIGHT
BEGIN:STANDARD
TZOFFSETFROM:+0200
TZOFFSETTO:+0100
TZNAME:CET
DTSTART:20251026T010000
END:STANDARD
BEGIN:DAYLIGHT
TZOFFSETFROM:+0100
TZOFFSETTO:+0200
TZNAME:CEST
DTSTART:20260329T010000
END:DAYLIGHT
BEGIN:STANDARD
TZOFFSETFROM:+0200
TZOFFSETTO:+0100
TZNAME:CET
DTSTART:20261025T010000
END:STANDARD
BEGIN:DAYLIGHT
TZOFFSETFROM:+0100
TZOFFSETTO:+0200
TZNAME:CEST
DTSTART:20270328T010000
END:DAYLIGHT
BEGIN:STANDARD
TZOFFSETFROM:+0200
TZOFFSETTO:+0100
TZNAME:CET
DTSTART:20271031T010000
END:STANDARD
END:VTIMEZONE
BEGIN:VEVENT
DTSTART;TZID=Europe/Bratislava:20260413T190000
DTEND;TZID=Europe/Bratislava:20260413T190000
DTSTAMP:20260421T090143
CREATED:20260324T142914Z
LAST-MODIFIED:20260324T142914Z
UID:174030-1776106800-1776106800@bratislavskykraj.sk
SUMMARY:SKLENENÝ ZVERINEC - Divadlo Aréna
DESCRIPTION:Rodinná dráma o hľadaní vnútorného pokoja\, slobody\, o snoch a nádejach\, ktoré sa často míňajú s našimi životmi. \nV ťažkých sociálnych pomeroch preberá finančnú zodpovednosť za celú rodinu syn Tom\, ktorý dennodenne drie v továrni na topánky\, aby zabezpečil chod domácnosti a každú noc mohol slobodne snívať v kine. Matka Amanda sa snaží pre svoje deti vybojovať lepší život\, ako bol ten jej\, často aj za cenu hádok\, napätia a nátlaku. Rozhodne sa\, že jediná cesta\, ktorá ich môže vyviesť z biedy a zabezpečiť svetlejšiu budúcnosť\, je vydaj dcéry Laury. To však nie je také jednoduché\, keďže Laura žije vo svojom vlastnom svete\, plnom malých sklenených zvieratiek. Všetci očakávajú veľkú zmenu\, keď do príbytku Wingfieldovcov príde na návštevu Jim\, milý mladý muž. \nRodinný život s človekom\, ktorého spoločnosť vníma ako „iného“\, prináša aj množstvo úsmevných situácií\, posolstvo o hľadaní vnútorného pokoja a slobody\, o snoch a nádejach\, ktoré sa často míňajú s našimi životmi. \n“SKLENENÝ ZVERINEC uvádzame na základe špeciálnej dohody s University of South\, Sewanee\, Tennessee.” \nHrajú: Emília VÁŠÁRYOVÁ\, Alexander BÁRTA\, Ivana UHLÍŘOVÁ\, Jakub RYBÁRIK | Réžia: Martin ČIČVÁK \nVstupenky si môžete zakúpiť online prostredníctvom stránky www.divadloarena.sk\, alebo osobne počas otváracích hodín pokladne Divadla Aréna na Viedenskej ceste 10 v Bratislave.
URL:https://bratislavskykraj.sk/podujatie/skleneny-zverinec-divadlo-arena-21/
LOCATION:Divadlo Aréna\, Viedenská cesta 10\, Bratislava\, 85101
CATEGORIES:Divadlo,Predstavenie
ATTACH;FMTTYPE=image/jpeg:https://bratislavskykraj.sk/wp-content/uploads/2020/09/skleneny-zverinec-da.jpg
ORGANIZER;CN="Divadlo Ar%C3%A9na":MAILTO:pokladna@divadloarena.sk
END:VEVENT
BEGIN:VEVENT
DTSTART;TZID=Europe/Bratislava:20260306T190000
DTEND;TZID=Europe/Bratislava:20260306T190000
DTSTAMP:20260421T090143
CREATED:20260219T104448Z
LAST-MODIFIED:20260219T104448Z
UID:172922-1772823600-1772823600@bratislavskykraj.sk
SUMMARY:SKLENENÝ ZVERINEC - Divadlo Aréna
DESCRIPTION:Rodinná dráma o hľadaní vnútorného pokoja\, slobody\, o snoch a nádejach\, ktoré sa často míňajú s našimi životmi. \nV ťažkých sociálnych pomeroch preberá finančnú zodpovednosť za celú rodinu syn Tom\, ktorý dennodenne drie v továrni na topánky\, aby zabezpečil chod domácnosti a každú noc mohol slobodne snívať v kine. Matka Amanda sa snaží pre svoje deti vybojovať lepší život\, ako bol ten jej\, často aj za cenu hádok\, napätia a nátlaku. Rozhodne sa\, že jediná cesta\, ktorá ich môže vyviesť z biedy a zabezpečiť svetlejšiu budúcnosť\, je vydaj dcéry Laury. To však nie je také jednoduché\, keďže Laura žije vo svojom vlastnom svete\, plnom malých sklenených zvieratiek. Všetci očakávajú veľkú zmenu\, keď do príbytku Wingfieldovcov príde na návštevu Jim\, milý mladý muž. \nRodinný život s človekom\, ktorého spoločnosť vníma ako „iného“\, prináša aj množstvo úsmevných situácií\, posolstvo o hľadaní vnútorného pokoja a slobody\, o snoch a nádejach\, ktoré sa často míňajú s našimi životmi. \n“SKLENENÝ ZVERINEC uvádzame na základe špeciálnej dohody s University of South\, Sewanee\, Tennessee.” \nHrajú: Emília VÁŠÁRYOVÁ\, Alexander BÁRTA\, Ivana UHLÍŘOVÁ\, Jakub RYBÁRIK | Réžia: Martin ČIČVÁK \nVstupenky si môžete zakúpiť online prostredníctvom stránky www.divadloarena.sk\, alebo osobne počas otváracích hodín pokladne Divadla Aréna na Viedenskej ceste 10 v Bratislave.
URL:https://bratislavskykraj.sk/podujatie/skleneny-zverinec-divadlo-arena-20/
LOCATION:Divadlo Aréna\, Viedenská cesta 10\, Bratislava\, 85101
CATEGORIES:Divadlo
ATTACH;FMTTYPE=image/jpeg:https://bratislavskykraj.sk/wp-content/uploads/2020/09/skleneny-zverinec-da.jpg
ORGANIZER;CN="Divadlo Ar%C3%A9na":MAILTO:pokladna@divadloarena.sk
END:VEVENT
BEGIN:VEVENT
DTSTART;TZID=Europe/Bratislava:20260208T190000
DTEND;TZID=Europe/Bratislava:20260208T190000
DTSTAMP:20260421T090143
CREATED:20260119T114620Z
LAST-MODIFIED:20260119T114620Z
UID:171177-1770577200-1770577200@bratislavskykraj.sk
SUMMARY:SKLENENÝ ZVERINEC - Divadlo Aréna
DESCRIPTION:Rodinná dráma o hľadaní vnútorného pokoja\, slobody\, o snoch a nádejach\, ktoré sa často míňajú s našimi životmi. \nV ťažkých sociálnych pomeroch preberá finančnú zodpovednosť za celú rodinu syn Tom\, ktorý dennodenne drie v továrni na topánky\, aby zabezpečil chod domácnosti a každú noc mohol slobodne snívať v kine. Matka Amanda sa snaží pre svoje deti vybojovať lepší život\, ako bol ten jej\, často aj za cenu hádok\, napätia a nátlaku. Rozhodne sa\, že jediná cesta\, ktorá ich môže vyviesť z biedy a zabezpečiť svetlejšiu budúcnosť\, je vydaj dcéry Laury. To však nie je také jednoduché\, keďže Laura žije vo svojom vlastnom svete\, plnom malých sklenených zvieratiek. Všetci očakávajú veľkú zmenu\, keď do príbytku Wingfieldovcov príde na návštevu Jim\, milý mladý muž. \nRodinný život s človekom\, ktorého spoločnosť vníma ako „iného“\, prináša aj množstvo úsmevných situácií\, posolstvo o hľadaní vnútorného pokoja a slobody\, o snoch a nádejach\, ktoré sa často míňajú s našimi životmi. \n“SKLENENÝ ZVERINEC uvádzame na základe špeciálnej dohody s University of South\, Sewanee\, Tennessee.” \nHrajú: Emília VÁŠÁRYOVÁ\, Alexander BÁRTA\, Ivana UHLÍŘOVÁ\, Tomáš MAŠTALÍR | Réžia: Martin ČIČVÁK \nVstupenky si môžete zakúpiť online prostredníctvom stránky www.divadloarena.sk\, alebo osobne počas otváracích hodín pokladne Divadla Aréna na Viedenskej ceste 10 v Bratislave.
URL:https://bratislavskykraj.sk/podujatie/skleneny-zverinec-divadlo-arena-19/
LOCATION:Divadlo Aréna\, Viedenská cesta 10\, Bratislava\, 85101
CATEGORIES:Divadlo,Predstavenie
ATTACH;FMTTYPE=image/jpeg:https://bratislavskykraj.sk/wp-content/uploads/2020/09/skleneny-zverinec-da.jpg
ORGANIZER;CN="Divadlo Ar%C3%A9na":MAILTO:pokladna@divadloarena.sk
END:VEVENT
BEGIN:VEVENT
DTSTART;TZID=Europe/Bratislava:20260116T190000
DTEND;TZID=Europe/Bratislava:20260116T190000
DTSTAMP:20260421T090143
CREATED:20251218T175313Z
LAST-MODIFIED:20251218T175313Z
UID:169610-1768590000-1768590000@bratislavskykraj.sk
SUMMARY:SKLENENÝ ZVERINEC - Divadlo Aréna
DESCRIPTION:Rodinná dráma o hľadaní vnútorného pokoja\, slobody\, o snoch a nádejach\, ktoré sa často míňajú s našimi životmi. \nV ťažkých sociálnych pomeroch preberá finančnú zodpovednosť za celú rodinu syn Tom\, ktorý dennodenne drie v továrni na topánky\, aby zabezpečil chod domácnosti a každú noc mohol slobodne snívať v kine. Matka Amanda sa snaží pre svoje deti vybojovať lepší život\, ako bol ten jej\, často aj za cenu hádok\, napätia a nátlaku. Rozhodne sa\, že jediná cesta\, ktorá ich môže vyviesť z biedy a zabezpečiť svetlejšiu budúcnosť\, je vydaj dcéry Laury. To však nie je také jednoduché\, keďže Laura žije vo svojom vlastnom svete\, plnom malých sklenených zvieratiek. Všetci očakávajú veľkú zmenu\, keď do príbytku Wingfieldovcov príde na návštevu Jim\, milý mladý muž. \nRodinný život s človekom\, ktorého spoločnosť vníma ako „iného“\, prináša aj množstvo úsmevných situácií\, posolstvo o hľadaní vnútorného pokoja a slobody\, o snoch a nádejach\, ktoré sa často míňajú s našimi životmi. \n“SKLENENÝ ZVERINEC uvádzame na základe špeciálnej dohody s University of South\, Sewanee\, Tennessee.” \nHrajú: Emília VÁŠÁRYOVÁ\, Alexander BÁRTA\, Ivana UHLÍŘOVÁ\, Jakub RYBÁRIK | Réžia: Martin ČIČVÁK \nVstupenky si môžete zakúpiť online prostredníctvom stránky www.divadloarena.sk\, alebo osobne počas otváracích hodín pokladne Divadla Aréna na Viedenskej ceste 10 v Bratislave.
URL:https://bratislavskykraj.sk/podujatie/skleneny-zverinec-divadlo-arena-18/
LOCATION:Divadlo Aréna\, Viedenská cesta 10\, Bratislava\, 85101
CATEGORIES:Divadlo
ATTACH;FMTTYPE=image/jpeg:https://bratislavskykraj.sk/wp-content/uploads/2020/09/skleneny-zverinec-da.jpg
ORGANIZER;CN="Divadlo Ar%C3%A9na":MAILTO:pokladna@divadloarena.sk
END:VEVENT
BEGIN:VEVENT
DTSTART;TZID=Europe/Bratislava:20251114T190000
DTEND;TZID=Europe/Bratislava:20251114T190000
DTSTAMP:20260421T090143
CREATED:20251015T104446Z
LAST-MODIFIED:20251015T104446Z
UID:166834-1763146800-1763146800@bratislavskykraj.sk
SUMMARY:SKLENENÝ ZVERINEC - Divadlo Aréna
DESCRIPTION:Rodinná dráma o hľadaní vnútorného pokoja\, slobody\, o snoch a nádejach\, ktoré sa často míňajú s našimi životmi. \nV ťažkých sociálnych pomeroch preberá finančnú zodpovednosť za celú rodinu syn Tom\, ktorý dennodenne drie v továrni na topánky\, aby zabezpečil chod domácnosti a každú noc mohol slobodne snívať v kine. Matka Amanda sa snaží pre svoje deti vybojovať lepší život\, ako bol ten jej\, často aj za cenu hádok\, napätia a nátlaku. Rozhodne sa\, že jediná cesta\, ktorá ich môže vyviesť z biedy a zabezpečiť svetlejšiu budúcnosť\, je vydaj dcéry Laury. To však nie je také jednoduché\, keďže Laura žije vo svojom vlastnom svete\, plnom malých sklenených zvieratiek. Všetci očakávajú veľkú zmenu\, keď do príbytku Wingfieldovcov príde na návštevu Jim\, milý mladý muž. \nRodinný život s človekom\, ktorého spoločnosť vníma ako „iného“\, prináša aj množstvo úsmevných situácií\, posolstvo o hľadaní vnútorného pokoja a slobody\, o snoch a nádejach\, ktoré sa často míňajú s našimi životmi. \n“SKLENENÝ ZVERINEC uvádzame na základe špeciálnej dohody s University of South\, Sewanee\, Tennessee.” \nHrajú: Emília VÁŠÁRYOVÁ\, Alexander BÁRTA\, Ivana UHLÍŘOVÁ\, Jakub RYBÁRIK | Réžia: Martin ČIČVÁK \nVstupenky si môžete zakúpiť online prostredníctvom stránky www.divadloarena.sk\, alebo osobne počas otváracích hodín pokladne Divadla Aréna na Viedenskej ceste 10 v Bratislave.
URL:https://bratislavskykraj.sk/podujatie/skleneny-zverinec-divadlo-arena-17/
LOCATION:Divadlo Aréna\, Viedenská cesta 10\, Bratislava\, 85101
CATEGORIES:Divadlo
ATTACH;FMTTYPE=image/jpeg:https://bratislavskykraj.sk/wp-content/uploads/2020/09/skleneny-zverinec-da.jpg
ORGANIZER;CN="Divadlo Ar%C3%A9na":MAILTO:pokladna@divadloarena.sk
END:VEVENT
BEGIN:VEVENT
DTSTART;TZID=Europe/Bratislava:20250625T190000
DTEND;TZID=Europe/Bratislava:20250625T190000
DTSTAMP:20260421T090143
CREATED:20250519T133807Z
LAST-MODIFIED:20250519T133908Z
UID:161034-1750878000-1750878000@bratislavskykraj.sk
SUMMARY:SKLENENÝ ZVERINEC - Divadlo Aréna
DESCRIPTION:Dráma o hľadaní vnútorného pokoja\, slobody\, o snoch a nádejach\, ktoré sa často míňajú s našimi životmi. V ťažkých sociálnych pomeroch preberá finančnú zodpovednosť za celú rodinu syn Tom. Drie v továrni na topánky\, aby zaistil chod domácnosti a každú noc mohol snívať v kine. Matka Amanda sa rozhodne\, že vydaj dcéry Laury im môže zabezpečiť svetlejšiu budúcnosť. Laura však žije vo svojom vlastnom svete\, plnom malých sklenených zvieratiek. Všetci očakávajú veľkú zmenu\, keď príbytok Wingfieldovcov navštívi Jim\, milý mladý muž. \n“SKLENENÝ ZVERINEC uvádzame na základe špeciálnej dohody s University of South\, Sewanee\, Tennessee.” \nHrajú: Emília VÁŠÁRYOVÁ\, Alexander BÁRTA\, Ivana UHLÍŘOVÁ\, Tomáš MAŠTALÍR/Jakub RYBÁRIK | Réžia: Martin ČIČVÁK \nVstupenky si môžete zakúpiť online prostredníctvom stránky www.divadloarena.sk\, alebo osobne počas otváracích hodín pokladne Divadla Aréna na Viedenskej ceste 10 v Bratislave.
URL:https://bratislavskykraj.sk/podujatie/skleneny-zverinec-divadlo-arena-15/
LOCATION:Divadlo Aréna\, Viedenská cesta 10\, Bratislava\, 85101
CATEGORIES:Divadlo,Predstavenie
ATTACH;FMTTYPE=image/jpeg:https://bratislavskykraj.sk/wp-content/uploads/2020/09/skleneny-zverinec-da.jpg
ORGANIZER;CN="Divadlo Ar%C3%A9na":MAILTO:pokladna@divadloarena.sk
END:VEVENT
BEGIN:VEVENT
DTSTART;TZID=Europe/Bratislava:20250331T190000
DTEND;TZID=Europe/Bratislava:20250331T190000
DTSTAMP:20260421T090143
CREATED:20250224T103607Z
LAST-MODIFIED:20250224T103607Z
UID:156953-1743447600-1743447600@bratislavskykraj.sk
SUMMARY:SKLENENÝ ZVERINEC - Divadlo Aréna
DESCRIPTION:Dráma o hľadaní vnútorného pokoja\, slobody\, o snoch a nádejach\, ktoré sa často míňajú s našimi životmi. V ťažkých sociálnych pomeroch preberá finančnú zodpovednosť za celú rodinu syn Tom. Drie v továrni na topánky\, aby zaistil chod domácnosti a každú noc mohol snívať v kine. Matka Amanda sa rozhodne\, že vydaj dcéry Laury im môže zabezpečiť svetlejšiu budúcnosť. Laura však žije vo svojom vlastnom svete\, plnom malých sklenených zvieratiek. Všetci očakávajú veľkú zmenu\, keď príbytok Wingfieldovcov navštívi Jim\, milý mladý muž. \n“SKLENENÝ ZVERINEC uvádzame na základe špeciálnej dohody s University of South\, Sewanee\, Tennessee.” \nHrajú: Emília VÁŠÁRYOVÁ\, Alexander BÁRTA\, Ivana UHLÍŘOVÁ\, Tomáš MAŠTALÍR/Jakub RYBÁRIK | Réžia: Martin ČIČVÁK \nVstupenky si môžete zakúpiť online prostredníctvom stránky www.divadloarena.sk\, alebo osobne počas otváracích hodín pokladne Divadla Aréna na Viedenskej ceste 10 v Bratislave.
URL:https://bratislavskykraj.sk/podujatie/skleneny-zverinec-divadlo-arena-14/
LOCATION:Divadlo Aréna\, Viedenská cesta 10\, Bratislava\, 85101
CATEGORIES:Divadlo,Predstavenie
ATTACH;FMTTYPE=image/jpeg:https://bratislavskykraj.sk/wp-content/uploads/2020/09/skleneny-zverinec-da.jpg
ORGANIZER;CN="Divadlo Ar%C3%A9na":MAILTO:pokladna@divadloarena.sk
END:VEVENT
BEGIN:VEVENT
DTSTART;TZID=Europe/Bratislava:20250129T190000
DTEND;TZID=Europe/Bratislava:20250129T190000
DTSTAMP:20260421T090143
CREATED:20250104T212356Z
LAST-MODIFIED:20250104T212412Z
UID:154233-1738177200-1738177200@bratislavskykraj.sk
SUMMARY:SKLENENÝ ZVERINEC - Divadlo Aréna
DESCRIPTION:Dráma o hľadaní vnútorného pokoja\, slobody\, o snoch a nádejach\, ktoré sa často míňajú s našimi životmi. V ťažkých sociálnych pomeroch preberá finančnú zodpovednosť za celú rodinu syn Tom. Drie v továrni na topánky\, aby zaistil chod domácnosti a každú noc mohol snívať v kine. Matka Amanda sa rozhodne\, že vydaj dcéry Laury im môže zabezpečiť svetlejšiu budúcnosť. Laura však žije vo svojom vlastnom svete\, plnom malých sklenených zvieratiek. Všetci očakávajú veľkú zmenu\, keď príbytok Wingfieldovcov navštívi Jim\, milý mladý muž. \n“SKLENENÝ ZVERINEC uvádzame na základe špeciálnej dohody s University of South\, Sewanee\, Tennessee.” \nHrajú: Emília VÁŠÁRYOVÁ\, Alexander BÁRTA\, Ivana UHLÍŘOVÁ\, Tomáš MAŠTALÍR/Jakub RYBÁRIK | Réžia: Martin ČIČVÁK \nVstupenky si môžete zakúpiť online prostredníctvom stránky www.divadloarena.sk\, alebo osobne počas otváracích hodín pokladne Divadla Aréna na Viedenskej ceste 10 v Bratislave.
URL:https://bratislavskykraj.sk/podujatie/skleneny-zverinec-divadlo-arena-13/
LOCATION:Divadlo Aréna\, Viedenská cesta 10\, Bratislava\, 85101
CATEGORIES:Divadlo
ATTACH;FMTTYPE=image/jpeg:https://bratislavskykraj.sk/wp-content/uploads/2020/09/skleneny-zverinec-da.jpg
ORGANIZER;CN="Divadlo Ar%C3%A9na":MAILTO:pokladna@divadloarena.sk
END:VEVENT
BEGIN:VEVENT
DTSTART;TZID=Europe/Bratislava:20241207T190000
DTEND;TZID=Europe/Bratislava:20241207T190000
DTSTAMP:20260421T090143
CREATED:20241127T142430Z
LAST-MODIFIED:20241127T142503Z
UID:152811-1733598000-1733598000@bratislavskykraj.sk
SUMMARY:SKLENENÝ ZVERINEC - Divadlo Aréna
DESCRIPTION:Dráma o hľadaní vnútorného pokoja\, slobody\, o snoch a nádejach\, ktoré sa často míňajú s našimi životmi. V ťažkých sociálnych pomeroch preberá finančnú zodpovednosť za celú rodinu syn Tom. Drie v továrni na topánky\, aby zaistil chod domácnosti a každú noc mohol snívať v kine. Matka Amanda sa rozhodne\, že vydaj dcéry Laury im môže zabezpečiť svetlejšiu budúcnosť. Laura však žije vo svojom vlastnom svete\, plnom malých sklenených zvieratiek. Všetci očakávajú veľkú zmenu\, keď príbytok Wingfieldovcov navštívi Jim\, milý mladý muž. \n“SKLENENÝ ZVERINEC uvádzame na základe špeciálnej dohody s University of South\, Sewanee\, Tennessee.” \nHrajú: Emília VÁŠÁRYOVÁ\, Alexander BÁRTA\, Ivana UHLÍŘOVÁ\, Tomáš MAŠTALÍR | Réžia: Martin ČIČVÁK \nVstupenky si môžete zakúpiť online prostredníctvom stránky www.divadloarena.sk\, alebo osobne počas otváracích hodín pokladne Divadla Aréna na Viedenskej ceste 10 v Bratislave.
URL:https://bratislavskykraj.sk/podujatie/skleneny-zverinec-divadlo-arena-12/
LOCATION:Divadlo Aréna\, Viedenská cesta 10\, Bratislava\, 85101
CATEGORIES:Divadlo,Predstavenie
ATTACH;FMTTYPE=image/jpeg:https://bratislavskykraj.sk/wp-content/uploads/2020/09/skleneny-zverinec-da.jpg
ORGANIZER;CN="Divadlo Ar%C3%A9na":MAILTO:pokladna@divadloarena.sk
END:VEVENT
BEGIN:VEVENT
DTSTART;TZID=Europe/Bratislava:20240503T190000
DTEND;TZID=Europe/Bratislava:20240503T190000
DTSTAMP:20260421T090143
CREATED:20240318T110023Z
LAST-MODIFIED:20240318T110023Z
UID:139753-1714762800-1714762800@bratislavskykraj.sk
SUMMARY:SKLENENÝ ZVERINEC - Divadlo Aréna
DESCRIPTION:Inscenáciu SKLENENÝ ZVERINEC pre vás hráme v Dome kultúry Ružinov. \nVstupenky si môžete zakúpiť online prostredníctvom stránky www.divadloarena.sk\, v sieti Ticketportal\, alebo osobne počas otváracích hodín pokladne Divadla Aréna na Grösslingovej 4 v Bratislave. Zľavy je možné uplatniť len pri kúpe vstupeniek osobne v pokladni Divadla Aréna. \nDráma o hľadaní vnútorného pokoja\, slobody\, o snoch a nádejach\, ktoré sa často míňajú s našimi životmi. V ťažkých sociálnych pomeroch preberá finančnú zodpovednosť za celú rodinu syn Tom. Drie v továrni na topánky\, aby zaistil chod domácnosti a každú noc mohol snívať v kine. Matka Amanda sa rozhodne\, že vydaj dcéry Laury im môže zabezpečiť svetlejšiu budúcnosť. Laura však žije vo svojom vlastnom svete\, plnom malých sklenených zvieratiek. Všetci očakávajú veľkú zmenu\, keď príbytok Wingfieldovcov navštívi Jim\, milý mladý muž. \n“SKLENENÝ ZVERINEC uvádzame na základe špeciálnej dohody s University of South\, Sewanee\, Tennessee.” \nHrajú: Emília VÁŠÁRYOVÁ\, Alexander BÁRTA\, Ivana UHLÍŘOVÁ/Tereza MAREČKOVÁ\, Tomáš MAŠTALÍR/Jakub RYBÁRIK | Réžia: Martin ČIČVÁK
URL:https://bratislavskykraj.sk/podujatie/skleneny-zverinec-divadlo-arena-11/
LOCATION:DK Ružinov\, Ružinovská 28\, Bratislava\, Slovensko
CATEGORIES:Divadlo
ATTACH;FMTTYPE=image/jpeg:https://bratislavskykraj.sk/wp-content/uploads/2024/01/skleneny-zverinec-da-dk-r.jpg
ORGANIZER;CN="Divadlo Ar%C3%A9na":MAILTO:pokladna@divadloarena.sk
END:VEVENT
BEGIN:VEVENT
DTSTART;TZID=Europe/Bratislava:20231206T190000
DTEND;TZID=Europe/Bratislava:20231206T190000
DTSTAMP:20260421T090143
CREATED:20231114T130155Z
LAST-MODIFIED:20231114T130155Z
UID:133919-1701889200-1701889200@bratislavskykraj.sk
SUMMARY:SKLENENÝ ZVERINEC - Divadlo Aréna
DESCRIPTION:Z dôvodu rekonštrukcie budovy Divadla Aréna\, budeme od septembra 2021 hrávať naše predstavenia v Divadle Pavla Országha Hviezdoslava (DPOH). \nInscenáciu SKLENENÝ ZVERINEC pre vás hráme na Javisku DPOH. \nDráma o hľadaní vnútorného pokoja\, slobody\, o snoch a nádejach\, ktoré sa často míňajú s našimi životmi. V ťažkých sociálnych pomeroch preberá finančnú zodpovednosť za celú rodinu syn Tom. Drie v továrni na topánky\, aby zaistil chod domácnosti a každú noc mohol snívať v kine. Matka Amanda sa rozhodne\, že vydaj dcéry Laury im môže zabezpečiť svetlejšiu budúcnosť. Laura však žije vo svojom vlastnom svete\, plnom malých sklenených zvieratiek. Všetci očakávajú veľkú zmenu\, keď príbytok Wingfieldovcov navštívi Jim\, milý mladý muž. \n“SKLENENÝ ZVERINEC uvádzame na základe špeciálnej dohody s University of South\, Sewanee\, Tennessee.” \nHrajú: Emília VÁŠÁRYOVÁ\, Alexander BÁRTA\, Ivana UHLÍŘOVÁ/Tereza MAREČKOVÁ\, Tomáš MAŠTALÍR/Jakub RYBÁRIK | Réžia: Martin ČIČVÁK
URL:https://bratislavskykraj.sk/podujatie/skleneny-zverinec-divadlo-arena-7/
LOCATION:DPOH\, Laurinská 20\, Bratislava\, 81101
CATEGORIES:Divadlo
ATTACH;FMTTYPE=image/jpeg:https://bratislavskykraj.sk/wp-content/uploads/2020/09/skleneny-zverinec-da.jpg
ORGANIZER;CN="Divadlo Ar%C3%A9na":MAILTO:pokladna@divadloarena.sk
END:VEVENT
BEGIN:VEVENT
DTSTART;TZID=Europe/Bratislava:20231022T190000
DTEND;TZID=Europe/Bratislava:20231022T190000
DTSTAMP:20260421T090143
CREATED:20231002T104300Z
LAST-MODIFIED:20231002T104300Z
UID:131735-1698001200-1698001200@bratislavskykraj.sk
SUMMARY:SKLENENÝ ZVERINEC - Divadlo Aréna
DESCRIPTION:Z dôvodu rekonštrukcie budovy Divadla Aréna\, budeme od septembra 2021 hrávať naše predstavenia v Divadle Pavla Országha Hviezdoslava (DPOH). \nInscenáciu SKLENENÝ ZVERINEC pre vás hráme na Javisku DPOH. \nDráma o hľadaní vnútorného pokoja\, slobody\, o snoch a nádejach\, ktoré sa často míňajú s našimi životmi. V ťažkých sociálnych pomeroch preberá finančnú zodpovednosť za celú rodinu syn Tom. Drie v továrni na topánky\, aby zaistil chod domácnosti a každú noc mohol snívať v kine. Matka Amanda sa rozhodne\, že vydaj dcéry Laury im môže zabezpečiť svetlejšiu budúcnosť. Laura však žije vo svojom vlastnom svete\, plnom malých sklenených zvieratiek. Všetci očakávajú veľkú zmenu\, keď príbytok Wingfieldovcov navštívi Jim\, milý mladý muž. \n“SKLENENÝ ZVERINEC uvádzame na základe špeciálnej dohody s University of South\, Sewanee\, Tennessee.” \nHrajú: Emília VÁŠÁRYOVÁ\, Alexander BÁRTA\, Ivana UHLÍŘOVÁ/Tereza MAREČKOVÁ\, Tomáš MAŠTALÍR/Jakub RYBÁRIK | Réžia: Martin ČIČVÁK
URL:https://bratislavskykraj.sk/podujatie/skleneny-zverinec-divadlo-arena-5/
LOCATION:DPOH\, Laurinská 20\, Bratislava\, 81101
CATEGORIES:Divadlo
ATTACH;FMTTYPE=image/jpeg:https://bratislavskykraj.sk/wp-content/uploads/2020/09/skleneny-zverinec-da.jpg
ORGANIZER;CN="Divadlo Ar%C3%A9na":MAILTO:pokladna@divadloarena.sk
END:VEVENT
BEGIN:VEVENT
DTSTART;TZID=Europe/Bratislava:20230930T190000
DTEND;TZID=Europe/Bratislava:20230930T190000
DTSTAMP:20260421T090143
CREATED:20230904T080413Z
LAST-MODIFIED:20230927T090035Z
UID:130379-1696100400-1696100400@bratislavskykraj.sk
SUMMARY:SKLENENÝ ZVERINEC - Divadlo Aréna (ZRUŠENÉ S NÁHRADNÝM TERMÍNOM)
DESCRIPTION:DÔLEŽITÁ INFORMÁCIA! \nDivadlo Aréna informuje svojich divákov\, že z prevádzkových dôvodov\, je plánované predstavenie SKLENENÝ ZVERINEC dňa 30.9.2023 o 19:00 hod. presunuté na náhradný termín dňa 22.10.2023 o 19:00 hod. \nVstupenky\, zakúpené na predstavenie v pôvodnom termíne\, zostávajú v platnosti. V prípade\, že vám náhradný termín nevyhovuje\, vstupenky môžete vrátiť na predajnom mieste ich zakúpenia. \nDivadlo Aréna sa ospravedlňuje svojim divákom za nepríjemnosť.\n\nZ dôvodu rekonštrukcie budovy Divadla Aréna\, budeme od septembra 2021 hrávať naše predstavenia v Divadle Pavla Országha Hviezdoslava (DPOH). \nInscenáciu SKLENENÝ ZVERINEC pre vás hráme na Javisku DPOH. \nDráma o hľadaní vnútorného pokoja\, slobody\, o snoch a nádejach\, ktoré sa často míňajú s našimi životmi. V ťažkých sociálnych pomeroch preberá finančnú zodpovednosť za celú rodinu syn Tom. Drie v továrni na topánky\, aby zaistil chod domácnosti a každú noc mohol snívať v kine. Matka Amanda sa rozhodne\, že vydaj dcéry Laury im môže zabezpečiť svetlejšiu budúcnosť. Laura však žije vo svojom vlastnom svete\, plnom malých sklenených zvieratiek. Všetci očakávajú veľkú zmenu\, keď príbytok Wingfieldovcov navštívi Jim\, milý mladý muž. \n“SKLENENÝ ZVERINEC uvádzame na základe špeciálnej dohody s University of South\, Sewanee\, Tennessee.” \nHrajú: Emília VÁŠÁRYOVÁ\, Alexander BÁRTA\, Ivana UHLÍŘOVÁ/Tereza MAREČKOVÁ\, Tomáš MAŠTALÍR/Jakub RYBÁRIK | Réžia: Martin ČIČVÁK
URL:https://bratislavskykraj.sk/podujatie/skleneny-zverinec-divadlo-arena-4/
LOCATION:DPOH\, Laurinská 20\, Bratislava\, 81101
CATEGORIES:Divadlo,Predstavenie
ATTACH;FMTTYPE=image/jpeg:https://bratislavskykraj.sk/wp-content/uploads/2020/09/skleneny-zverinec-da.jpg
ORGANIZER;CN="Divadlo Ar%C3%A9na":MAILTO:pokladna@divadloarena.sk
END:VEVENT
END:VCALENDAR