BEGIN:VCALENDAR
VERSION:2.0
PRODID:-//Bratislavskykraj.sk - ECPv6.15.20//NONSGML v1.0//EN
CALSCALE:GREGORIAN
METHOD:PUBLISH
X-ORIGINAL-URL:https://bratislavskykraj.sk
X-WR-CALDESC:Udalosti pre Bratislavskykraj.sk
REFRESH-INTERVAL;VALUE=DURATION:PT1H
X-Robots-Tag:noindex
X-PUBLISHED-TTL:PT1H
BEGIN:VTIMEZONE
TZID:Europe/Bratislava
BEGIN:DAYLIGHT
TZOFFSETFROM:+0100
TZOFFSETTO:+0200
TZNAME:CEST
DTSTART:20220327T010000
END:DAYLIGHT
BEGIN:STANDARD
TZOFFSETFROM:+0200
TZOFFSETTO:+0100
TZNAME:CET
DTSTART:20221030T010000
END:STANDARD
BEGIN:DAYLIGHT
TZOFFSETFROM:+0100
TZOFFSETTO:+0200
TZNAME:CEST
DTSTART:20230326T010000
END:DAYLIGHT
BEGIN:STANDARD
TZOFFSETFROM:+0200
TZOFFSETTO:+0100
TZNAME:CET
DTSTART:20231029T010000
END:STANDARD
BEGIN:DAYLIGHT
TZOFFSETFROM:+0100
TZOFFSETTO:+0200
TZNAME:CEST
DTSTART:20240331T010000
END:DAYLIGHT
BEGIN:STANDARD
TZOFFSETFROM:+0200
TZOFFSETTO:+0100
TZNAME:CET
DTSTART:20241027T010000
END:STANDARD
END:VTIMEZONE
BEGIN:VEVENT
DTSTART;TZID=Europe/Bratislava:20230111T090000
DTEND;TZID=Europe/Bratislava:20230111T100000
DTSTAMP:20260421T013301
CREATED:20230106T091420Z
LAST-MODIFIED:20230106T190035Z
UID:115721-1673427600-1673431200@bratislavskykraj.sk
SUMMARY:Plešivá speváčka / Divadlo LUDUS / VYPREDANÉ
DESCRIPTION:Vyprázdnenosť medziľudských vzťahov. Pózy a klišé. Život v nezmyselných schémach. Uviaznutie v stereotypoch správania. Konzum. Potreba spotrebovávať. Lákadlá mediálneho sveta. Klamstvá sociálnych sietí. To\, čo sa zdalo byť absurdné a nezmyselné v minulom storočí\, stáva sa realitou v 21. storočí. Žijeme teda absurditu? A sú naše životy nezmyselné? Na to si musí odpovedať zaiste každý sám.  Priepasť medzi obsahom života a jeho vonkajšími prejavmi sa stále viac prehlbuje. Vo svete\, kde si mnohí\, otázky o podstate a zmysle našich životov už ani nekladú\, a kde slová strácajú svoj význam\, sa tak chtiac\, či nechtiac\, stávame postavami absurdnej hry\, ktorú akoby Eugene Ionesco napísal práve dnes a práve pre nás. Preto ju môžeme nazvať okrem nadčasovej aj vizionárskou hrou. \nOSOBY A OBSADENIE\nPÁN SMITH: Kamil Kollárik\nPANI SMITHOVÁ: Edita Borsová\nPÁN MARTIN: Jakub Růžička\nPANI MARTINOVÁ: Katarína Baranová\nMARY\, au pair: Kristína Tothová\nKAPITÁN POŽIARNIKOV: Michal Rovňák \nDramaturgia: Peter Janků\nSvetelný dizajn: Peter Stránsky\nScénografia: Peter Janků\nKostýmy: Daniela Kytková\nÚprava a réžia: Peter Kuba \nPREMIÉRA 12.5.2017\nčas: 70 minút\nvek: 15+ (vhodné pre posledné ročníky ZŠ a stredné školy)
URL:https://bratislavskykraj.sk/podujatie/plesiva-spevacka-divadlo-ludus-2/
LOCATION:Divadlo Ludus – hráme v Štúdiu L+S\, Nám. 1. mája 5\, Štúdio L+S\, Bratislava\, Slovensko\, 811 06\, Slovenská republika
CATEGORIES:Divadlo
ATTACH;FMTTYPE=image/jpeg:https://bratislavskykraj.sk/wp-content/uploads/2023/01/20170510-534-scaled.jpg
ORGANIZER;CN="Divadlo Ludus":MAILTO:karinhronska@ludusdivadlo.sk
END:VEVENT
END:VCALENDAR