BEGIN:VCALENDAR
VERSION:2.0
PRODID:-//Bratislavskykraj.sk - ECPv6.15.20//NONSGML v1.0//EN
CALSCALE:GREGORIAN
METHOD:PUBLISH
X-WR-CALNAME:Bratislavskykraj.sk
X-ORIGINAL-URL:https://bratislavskykraj.sk
X-WR-CALDESC:Udalosti pre Bratislavskykraj.sk
REFRESH-INTERVAL;VALUE=DURATION:PT1H
X-Robots-Tag:noindex
X-PUBLISHED-TTL:PT1H
BEGIN:VTIMEZONE
TZID:Europe/Bratislava
BEGIN:DAYLIGHT
TZOFFSETFROM:+0100
TZOFFSETTO:+0200
TZNAME:CEST
DTSTART:20240331T010000
END:DAYLIGHT
BEGIN:STANDARD
TZOFFSETFROM:+0200
TZOFFSETTO:+0100
TZNAME:CET
DTSTART:20241027T010000
END:STANDARD
BEGIN:DAYLIGHT
TZOFFSETFROM:+0100
TZOFFSETTO:+0200
TZNAME:CEST
DTSTART:20250330T010000
END:DAYLIGHT
BEGIN:STANDARD
TZOFFSETFROM:+0200
TZOFFSETTO:+0100
TZNAME:CET
DTSTART:20251026T010000
END:STANDARD
BEGIN:DAYLIGHT
TZOFFSETFROM:+0100
TZOFFSETTO:+0200
TZNAME:CEST
DTSTART:20260329T010000
END:DAYLIGHT
BEGIN:STANDARD
TZOFFSETFROM:+0200
TZOFFSETTO:+0100
TZNAME:CET
DTSTART:20261025T010000
END:STANDARD
END:VTIMEZONE
BEGIN:VEVENT
DTSTART;TZID=Europe/Bratislava:20251219T190000
DTEND;TZID=Europe/Bratislava:20251219T190000
DTSTAMP:20260421T151920
CREATED:20251114T171424Z
LAST-MODIFIED:20251114T171424Z
UID:168301-1766170800-1766170800@bratislavskykraj.sk
SUMMARY:DEŇ OPRIČNÍKA - Divadlo Aréna
DESCRIPTION:Inscenácia Divadla Petra Mankoveckého v Divadle Aréna. \nRusko v roku 2027.\nZnovunastolená vláda cára a jeho osobnej polície zvanej Opričnina.\nKrajina izolovaná od zvyšku sveta na ceste späť k minulosti a barbarstvu.\nJazyk a myslenie 16. storočia v kombinácii s modernými technológiami a ruským nacionalizmom.\nOpričníci v červených mercedesoch a metalových kabátoch.\nMetal na javisku\, Sorokinov sarkazmus a slovanský rap. \nČo sa deje s tými\, ktorí sa pre ideu vlastnej výnimočnosti dobrovoľne vzdávajú slobody a nechávajú znásilňovať mocnými? \nVladimír Sorokin v roku 2006 napísal svoju dystopickú predstavu o budúcnosti Ruska. Zobrazuje ju prostredníctvom rozprávania radového člena znovuzrodenej Opričniny Andreja Daniloviča Komjagu\, ktorý prežíva jeden bežný deň podobajúci sa súčasnosti až nebezpečne blízko. \n1565. 2006. 2023. 2027. Nie je to jedno? Deň za dňom. Kto nesúhlasí\, ide z kola von. \nHrajú: Kristián BARAN\, Jakub JABLONSKÝ\, Lenka LIBJAKOVÁ\, Tomáš POKORNÝ\, Samuel TEICHER | Réžia: David VYHNÁNEK\, Markéta BOCKOVÁ \nInscenáciu hráme v štúdiu LOFT v Divadle Aréna. \nDivadlo Aréna podporuje systematickú spoluprácu zriaďovanej a nezriaďovanej kultúry\, v rámci ktorej bude DPM uvádzať v Štúdiu LOFT dve svoje inscenácie. \nVstupenky si môžete zakúpiť online prostredníctvom stránky www.divadloarena.sk\, alebo osobne počas otváracích hodín pokladne Divadla Aréna na Viedenskej ceste 10 v Bratislave.
URL:https://bratislavskykraj.sk/podujatie/den-opricnika-divadlo-arena-3/
LOCATION:Divadlo Aréna\, Viedenská cesta 10\, Bratislava\, 85101
CATEGORIES:Divadlo
ATTACH;FMTTYPE=image/png:https://bratislavskykraj.sk/wp-content/uploads/2025/09/den-opricnika-da.png
ORGANIZER;CN="Divadlo Ar%C3%A9na":MAILTO:pokladna@divadloarena.sk
END:VEVENT
BEGIN:VEVENT
DTSTART;TZID=Europe/Bratislava:20251028T190000
DTEND;TZID=Europe/Bratislava:20251028T190000
DTSTAMP:20260421T151920
CREATED:20250917T093937Z
LAST-MODIFIED:20251021T091638Z
UID:165362-1761678000-1761678000@bratislavskykraj.sk
SUMMARY:DEŇ OPRIČNÍKA - Divadlo Aréna
DESCRIPTION:Inscenácia Divadla Petra Mankoveckého v Divadle Aréna. \nRusko v roku 2027.\nZnovunastolená vláda cára a jeho osobnej polície zvanej Opričnina.\nKrajina izolovaná od zvyšku sveta na ceste späť k minulosti a barbarstvu.\nJazyk a myslenie 16. storočia v kombinácii s modernými technológiami a ruským nacionalizmom.\nOpričníci v červených mercedesoch a metalových kabátoch.\nMetal na javisku\, Sorokinov sarkazmus a slovanský rap. \nČo sa deje s tými\, ktorí sa pre ideu vlastnej výnimočnosti dobrovoľne vzdávajú slobody a nechávajú znásilňovať mocnými? \nVladimír Sorokin v roku 2006 napísal svoju dystopickú predstavu o budúcnosti Ruska. Zobrazuje ju prostredníctvom rozprávania radového člena znovuzrodenej Opričniny Andreja Daniloviča Komjagu\, ktorý prežíva jeden bežný deň podobajúci sa súčasnosti až nebezpečne blízko. \n1565. 2006. 2023. 2027. Nie je to jedno? Deň za dňom. Kto nesúhlasí\, ide z kola von. \nHrajú: Kristián BARAN\, Jakub JABLONSKÝ\, Lenka LIBJAKOVÁ\, Tomáš POKORNÝ\, Samuel TEICHER | Réžia: David VYHNÁNEK\, Markéta BOCKOVÁ \nInscenáciu hráme v štúdiu LOFT v Divadle Aréna. \nDivadlo Aréna podporuje systematickú spoluprácu zriaďovanej a nezriaďovanej kultúry\, v rámci ktorej bude DPM uvádzať v Štúdiu LOFT dve svoje inscenácie. \nVstupenky si môžete zakúpiť online prostredníctvom stránky www.divadloarena.sk\, alebo osobne počas otváracích hodín pokladne Divadla Aréna na Viedenskej ceste 10 v Bratislave.
URL:https://bratislavskykraj.sk/podujatie/den-opricnika-divadlo-arena-2/
LOCATION:Divadlo Aréna\, Viedenská cesta 10\, Bratislava\, 85101
CATEGORIES:Divadlo
ATTACH;FMTTYPE=image/png:https://bratislavskykraj.sk/wp-content/uploads/2025/09/den-opricnika-da.png
ORGANIZER;CN="Divadlo Ar%C3%A9na":MAILTO:pokladna@divadloarena.sk
END:VEVENT
BEGIN:VEVENT
DTSTART;TZID=Europe/Bratislava:20251026T190000
DTEND;TZID=Europe/Bratislava:20251026T190000
DTSTAMP:20260421T151920
CREATED:20250917T093704Z
LAST-MODIFIED:20251021T091736Z
UID:165356-1761505200-1761505200@bratislavskykraj.sk
SUMMARY:DEŇ OPRIČNÍKA - Divadlo Aréna
DESCRIPTION:Inscenácia Divadla Petra Mankoveckého v Divadle Aréna. \nRusko v roku 2027.\nZnovunastolená vláda cára a jeho osobnej polície zvanej Opričnina.\nKrajina izolovaná od zvyšku sveta na ceste späť k minulosti a barbarstvu.\nJazyk a myslenie 16. storočia v kombinácii s modernými technológiami a ruským nacionalizmom.\nOpričníci v červených mercedesoch a metalových kabátoch.\nMetal na javisku\, Sorokinov sarkazmus a slovanský rap. \nČo sa deje s tými\, ktorí sa pre ideu vlastnej výnimočnosti dobrovoľne vzdávajú slobody a nechávajú znásilňovať mocnými? \nVladimír Sorokin v roku 2006 napísal svoju dystopickú predstavu o budúcnosti Ruska. Zobrazuje ju prostredníctvom rozprávania radového člena znovuzrodenej Opričniny Andreja Daniloviča Komjagu\, ktorý prežíva jeden bežný deň podobajúci sa súčasnosti až nebezpečne blízko. \n1565. 2006. 2023. 2027. Nie je to jedno? Deň za dňom. Kto nesúhlasí\, ide z kola von. \nHrajú: Kristián BARAN\, Jakub JABLONSKÝ\, Lenka LIBJAKOVÁ\, Tomáš POKORNÝ\, Samuel TEICHER | Réžia: David VYHNÁNEK\, Markéta BOCKOVÁ \nInscenáciu hráme v štúdiu LOFT v Divadle Aréna. \nDivadlo Aréna podporuje systematickú spoluprácu zriaďovanej a nezriaďovanej kultúry\, v rámci ktorej bude DPM uvádzať v Štúdiu LOFT dve svoje inscenácie. \nVstupenky si môžete zakúpiť online prostredníctvom stránky www.divadloarena.sk\, alebo osobne počas otváracích hodín pokladne Divadla Aréna na Viedenskej ceste 10 v Bratislave.
URL:https://bratislavskykraj.sk/podujatie/den-opricnika-divadlo-arena/
LOCATION:Divadlo Aréna\, Viedenská cesta 10\, Bratislava\, 85101
CATEGORIES:Divadlo
ATTACH;FMTTYPE=image/png:https://bratislavskykraj.sk/wp-content/uploads/2025/09/den-opricnika-da.png
ORGANIZER;CN="Divadlo Ar%C3%A9na":MAILTO:pokladna@divadloarena.sk
END:VEVENT
BEGIN:VEVENT
DTSTART;TZID=Europe/Bratislava:20251020T190000
DTEND;TZID=Europe/Bratislava:20251020T190000
DTSTAMP:20260421T151920
CREATED:20250826T085151Z
LAST-MODIFIED:20250826T085151Z
UID:164558-1760986800-1760986800@bratislavskykraj.sk
SUMMARY:ŠKÓTSKA HRA - Divadlo Aréna
DESCRIPTION:Macbeth je najkratšou Shakespearovou tragédiou\, ale po obsahovej stránke prekypuje. Lady Macbeth túži po moci a rovnako tak jej manžel; spolu zosnujú vraždu\, aby sa Macbeth vypracoval až na samotný vrchol. Zlo\, ktoré v nich oboch driemalo\, vychádza na povrch a vytiahne ich k vytúženému cieľu. Avšak krv z ich rúk sa nedá zmyť a ani oni sa neudržia na svojom poste večne. Voľná adaptácia tohto diela sa koncentruje na postavy manželov Macbetha (Mac) a Lady Macbeth (Beth). \nAutor a režisér Roman Polák sa ponára do temnoty v človeku a stavia túto nadčasovú drámu do medzičasia: dej sa odohráva aj v historickom\, aj v súčasnom Škótsku. \nOzubené kolieska osudu sa točia a s nimi aj diktátori na čele režimov – kto bude ten ďalší? Dokáže moc nezmeniť človeka? Alebo práve moc odhalí jeho skutočnú tvár? Dá sa z tohto kolosu vymaniť? \nHrajú: Róbert SIPOS\, Alena PAJTINKOVÁ\, Michal NOGA | Réžia: Roman POLÁK \nInscenáciu hráme v štúdiu LOFT v Divadle Aréna. \nVstupenky si môžete zakúpiť online prostredníctvom stránky www.divadloarena.sk\, alebo osobne počas otváracích hodín pokladne Divadla Aréna na Viedenskej ceste 10 v Bratislave.
URL:https://bratislavskykraj.sk/podujatie/skotska-hra-divadlo-arena-7/
LOCATION:Divadlo Aréna\, Viedenská cesta 10\, Bratislava\, 85101
CATEGORIES:Divadlo
ATTACH;FMTTYPE=image/jpeg:https://bratislavskykraj.sk/wp-content/uploads/2025/02/skotska-hra-da.jpg
ORGANIZER;CN="Divadlo Ar%C3%A9na":MAILTO:pokladna@divadloarena.sk
END:VEVENT
BEGIN:VEVENT
DTSTART;TZID=Europe/Bratislava:20250921T190000
DTEND;TZID=Europe/Bratislava:20250921T190000
DTSTAMP:20260421T151920
CREATED:20250704T084559Z
LAST-MODIFIED:20250704T084559Z
UID:163391-1758481200-1758481200@bratislavskykraj.sk
SUMMARY:ŠKÓTSKA HRA - Divadlo Aréna
DESCRIPTION:Macbeth je najkratšou Shakespearovou tragédiou\, ale po obsahovej stránke prekypuje. Lady Macbeth túži po moci a rovnako tak jej manžel; spolu zosnujú vraždu\, aby sa Macbeth vypracoval až na samotný vrchol. Zlo\, ktoré v nich oboch driemalo\, vychádza na povrch a vytiahne ich k vytúženému cieľu. Avšak krv z ich rúk sa nedá zmyť a ani oni sa neudržia na svojom poste večne. Voľná adaptácia tohto diela sa koncentruje na postavy manželov Macbetha (Mac) a Lady Macbeth (Beth). \nAutor a režisér Roman Polák sa ponára do temnoty v človeku a stavia túto nadčasovú drámu do medzičasia: dej sa odohráva aj v historickom\, aj v súčasnom Škótsku. \nOzubené kolieska osudu sa točia a s nimi aj diktátori na čele režimov – kto bude ten ďalší? Dokáže moc nezmeniť človeka? Alebo práve moc odhalí jeho skutočnú tvár? Dá sa z tohto kolosu vymaniť? \nHrajú: Róbert SIPOS\, Alena PAJTINKOVÁ\, Michal NOGA | Réžia: Roman POLÁK \nInscenáciu hráme v štúdiu LOFT v Divadle Aréna. \nVstupenky si môžete zakúpiť online prostredníctvom stránky www.divadloarena.sk\, alebo osobne počas otváracích hodín pokladne Divadla Aréna na Viedenskej ceste 10 v Bratislave.
URL:https://bratislavskykraj.sk/podujatie/skotska-hra-divadlo-arena-6/
LOCATION:Divadlo Aréna\, Viedenská cesta 10\, Bratislava\, 85101
CATEGORIES:Divadlo,Predstavenie
ATTACH;FMTTYPE=image/jpeg:https://bratislavskykraj.sk/wp-content/uploads/2025/02/skotska-hra-da.jpg
ORGANIZER;CN="Divadlo Ar%C3%A9na":MAILTO:pokladna@divadloarena.sk
END:VEVENT
BEGIN:VEVENT
DTSTART;TZID=Europe/Bratislava:20250624T190000
DTEND;TZID=Europe/Bratislava:20250624T190000
DTSTAMP:20260421T151920
CREATED:20250519T132702Z
LAST-MODIFIED:20250519T132702Z
UID:161025-1750791600-1750791600@bratislavskykraj.sk
SUMMARY:ŠKÓTSKA HRA - Divadlo Aréna
DESCRIPTION:Macbeth je najkratšou Shakespearovou tragédiou\, ale po obsahovej stránke prekypuje. Lady Macbeth túži po moci a rovnako tak jej manžel; spolu zosnujú vraždu\, aby sa Macbeth vypracoval až na samotný vrchol. Zlo\, ktoré v nich oboch driemalo\, vychádza na povrch a vytiahne ich k vytúženému cieľu. Avšak krv z ich rúk sa nedá zmyť a ani oni sa neudržia na svojom poste večne. Voľná adaptácia tohto diela sa koncentruje na postavy manželov Macbetha (Mac) a Lady Macbeth (Beth). \nAutor a režisér Roman Polák sa ponára do temnoty v človeku a stavia túto nadčasovú drámu do medzičasia: dej sa odohráva aj v historickom\, aj v súčasnom Škótsku. \nOzubené kolieska osudu sa točia a s nimi aj diktátori na čele režimov – kto bude ten ďalší? Dokáže moc nezmeniť človeka? Alebo práve moc odhalí jeho skutočnú tvár? Dá sa z tohto kolosu vymaniť? \nHrajú: Róbert SIPOS\, Alena PAJTINKOVÁ\, Michal NOGA | Réžia: Roman POLÁK \nInscenáciu hráme v štúdiu LOFT v Divadle Aréna. \nVstupenky si môžete zakúpiť online prostredníctvom stránky www.divadloarena.sk\, alebo osobne počas otváracích hodín pokladne Divadla Aréna na Viedenskej ceste 10 v Bratislave.
URL:https://bratislavskykraj.sk/podujatie/skotska-hra-divadlo-arena-5/
LOCATION:Divadlo Aréna\, Viedenská cesta 10\, Bratislava\, 85101
CATEGORIES:Divadlo,Predstavenie
ATTACH;FMTTYPE=image/jpeg:https://bratislavskykraj.sk/wp-content/uploads/2025/02/skotska-hra-da.jpg
ORGANIZER;CN="Divadlo Ar%C3%A9na":MAILTO:pokladna@divadloarena.sk
END:VEVENT
BEGIN:VEVENT
DTSTART;TZID=Europe/Bratislava:20250603T190000
DTEND;TZID=Europe/Bratislava:20250603T190000
DTSTAMP:20260421T151920
CREATED:20250519T113834Z
LAST-MODIFIED:20250519T113834Z
UID:160984-1748977200-1748977200@bratislavskykraj.sk
SUMMARY:OSTROV MŔTVYCH - Divadlo Aréna
DESCRIPTION:Dva príbehy. Jeden sa odohrá na hrade v Cranbury a druhý zas neďaleko L.A. Oba sú však strašidelné. Takže horor vo výhodnom dvojbalení. \nMia netuší prečo\, ale cíti\, že čoskoro niekto umrie. Tajomná postava sa zakráda tieňmi vo filmovom štúdiu. Nemala sem chodiť\, a už vôbec nie takto neskoro. Pevnejšie sa chytí zábradlia\, nervózne sa obzrie a rukou siahne do vrecka. \nIlúzia už dávno prestala byť zábavnou a všetkých postupne prechádza smiech. Čosi je inak. Naivná vášeň\, ktorá všetkých na toto miesto priviedla\, akoby sa postupne otrávila\, zmutovala a stala sa tichou\, vražednou beštiou. Cítila\, že smrť vyčkáva kdesi za rohom. \nPríbeh za príbehom. Príbeh o príbehu. Príbeh na príbehu. Príbeh pod príbehom. Dva príbehy. Jeden sa odohrá na hrade v Cranbury a druhý zas neďaleko L.A. Oba sú však strašidelné. \nTakže horor vo výhodnom dvojbalení. 1+1 zdarma. \nInscenácia vznikla v rámci spolupráce Divadla Aréna s VŠMU. \nHrajú: Anna Magdaléna HROBOŇOVÁ\, Filip PAVUK\, Kristína KOBLIŠKOVÁ\, Adam HILEK\, Márk MEZÖSZÁLLÁSI\, Marek LUPTÁK | Autor: Ivana KOVÁČIKOVÁ | Réžia: Matej TRNOVEC \nVstupenky si môžete zakúpiť online prostredníctvom stránky www.divadloarena.sk\, alebo osobne počas otváracích hodín pokladne Divadla Aréna na Viedenskej ceste 10 v Bratislave.
URL:https://bratislavskykraj.sk/podujatie/ostrov-mrtvych-divadlo-arena-3/
LOCATION:Divadlo Aréna\, Viedenská cesta 10\, Bratislava\, 85101
CATEGORIES:Divadlo,Predstavenie
ATTACH;FMTTYPE=image/jpeg:https://bratislavskykraj.sk/wp-content/uploads/2025/04/ostrov-mrtvych-da.jpg
ORGANIZER;CN="Divadlo Ar%C3%A9na":MAILTO:pokladna@divadloarena.sk
END:VEVENT
BEGIN:VEVENT
DTSTART;TZID=Europe/Bratislava:20250528T190000
DTEND;TZID=Europe/Bratislava:20250528T190000
DTSTAMP:20260421T151920
CREATED:20250424T075533Z
LAST-MODIFIED:20250519T113832Z
UID:159593-1748458800-1748458800@bratislavskykraj.sk
SUMMARY:OSTROV MŔTVYCH - Divadlo Aréna
DESCRIPTION:Dva príbehy. Jeden sa odohrá na hrade v Cranbury a druhý zas neďaleko L.A. Oba sú však strašidelné. Takže horor vo výhodnom dvojbalení. \nMia netuší prečo\, ale cíti\, že čoskoro niekto umrie. Tajomná postava sa zakráda tieňmi vo filmovom štúdiu. Nemala sem chodiť\, a už vôbec nie takto neskoro. Pevnejšie sa chytí zábradlia\, nervózne sa obzrie a rukou siahne do vrecka. \nIlúzia už dávno prestala byť zábavnou a všetkých postupne prechádza smiech. Čosi je inak. Naivná vášeň\, ktorá všetkých na toto miesto priviedla\, akoby sa postupne otrávila\, zmutovala a stala sa tichou\, vražednou beštiou. Cítila\, že smrť vyčkáva kdesi za rohom. \nPríbeh za príbehom. Príbeh o príbehu. Príbeh na príbehu. Príbeh pod príbehom. Dva príbehy. Jeden sa odohrá na hrade v Cranbury a druhý zas neďaleko L.A. Oba sú však strašidelné. \nTakže horor vo výhodnom dvojbalení. 1+1 zdarma. \nInscenácia vznikla v rámci spolupráce Divadla Aréna s VŠMU. \nHrajú: Anna Magdaléna HROBOŇOVÁ\, Filip PAVUK\, Kristína KOBLIŠKOVÁ\, Adam HILEK\, Márk MEZÖSZÁLLÁSI\, Marek LUPTÁK | Autor: Ivana KOVÁČIKOVÁ | Réžia: Matej TRNOVEC \nVstupenky si môžete zakúpiť online prostredníctvom stránky www.divadloarena.sk\, alebo osobne počas otváracích hodín pokladne Divadla Aréna na Viedenskej ceste 10 v Bratislave.
URL:https://bratislavskykraj.sk/podujatie/ostrov-mrtvych-divadlo-arena-2/
LOCATION:Divadlo Aréna\, Viedenská cesta 10\, Bratislava\, 85101
CATEGORIES:Divadlo,Predstavenie
ATTACH;FMTTYPE=image/jpeg:https://bratislavskykraj.sk/wp-content/uploads/2025/04/ostrov-mrtvych-da.jpg
ORGANIZER;CN="Divadlo Ar%C3%A9na":MAILTO:pokladna@divadloarena.sk
END:VEVENT
BEGIN:VEVENT
DTSTART;TZID=Europe/Bratislava:20250526T190000
DTEND;TZID=Europe/Bratislava:20250526T190000
DTSTAMP:20260421T151920
CREATED:20250422T124515Z
LAST-MODIFIED:20250422T124515Z
UID:159465-1748286000-1748286000@bratislavskykraj.sk
SUMMARY:ŠKÓTSKA HRA - Divadlo Aréna
DESCRIPTION:Macbeth je najkratšou Shakespearovou tragédiou\, ale po obsahovej stránke prekypuje. Lady Macbeth túži po moci a rovnako tak jej manžel; spolu zosnujú vraždu\, aby sa Macbeth vypracoval až na samotný vrchol. Zlo\, ktoré v nich oboch driemalo\, vychádza na povrch a vytiahne ich k vytúženému cieľu. Avšak krv z ich rúk sa nedá zmyť a ani oni sa neudržia na svojom poste večne. Voľná adaptácia tohto diela sa koncentruje na postavy manželov Macbetha (Mac) a Lady Macbeth (Beth). \nAutor a režisér Roman Polák sa ponára do temnoty v človeku a stavia túto nadčasovú drámu do medzičasia: dej sa odohráva aj v historickom\, aj v súčasnom Škótsku. \nOzubené kolieska osudu sa točia a s nimi aj diktátori na čele režimov – kto bude ten ďalší? Dokáže moc nezmeniť človeka? Alebo práve moc odhalí jeho skutočnú tvár? Dá sa z tohto kolosu vymaniť? \nHrajú: Róbert SIPOS\, Alena PAJTINKOVÁ\, Michal NOGA | Réžia: Roman POLÁK \nInscenáciu hráme v štúdiu LOFT v Divadle Aréna. \nVstupenky si môžete zakúpiť online prostredníctvom stránky www.divadloarena.sk\, alebo osobne počas otváracích hodín pokladne Divadla Aréna na Viedenskej ceste 10 v Bratislave.
URL:https://bratislavskykraj.sk/podujatie/skotska-hra-divadlo-arena-4/
LOCATION:Divadlo Aréna\, Viedenská cesta 10\, Bratislava\, 85101
CATEGORIES:Divadlo,Predstavenie
ATTACH;FMTTYPE=image/jpeg:https://bratislavskykraj.sk/wp-content/uploads/2025/02/skotska-hra-da.jpg
ORGANIZER;CN="Divadlo Ar%C3%A9na":MAILTO:pokladna@divadloarena.sk
END:VEVENT
BEGIN:VEVENT
DTSTART;TZID=Europe/Bratislava:20250429T190000
DTEND;TZID=Europe/Bratislava:20250429T190000
DTSTAMP:20260421T151920
CREATED:20250423T104121Z
LAST-MODIFIED:20250424T075234Z
UID:159548-1745953200-1745953200@bratislavskykraj.sk
SUMMARY:OSTROV MŔTVYCH - Divadlo Aréna (premiéra)
DESCRIPTION:Dva príbehy. Jeden sa odohrá na hrade v Cranbury a druhý zas neďaleko L.A. Oba sú však strašidelné. Takže horor vo výhodnom dvojbalení. \nMia netuší prečo\, ale cíti\, že čoskoro niekto umrie. Tajomná postava sa zakráda tieňmi vo filmovom štúdiu. Nemala sem chodiť\, a už vôbec nie takto neskoro. Pevnejšie sa chytí zábradlia\, nervózne sa obzrie a rukou siahne do vrecka. \nIlúzia už dávno prestala byť zábavnou a všetkých postupne prechádza smiech. Čosi je inak. Naivná vášeň\, ktorá všetkých na toto miesto priviedla\, akoby sa postupne otrávila\, zmutovala a stala sa tichou\, vražednou beštiou. Cítila\, že smrť vyčkáva kdesi za rohom. \nPríbeh za príbehom. Príbeh o príbehu. Príbeh na príbehu. Príbeh pod príbehom. Dva príbehy. Jeden sa odohrá na hrade v Cranbury a druhý zas neďaleko L.A. Oba sú však strašidelné. \nTakže horor vo výhodnom dvojbalení. 1+1 zdarma. \nInscenácia vznikla v rámci spolupráce Divadla Aréna s VŠMU. \nHrajú: Anna Magdaléna HROBOŇOVÁ\, Filip PAVUK\, Kristína KOBLIŠKOVÁ\, Adam HILEK\, Márk MEZÖSZÁLLÁSI\, Marek LUPTÁK | Autor: Ivana KOVÁČIKOVÁ | Réžia: Matej TRNOVEC \nVstupenky si môžete zakúpiť online prostredníctvom stránky www.divadloarena.sk\, alebo osobne počas otváracích hodín pokladne Divadla Aréna na Viedenskej ceste 10 v Bratislave.
URL:https://bratislavskykraj.sk/podujatie/ostrov-mrtvych-divadlo-arena/
LOCATION:Divadlo Aréna\, Viedenská cesta 10\, Bratislava\, 85101
CATEGORIES:Divadlo,Predstavenie
ATTACH;FMTTYPE=image/jpeg:https://bratislavskykraj.sk/wp-content/uploads/2025/04/ostrov-mrtvych-da.jpg
ORGANIZER;CN="Divadlo Ar%C3%A9na":MAILTO:pokladna@divadloarena.sk
END:VEVENT
BEGIN:VEVENT
DTSTART;TZID=Europe/Bratislava:20250424T190000
DTEND;TZID=Europe/Bratislava:20250424T190000
DTSTAMP:20260421T151920
CREATED:20250317T084222Z
LAST-MODIFIED:20250317T084222Z
UID:157697-1745521200-1745521200@bratislavskykraj.sk
SUMMARY:ŠKÓTSKA HRA - Divadlo Aréna
DESCRIPTION:Macbeth je najkratšou Shakespearovou tragédiou\, ale po obsahovej stránke prekypuje. Lady Macbeth túži po moci a rovnako tak jej manžel; spolu zosnujú vraždu\, aby sa Macbeth vypracoval až na samotný vrchol. Zlo\, ktoré v nich oboch driemalo\, vychádza na povrch a vytiahne ich k vytúženému cieľu. Avšak krv z ich rúk sa nedá zmyť a ani oni sa neudržia na svojom poste večne. Voľná adaptácia tohto diela sa koncentruje na postavy manželov Macbetha (Mac) a Lady Macbeth (Beth). \nAutor a režisér Roman Polák sa ponára do temnoty v človeku a stavia túto nadčasovú drámu do medzičasia: dej sa odohráva aj v historickom\, aj v súčasnom Škótsku. \nOzubené kolieska osudu sa točia a s nimi aj diktátori na čele režimov – kto bude ten ďalší? Dokáže moc nezmeniť človeka? Alebo práve moc odhalí jeho skutočnú tvár? Dá sa z tohto kolosu vymaniť? \nHrajú: Róbert SIPOS\, Alena PAJTINKOVÁ\, Michal NOGA | Réžia: Roman POLÁK \nInscenáciu hráme v štúdiu LOFT v Divadle Aréna. \nVstupenky si môžete zakúpiť online prostredníctvom stránky www.divadloarena.sk\, alebo osobne počas otváracích hodín pokladne Divadla Aréna na Viedenskej ceste 10 v Bratislave.
URL:https://bratislavskykraj.sk/podujatie/skotska-hra-divadlo-arena-3/
LOCATION:Divadlo Aréna\, Viedenská cesta 10\, Bratislava\, 85101
CATEGORIES:Divadlo,Predstavenie
ATTACH;FMTTYPE=image/jpeg:https://bratislavskykraj.sk/wp-content/uploads/2025/02/skotska-hra-da.jpg
ORGANIZER;CN="Divadlo Ar%C3%A9na":MAILTO:pokladna@divadloarena.sk
END:VEVENT
BEGIN:VEVENT
DTSTART;TZID=Europe/Bratislava:20250405T190000
DTEND;TZID=Europe/Bratislava:20250405T190000
DTSTAMP:20260421T151920
CREATED:20250313T120254Z
LAST-MODIFIED:20250313T120254Z
UID:157543-1743879600-1743879600@bratislavskykraj.sk
SUMMARY:ŠKÓTSKA HRA - Divadlo Aréna
DESCRIPTION:Macbeth je najkratšou Shakespearovou tragédiou\, ale po obsahovej stránke prekypuje. Lady Macbeth túži po moci a rovnako tak jej manžel; spolu zosnujú vraždu\, aby sa Macbeth vypracoval až na samotný vrchol. Zlo\, ktoré v nich oboch driemalo\, vychádza na povrch a vytiahne ich k vytúženému cieľu. Avšak krv z ich rúk sa nedá zmyť a ani oni sa neudržia na svojom poste večne. Voľná adaptácia tohto diela sa koncentruje na postavy manželov Macbetha (Mac) a Lady Macbeth (Beth). \nAutor a režisér Roman Polák sa ponára do temnoty v človeku a stavia túto nadčasovú drámu do medzičasia: dej sa odohráva aj v historickom\, aj v súčasnom Škótsku. \nOzubené kolieska osudu sa točia a s nimi aj diktátori na čele režimov – kto bude ten ďalší? Dokáže moc nezmeniť človeka? Alebo práve moc odhalí jeho skutočnú tvár? Dá sa z tohto kolosu vymaniť? \nHrajú: Róbert SIPOS\, Alena PAJTINKOVÁ\, Michal NOGA | Réžia: Roman POLÁK \nInscenáciu hráme v štúdiu LOFT v Divadle Aréna. \nVstupenky si môžete zakúpiť online prostredníctvom stránky www.divadloarena.sk\, alebo osobne počas otváracích hodín pokladne Divadla Aréna na Viedenskej ceste 10 v Bratislave.
URL:https://bratislavskykraj.sk/podujatie/skotska-hra-divadlo-arena-2/
LOCATION:Divadlo Aréna\, Viedenská cesta 10\, Bratislava\, 85101
CATEGORIES:Divadlo,Predstavenie
ATTACH;FMTTYPE=image/jpeg:https://bratislavskykraj.sk/wp-content/uploads/2025/02/skotska-hra-da.jpg
ORGANIZER;CN="Divadlo Ar%C3%A9na":MAILTO:pokladna@divadloarena.sk
END:VEVENT
BEGIN:VEVENT
DTSTART;TZID=Europe/Bratislava:20250322T190000
DTEND;TZID=Europe/Bratislava:20250322T190000
DTSTAMP:20260421T151920
CREATED:20250224T102014Z
LAST-MODIFIED:20250224T102014Z
UID:156934-1742670000-1742670000@bratislavskykraj.sk
SUMMARY:ŠKÓTSKA HRA - Divadlo Aréna
DESCRIPTION:Macbeth je najkratšou Shakespearovou tragédiou\, ale po obsahovej stránke prekypuje. Lady Macbeth túži po moci a rovnako tak jej manžel; spolu zosnujú vraždu\, aby sa Macbeth vypracoval až na samotný vrchol. Zlo\, ktoré v nich oboch driemalo\, vychádza na povrch a vytiahne ich k vytúženému cieľu. Avšak krv z ich rúk sa nedá zmyť a ani oni sa neudržia na svojom poste večne. Voľná adaptácia tohto diela sa koncentruje na postavy manželov Macbetha (Mac) a Lady Macbeth (Beth). \nAutor a režisér Roman Polák sa ponára do temnoty v človeku a stavia túto nadčasovú drámu do medzičasia: dej sa odohráva aj v historickom\, aj v súčasnom Škótsku. \nOzubené kolieska osudu sa točia a s nimi aj diktátori na čele režimov – kto bude ten ďalší? Dokáže moc nezmeniť človeka? Alebo práve moc odhalí jeho skutočnú tvár? Dá sa z tohto kolosu vymaniť? \nHrajú: Róbert SIPOS\, Alena PAJTINKOVÁ\, Michal NOGA | Réžia: Roman POLÁK \nInscenáciu hráme v štúdiu LOFT v Divadle Aréna. \nVstupenky si môžete zakúpiť online prostredníctvom stránky www.divadloarena.sk\, alebo osobne počas otváracích hodín pokladne Divadla Aréna na Viedenskej ceste 10 v Bratislave.
URL:https://bratislavskykraj.sk/podujatie/skotska-hra-divadlo-arena/
LOCATION:Divadlo Aréna\, Viedenská cesta 10\, Bratislava\, 85101
CATEGORIES:Divadlo,Predstavenie
ATTACH;FMTTYPE=image/jpeg:https://bratislavskykraj.sk/wp-content/uploads/2025/02/skotska-hra-da.jpg
ORGANIZER;CN="Divadlo Ar%C3%A9na":MAILTO:pokladna@divadloarena.sk
END:VEVENT
BEGIN:VEVENT
DTSTART;TZID=Europe/Bratislava:20250321T190000
DTEND;TZID=Europe/Bratislava:20250321T190000
DTSTAMP:20260421T151920
CREATED:20250224T101658Z
LAST-MODIFIED:20250224T101949Z
UID:156930-1742583600-1742583600@bratislavskykraj.sk
SUMMARY:ŠKÓTSKA HRA - Divadlo Aréna (premiéra)
DESCRIPTION:Macbeth je najkratšou Shakespearovou tragédiou\, ale po obsahovej stránke prekypuje. Lady Macbeth túži po moci a rovnako tak jej manžel; spolu zosnujú vraždu\, aby sa Macbeth vypracoval až na samotný vrchol. Zlo\, ktoré v nich oboch driemalo\, vychádza na povrch a vytiahne ich k vytúženému cieľu. Avšak krv z ich rúk sa nedá zmyť a ani oni sa neudržia na svojom poste večne. Voľná adaptácia tohto diela sa koncentruje na postavy manželov Macbetha (Mac) a Lady Macbeth (Beth). \nAutor a režisér Roman Polák sa ponára do temnoty v človeku a stavia túto nadčasovú drámu do medzičasia: dej sa odohráva aj v historickom\, aj v súčasnom Škótsku. \nOzubené kolieska osudu sa točia a s nimi aj diktátori na čele režimov – kto bude ten ďalší? Dokáže moc nezmeniť človeka? Alebo práve moc odhalí jeho skutočnú tvár? Dá sa z tohto kolosu vymaniť? \nHrajú: Róbert SIPOS\, Alena PAJTINKOVÁ\, Michal NOGA | Réžia: Roman POLÁK \nInscenáciu hráme v štúdiu LOFT v Divadle Aréna. \nVstupenky si môžete zakúpiť online prostredníctvom stránky www.divadloarena.sk\, alebo osobne počas otváracích hodín pokladne Divadla Aréna na Viedenskej ceste 10 v Bratislave.
URL:https://bratislavskykraj.sk/podujatie/skotska-hra-divadlo-arena-premiera/
LOCATION:Divadlo Aréna\, Viedenská cesta 10\, Bratislava\, 85101
CATEGORIES:Divadlo,Predstavenie
ATTACH;FMTTYPE=image/jpeg:https://bratislavskykraj.sk/wp-content/uploads/2025/02/skotska-hra-da.jpg
ORGANIZER;CN="Divadlo Ar%C3%A9na":MAILTO:pokladna@divadloarena.sk
END:VEVENT
END:VCALENDAR